OpenTracing-Implementation-DataDog vv0.47.1 Perl 5 v5.34.3 x86_64-linux
- Status
- Pass
- From
- Andreas J. König (ANDK)
- Dist
-
OpenTracing-Implementation-DataDog vv0.47.1
- Platform
- Perl 5 v5.34.3 x86_64-linux
- Date
- 2023-12-31 16:44:42
- ID
- e5939f76-a7fb-11ee-ada0-07b1f90e8b53
This distribution has been tested as part of the CPAN Testers
project, supporting the Perl programming language. See
http://wiki.cpantesters.org/ for more information or email
questions to cpan-testers-discuss@perl.org
--
Dear Theo van Hoesel,
This is a computer-generated report for OpenTracing-Implementation-DataDog-v0.47.1
on perl 5.34.3, created by CPAN-Reporter-1.2019.
Thank you for uploading your work to CPAN. Congratulations!
All tests were successful.
Sections of this report:
* Tester comments
* Program output
* Prerequisites
* Environment and other context
------------------------------
TESTER COMMENTS
------------------------------
Additional comments from tester:
this report is from an automated smoke testing program
and was not reviewed by a human for accuracy
------------------------------
PROGRAM OUTPUT
------------------------------
Output from '/usr/bin/make test':
PERL_DL_NONLAZY=1 "/home/sand/src/perl/repoperls/installed-perls/host/k93msid/v5.34.3/bb7f/bin/perl" "-MExtUtils::Command::MM" "-MTest::Harness" "-e" "undef *Test::Harness::Switches; test_harness(0, 'blib/lib', 'blib/arch')" t/OpenTracing/Implementation/DataDog/*.t t/OpenTracing/Implementation/DataDog/*/*.t
t/OpenTracing/Implementation/DataDog/00_use_ok.t ................................. ok
t/OpenTracing/Implementation/DataDog/10_component.t .............................. ok
t/OpenTracing/Implementation/DataDog/Client/00_use_ok.t .......................... ok
t/OpenTracing/Implementation/DataDog/Client/10_uri.t ............................. ok
t/OpenTracing/Implementation/DataDog/Client/11_to_struct.t ....................... ok
t/OpenTracing/Implementation/DataDog/Client/12_http_post_struct_as_json.t ........ ok
t/OpenTracing/Implementation/DataDog/Client/19_client_halted.t ................... ok
t/OpenTracing/Implementation/DataDog/Client/19_send_span.t ....................... ok
t/OpenTracing/Implementation/DataDog/Scope/00_use_ok.t ........................... ok
t/OpenTracing/Implementation/DataDog/Scope/01_can_all_ok.t ....................... ok
t/OpenTracing/Implementation/DataDog/ScopeManager/01_can_all_ok.t ................ ok
t/OpenTracing/Implementation/DataDog/ScopeManager/09_build_scope.t ............... ok
t/OpenTracing/Implementation/DataDog/ScopeManager/09_build_scope_STRICT.t ........ ok
t/OpenTracing/Implementation/DataDog/ScopeManager/09_build_scope_STRICT_no.t ..... ok
t/OpenTracing/Implementation/DataDog/Span/01_can_all_ok.t ........................ ok
t/OpenTracing/Implementation/DataDog/Span/03_constructor_new.t ................... ok
t/OpenTracing/Implementation/DataDog/SpanContext/00_use_ok.t ..................... ok
t/OpenTracing/Implementation/DataDog/SpanContext/01_can_all_ok.t ................. ok
t/OpenTracing/Implementation/DataDog/SpanContext/01_constructor_new.t ............ ok
t/OpenTracing/Implementation/DataDog/SpanContext/01_constructor_new_STRICT.t ..... ok
t/OpenTracing/Implementation/DataDog/SpanContext/01_constructor_new_STRICT_no.t .. ok
t/OpenTracing/Implementation/DataDog/SpanContext/11_with_environment.t ........... ok
t/OpenTracing/Implementation/DataDog/SpanContext/11_with_hostname.t .............. ok
t/OpenTracing/Implementation/DataDog/SpanContext/11_with_resource_name.t ......... ok
t/OpenTracing/Implementation/DataDog/SpanContext/11_with_service_name.t .......... ok
t/OpenTracing/Implementation/DataDog/SpanContext/11_with_service_type.t .......... ok
t/OpenTracing/Implementation/DataDog/SpanContext/11_with_version.t ............... ok
t/OpenTracing/Implementation/DataDog/Tracer/00_use_ok.t .......................... ok
t/OpenTracing/Implementation/DataDog/Tracer/01_can_all_ok.t ...................... ok
t/OpenTracing/Implementation/DataDog/Tracer/09_build_context.t ................... ok
t/OpenTracing/Implementation/DataDog/Tracer/09_build_span.t ...................... ok
t/OpenTracing/Implementation/DataDog/Tracer/11_extract_context.t ................. ok
t/OpenTracing/Implementation/DataDog/Tracer/12_inject_context.t .................. ok
All tests successful.
Files=33, Tests=61, 17 wallclock secs ( 0.09 usr 0.05 sys + 11.26 cusr 1.84 csys = 13.24 CPU)
Result: PASS
------------------------------
PREREQUISITES
------------------------------
Prerequisite modules loaded:
requires:
Module Need Have
----------------------------- ------- ----------
aliased 0 0.34
Carp 0 1.52
Exporter 0 5.76
Hash::Merge 0 0.302
HTTP::Request 0 6.45
HTTP::Response::Maker 0 0.02
JSON::MaybeXS 0 1.004005
LWP::UserAgent 0 6.72
Math::BigInt::Random::OO 0 0.05
Moo 0 2.005005
Moo::Role 0 2.005005
MooX::Attribute::ENV 0.04 0.04
MooX::Enumeration 0 0.010
MooX::ProtectedAttributes 0 0.03
MooX::Should v0.1.4 v0.1.4
OpenTracing::Implementation 0.03 v0.33.2
OpenTracing::Role v0.86.0 v0.86.1
PerlX::Maybe 0 1.202
Ref::Util 0 0.204
Regexp::Common 0 2017060201
Regexp::Common::URI::http 0 2017060201
Sub::HandlesVia 0 0.050000
Sub::Trigger::Lock 0 0.002
syntax 0 0.004
Syntax::Feature::Maybe 0 1.202
Try::Tiny 0 0.31
Type::Tiny::XS 0 0.025
Types::Common::Numeric 0 2.004000
Types::Common::String 0 2.004000
Types::Interface 0 0.002
Types::Standard 0 2.004000
build_requires:
Module Need Have
----------------------------- ------- ----------
ExtUtils::MakeMaker 0 7.70
Ref::Util 0 0.204
Test::JSON 0 0.11
Test::MockModule 0 0.177.0
Test::Most 0 0.38
Test::OpenTracing::Interface 0 v0.23.1
Test::URI 0 1.084
configure_requires:
Module Need Have
----------------------------- ------- ----------
ExtUtils::MakeMaker::CPANfile 0.09 0.09
------------------------------
ENVIRONMENT AND OTHER CONTEXT
------------------------------
Environment variables:
AUTOMATED_TESTING = 1
LANG = en_US.UTF-8
LANGUAGE = en_US:en
PATH = /home/sand/bin:/usr/local/bin:/usr/bin:/bin:/usr/games:/usr/local/perl/bin:/usr/X11/bin:/sbin:/usr/sbin
PERL5LIB =
PERL5OPT =
PERL5_CPANPLUS_IS_RUNNING = 1575979
PERL5_CPAN_IS_RUNNING = 1575979
PERL_CANARY_STABILITY_NOPROMPT = 1
PERL_MM_USE_DEFAULT = 1
PERL_USE_UNSAFE_INC = 1
SHELL = /usr/bin/zsh
TERM = screen
Perl special variables (and OS-specific diagnostics, for MSWin32):
$^X = /home/sand/src/perl/repoperls/installed-perls/host/k93msid/v5.34.3/bb7f/bin/perl
$UID/$EUID = 1005 / 1005
$GID = 1005 1005
$EGID = 1005 1005
Perl module toolchain versions installed:
Module Have
------------------- --------
CPAN 2.36
CPAN::Meta 2.150010
Cwd 3.80
ExtUtils::CBuilder 0.280236
ExtUtils::Command 7.70
ExtUtils::Install 2.20
ExtUtils::MakeMaker 7.70
ExtUtils::Manifest 1.73
ExtUtils::ParseXS 3.43
File::Spec 3.80
JSON 4.10
JSON::PP 4.16
Module::Build 0.4234
Module::Signature 0.88
Parse::CPAN::Meta 2.150010
Test2 1.302197
Test::Harness 3.48
Test::More 1.302197
YAML 1.30
YAML::Syck 1.34
version 0.9930
--
Summary of my perl5 (revision 5 version 34 subversion 3) configuration:
Commit id: 81db88e83a981f603c5207a1fc4cc41da8dd5d79
Platform:
osname=linux
osvers=6.5.0-4-amd64
archname=x86_64-linux
uname='linux k93msid 6.5.0-4-amd64 #1 smp preempt_dynamic debian 6.5.10-1 (2023-11-03) x86_64 gnulinux '
config_args='-Dprefix=/home/sand/src/perl/repoperls/installed-perls/host/k93msid/v5.34.3/bb7f -Dmyhostname=k93msid -Dinstallusrbinperl=n -Uversiononly -Dusedevel -des -Ui_db -Dlibswanted=cl pthread socket inet nsl gdbm dbm malloc dl ld sun m crypt sec util c cposix posix ucb BSD gdbm_compat -Uuseithreads -Uuselongdouble -DEBUGGING=both'
hint=recommended
useposix=true
d_sigaction=define
useithreads=undef
usemultiplicity=undef
use64bitint=define
use64bitall=define
uselongdouble=undef
usemymalloc=n
default_inc_excludes_dot=define
Compiler:
cc='cc'
ccflags ='-fwrapv -DDEBUGGING -fno-strict-aliasing -pipe -fstack-protector-strong -I/usr/local/include -D_LARGEFILE_SOURCE -D_FILE_OFFSET_BITS=64 -D_FORTIFY_SOURCE=2'
optimize='-O2 -g'
cppflags='-fwrapv -DDEBUGGING -fno-strict-aliasing -pipe -fstack-protector-strong -I/usr/local/include'
ccversion=''
gccversion='13.2.0'
gccosandvers=''
intsize=4
longsize=8
ptrsize=8
doublesize=8
byteorder=12345678
doublekind=3
d_longlong=define
longlongsize=8
d_longdbl=define
longdblsize=16
longdblkind=3
ivtype='long'
ivsize=8
nvtype='double'
nvsize=8
Off_t='off_t'
lseeksize=8
alignbytes=8
prototype=define
Linker and Libraries:
ld='cc'
ldflags =' -fstack-protector-strong -L/usr/local/lib'
libpth=/usr/local/lib /usr/lib/x86_64-linux-gnu /usr/lib /usr/lib64
libs=-lpthread -lnsl -ldl -lm -lcrypt -lutil -lc
perllibs=-lpthread -lnsl -ldl -lm -lcrypt -lutil -lc
libc=/lib/x86_64-linux-gnu/libc.so.6
so=so
useshrplib=false
libperl=libperl.a
gnulibc_version='2.37'
Dynamic Linking:
dlsrc=dl_dlopen.xs
dlext=so
d_dlsymun=undef
ccdlflags='-Wl,-E'
cccdlflags='-fPIC'
lddlflags='-shared -O2 -g -L/usr/local/lib -fstack-protector-strong'
Characteristics of this binary (from libperl):
Compile-time options:
DEBUGGING
HAS_TIMES
PERLIO_LAYERS
PERL_COPY_ON_WRITE
PERL_DONT_CREATE_GVSV
PERL_MALLOC_WRAP
PERL_OP_PARENT
PERL_PRESERVE_IVUV
PERL_USE_DEVEL
USE_64_BIT_ALL
USE_64_BIT_INT
USE_LARGE_FILES
USE_LOCALE
USE_LOCALE_COLLATE
USE_LOCALE_CTYPE
USE_LOCALE_NUMERIC
USE_LOCALE_TIME
USE_PERLIO
USE_PERL_ATOF
Built under linux
Compiled at Nov 30 2023 11:58:07
%ENV:
PERL5LIB=""
PERL5OPT=""
PERL5_CPANPLUS_IS_RUNNING="1575979"
PERL5_CPAN_IS_RUNNING="1575979"
PERL_CANARY_STABILITY_NOPROMPT="1"
PERL_MM_USE_DEFAULT="1"
PERL_USE_UNSAFE_INC="1"
@INC:
/home/sand/src/perl/repoperls/installed-perls/host/k93msid/v5.34.3/bb7f/lib/site_perl/5.34.3/x86_64-linux
/home/sand/src/perl/repoperls/installed-perls/host/k93msid/v5.34.3/bb7f/lib/site_perl/5.34.3
/home/sand/src/perl/repoperls/installed-perls/host/k93msid/v5.34.3/bb7f/lib/5.34.3/x86_64-linux
/home/sand/src/perl/repoperls/installed-perls/host/k93msid/v5.34.3/bb7f/lib/5.34.3
.