DBIx-FileStore v0.33 Perl 5 v5.24.3 x86_64-linux-ld

Status
Pass
From
Nigel Horne
Dist
DBIx-FileStore v0.33
Platform
Perl 5 v5.24.3 x86_64-linux-ld
Date
2017-12-22 15:29:27
ID
e5915536-e72c-11e7-b8bd-809199b835e7
This distribution has been tested as part of the CPAN Testers
project, supporting the Perl programming language.  See
http://wiki.cpantesters.org/ for more information or email
questions to cpan-testers-discuss@perl.org


--
Dear Josh Rabinowitz,

This is a computer-generated report for DBIx-FileStore-0.33
on perl 5.24.3, created by CPAN-Reporter-1.2018.

Thank you for uploading your work to CPAN.  Congratulations!
All tests were successful.

Sections of this report:

    * Tester comments
    * Program output
    * Prerequisites
    * Environment and other context

------------------------------
TESTER COMMENTS
------------------------------

Additional comments from tester:

this report is from an automated smoke testing program
and was not reviewed by a human for accuracy

------------------------------
PROGRAM OUTPUT
------------------------------

Output from '/usr/bin/make test':

PERL_DL_NONLAZY=1 "/home/njh/perl5/perlbrew/perls/perl-5.24.3-ld/bin/perl5.24.3" "-MExtUtils::Command::MM" "-MTest::Harness" "-e" "undef *Test::Harness::Switches; test_harness(0, 'blib/lib', 'blib/arch')" t/*.t
t/author-critic.t ........ skipped: these tests are for testing by the author
t/author-pod-coverage.t .. skipped: these tests are for testing by the author
t/author-pod-syntax.t .... skipped: these tests are for testing by the author
t/actualtest.t ........... skipped: Author tests not required for installation, use env var RELEASE_TESTING to enable
t/boilerplate.t .......... ok
t/manifest.t ............. skipped: Author tests not required for installation
# Testing DBIx::FileStore 0.33, Perl 5.024003, /home/njh/perl5/perlbrew/perls/perl-5.24.3-ld/bin/perl5.24.3
t/00-load.t .............. ok
t/exes.t ................. skipped: Author tests not required for installation
t/versions.t ............. ok
t/pod.t .................. ok
t/pod-coverage.t ......... ok
All tests successful.
Files=11, Tests=25,  0 wallclock secs ( 0.03 usr  0.00 sys +  0.41 cusr  0.13 csys =  0.57 CPU)
Result: PASS

------------------------------
PREREQUISITES
------------------------------

Prerequisite modules loaded:

requires:

    Module                Need Have    
    --------------------- ---- --------
    Config::Tiny          0    2.23    
    DBI                   0    1.637   
    Digest::MD5           0    2.54    
    File::Copy            0    2.31    
    File::Slurp           0    9999.19 
    File::Spec::Functions 0    3.63_01 
    File::Temp            0    0.2304  
    List::Util            0    1.49    
    Mouse                 0    v2.5.0  
    Test::More            0    1.302103

build_requires:

    Module                Need Have    
    --------------------- ---- --------
    ExtUtils::MakeMaker   0    7.30    

configure_requires:

    Module                Need Have    
    --------------------- ---- --------
    ExtUtils::MakeMaker   0    7.30    


------------------------------
ENVIRONMENT AND OTHER CONTEXT
------------------------------

Environment variables:

    AUTOMATED_TESTING = 1
    HARNESS_OPTIONS = j10
    LANG = en_GB.UTF-8
    PATH = /home/njh/perl5/perlbrew/bin:/home/njh/perl5/perlbrew/perls/perl-5.24.3-ld/bin:/usr/bin:/bin:src/njh/smoker/bin
    PERL5LIB = /tmp/build/Mouse-v2.5.0-41/blib/arch:/tmp/build/Mouse-v2.5.0-41/blib/lib:/tmp/build/Test-Output-1.031-4/blib/arch:/tmp/build/Test-Output-1.031-4/blib/lib:/tmp/build/Test-LeakTrace-0.16-7/blib/arch:/tmp/build/Test-LeakTrace-0.16-7/blib/lib:/tmp/build/Module-Build-XSUtil-0.18-41/blib/arch:/tmp/build/Module-Build-XSUtil-0.18-41/blib/lib:/tmp/build/Devel-CheckCompiler-0.07-37/blib/arch:/tmp/build/Devel-CheckCompiler-0.07-37/blib/lib:/tmp/build/Cwd-Guard-0.05-37/blib/arch:/tmp/build/Cwd-Guard-0.05-37/blib/lib:/tmp/build/Devel-PPPort-3.36-30/blib/arch:/tmp/build/Devel-PPPort-3.36-30/blib/lib
    PERL5OPT = 
    PERL5_CPANPLUS_IS_RUNNING = 32230
    PERL5_CPAN_IS_RUNNING = 32230
    PERLBREW_BASHRC_VERSION = 0.80
    PERLBREW_HOME = /home/njh/.perlbrew
    PERLBREW_MANPATH = /home/njh/perl5/perlbrew/perls/perl-5.24.3-ld/man
    PERLBREW_PATH = /home/njh/perl5/perlbrew/bin:/home/njh/perl5/perlbrew/perls/perl-5.24.3-ld/bin
    PERLBREW_PERL = perl-5.24.3-ld
    PERLBREW_ROOT = /home/njh/perl5/perlbrew
    PERLBREW_VERSION = 0.80
    SHELL = /bin/sh

Perl special variables (and OS-specific diagnostics, for MSWin32):

    $^X = /home/njh/perl5/perlbrew/perls/perl-5.24.3-ld/bin/perl5.24.3
    $UID/$EUID = 1000 / 1000
    $GID = 1000 4 24 25 29 30 44 46 107 112 118 1000
    $EGID = 1000 4 24 25 29 30 44 46 107 112 118 1000

Perl module toolchain versions installed:

    Module              Have      
    ------------------- ----------
    CPAN                2.16      
    CPAN::Meta          2.150005  
    Cwd                 3.63_01   
    ExtUtils::CBuilder  0.280225  
    ExtUtils::Command   7.30      
    ExtUtils::Install   2.06      
    ExtUtils::MakeMaker 7.30      
    ExtUtils::Manifest  1.70      
    ExtUtils::ParseXS   3.31      
    File::Spec          3.63_01   
    JSON                2.94      
    JSON::PP            2.27300_01
    Module::Build       0.4224    
    Module::Signature   n/a       
    Parse::CPAN::Meta   1.4417_001
    Test::Harness       3.36_01   
    Test::More          1.302103  
    YAML                1.24      
    YAML::Syck          1.30      
    version             0.9916    


--

Summary of my perl5 (revision 5 version 24 subversion 3) configuration:
   
  Platform:
    osname=linux, osvers=4.12.0-2-amd64, archname=x86_64-linux-ld
    uname='linux microcenter 4.12.0-2-amd64 #1 smp debian 4.12.13-1 (2017-09-19) x86_64 gnulinux '
    config_args='-de -Dprefix=/home/njh/perl5/perlbrew/perls/perl-5.24.3-ld -Dusedevel -Duselongdouble -Accflags= -Aeval:scriptdir=/home/njh/perl5/perlbrew/perls/perl-5.24.3-ld/bin'
    hint=recommended, useposix=true, d_sigaction=define
    useithreads=undef, usemultiplicity=undef
    use64bitint=define, use64bitall=define, uselongdouble=define
    usemymalloc=n, bincompat5005=undef
  Compiler:
    cc='cc', ccflags ='-fwrapv -fno-strict-aliasing -pipe -fstack-protector-strong -I/usr/local/include -D_LARGEFILE_SOURCE -D_FILE_OFFSET_BITS=64 -D_FORTIFY_SOURCE=2',
    optimize='-O2',
    cppflags='-fwrapv -fno-strict-aliasing -pipe -fstack-protector-strong -I/usr/local/include'
    ccversion='', gccversion='7.2.0', gccosandvers=''
    intsize=4, longsize=8, ptrsize=8, doublesize=8, byteorder=12345678, doublekind=3
    d_longlong=define, longlongsize=8, d_longdbl=define, longdblsize=16, longdblkind=3
    ivtype='long', ivsize=8, nvtype='long double', nvsize=16, Off_t='off_t', lseeksize=8
    alignbytes=16, prototype=define
  Linker and Libraries:
    ld='cc', ldflags =' -fstack-protector-strong -L/usr/local/lib'
    libpth=/usr/local/lib /usr/lib/gcc/x86_64-linux-gnu/7/include-fixed /usr/include/x86_64-linux-gnu /usr/lib /lib/x86_64-linux-gnu /lib/../lib /usr/lib/x86_64-linux-gnu /usr/lib/../lib /lib
    libs=-lpthread -lnsl -lgdbm -ldb -ldl -lm -lcrypt -lutil -lc -lgdbm_compat
    perllibs=-lpthread -lnsl -ldl -lm -lcrypt -lutil -lc
    libc=libc-2.24.so, so=so, useshrplib=false, libperl=libperl.a
    gnulibc_version='2.24'
  Dynamic Linking:
    dlsrc=dl_dlopen.xs, dlext=so, d_dlsymun=undef, ccdlflags='-Wl,-E'
    cccdlflags='-fPIC', lddlflags='-shared -O2 -L/usr/local/lib -fstack-protector-strong'


Characteristics of this binary (from libperl): 
  Compile-time options: HAS_TIMES PERLIO_LAYERS PERL_COPY_ON_WRITE
                        PERL_DONT_CREATE_GVSV
                        PERL_HASH_FUNC_ONE_AT_A_TIME_HARD PERL_MALLOC_WRAP
                        PERL_PRESERVE_IVUV PERL_USE_DEVEL USE_64_BIT_ALL
                        USE_64_BIT_INT USE_LARGE_FILES USE_LOCALE
                        USE_LOCALE_COLLATE USE_LOCALE_CTYPE
                        USE_LOCALE_NUMERIC USE_LOCALE_TIME USE_LONG_DOUBLE
                        USE_PERLIO USE_PERL_ATOF
  Built under linux
  Compiled at Oct  4 2017 06:33:30
  %ENV:
    PERL5LIB="/tmp/build/Mouse-v2.5.0-41/blib/arch:/tmp/build/Mouse-v2.5.0-41/blib/lib:/tmp/build/Test-Output-1.031-4/blib/arch:/tmp/build/Test-Output-1.031-4/blib/lib:/tmp/build/Test-LeakTrace-0.16-7/blib/arch:/tmp/build/Test-LeakTrace-0.16-7/blib/lib:/tmp/build/Module-Build-XSUtil-0.18-41/blib/arch:/tmp/build/Module-Build-XSUtil-0.18-41/blib/lib:/tmp/build/Devel-CheckCompiler-0.07-37/blib/arch:/tmp/build/Devel-CheckCompiler-0.07-37/blib/lib:/tmp/build/Cwd-Guard-0.05-37/blib/arch:/tmp/build/Cwd-Guard-0.05-37/blib/lib:/tmp/build/Devel-PPPort-3.36-30/blib/arch:/tmp/build/Devel-PPPort-3.36-30/blib/lib"
    PERL5OPT=""
    PERL5_CPANPLUS_IS_RUNNING="32230"
    PERL5_CPAN_IS_RUNNING="32230"
    PERLBREW_BASHRC_VERSION="0.80"
    PERLBREW_HOME="/home/njh/.perlbrew"
    PERLBREW_MANPATH="/home/njh/perl5/perlbrew/perls/perl-5.24.3-ld/man"
    PERLBREW_PATH="/home/njh/perl5/perlbrew/bin:/home/njh/perl5/perlbrew/perls/perl-5.24.3-ld/bin"
    PERLBREW_PERL="perl-5.24.3-ld"
    PERLBREW_ROOT="/home/njh/perl5/perlbrew"
    PERLBREW_VERSION="0.80"
  @INC:
    /tmp/build/Mouse-v2.5.0-41/blib/arch
    /tmp/build/Mouse-v2.5.0-41/blib/lib
    /tmp/build/Test-Output-1.031-4/blib/arch
    /tmp/build/Test-Output-1.031-4/blib/lib
    /tmp/build/Test-LeakTrace-0.16-7/blib/arch
    /tmp/build/Test-LeakTrace-0.16-7/blib/lib
    /tmp/build/Module-Build-XSUtil-0.18-41/blib/arch
    /tmp/build/Module-Build-XSUtil-0.18-41/blib/lib
    /tmp/build/Devel-CheckCompiler-0.07-37/blib/arch
    /tmp/build/Devel-CheckCompiler-0.07-37/blib/lib
    /tmp/build/Cwd-Guard-0.05-37/blib/arch
    /tmp/build/Cwd-Guard-0.05-37/blib/lib
    /tmp/build/Devel-PPPort-3.36-30/blib/arch
    /tmp/build/Devel-PPPort-3.36-30/blib/lib
    /home/njh/perl5/perlbrew/perls/perl-5.24.3-ld/lib/site_perl/5.24.3/x86_64-linux-ld
    /home/njh/perl5/perlbrew/perls/perl-5.24.3-ld/lib/site_perl/5.24.3
    /home/njh/perl5/perlbrew/perls/perl-5.24.3-ld/lib/5.24.3/x86_64-linux-ld
    /home/njh/perl5/perlbrew/perls/perl-5.24.3-ld/lib/5.24.3
    .