Config-Structured v3.01 Perl 5 v5.26.0 x86_64-linux

Status
Pass
From
Andreas J. König (ANDK)
Dist
Config-Structured v3.01
Platform
Perl 5 v5.26.0 x86_64-linux
Date
2024-04-18 11:43:38
ID
e57c67de-fd78-11ee-aaa5-f0e89d4e5584
This distribution has been tested as part of the CPAN Testers
project, supporting the Perl programming language.  See
http://wiki.cpantesters.org/ for more information or email
questions to cpan-testers-discuss@perl.org


--
Dear Mark Tyrrell,

This is a computer-generated report for Config-Structured-3.01
on perl 5.26.0, created by CPAN-Reporter-1.2018.

Thank you for uploading your work to CPAN.  Congratulations!
All tests were successful.

Sections of this report:

    * Tester comments
    * Program output
    * Prerequisites
    * Environment and other context

------------------------------
TESTER COMMENTS
------------------------------

Additional comments from tester:

this report is from an automated smoke testing program
and was not reviewed by a human for accuracy

------------------------------
PROGRAM OUTPUT
------------------------------

Output from '/usr/bin/make test':

PERL_DL_NONLAZY=1 "/home/sand/src/perl/repoperls/installed-perls/host/k93msid/v5.26.0/bb7f/bin/perl" "-MExtUtils::Command::MM" "-MTest::Harness" "-e" "undef *Test::Harness::Switches; test_harness(0, 'blib/lib', 'blib/arch')" t/*.t
# 
# Versions for all modules listed in MYMETA.json (including optional ones):
# 
# === Configure Requires ===
# 
#     Module              Want Have
#     ------------------- ---- ----
#     ExtUtils::MakeMaker  any 7.70
# 
# === Build Requires ===
# 
#     Module              Want Have
#     ------------------- ---- ----
#     ExtUtils::MakeMaker  any 7.70
# 
# === Test Requires ===
# 
#     Module                  Want     Have
#     ------------------- -------- --------
#     ExtUtils::MakeMaker      any     7.70
#     File::Spec               any     3.75
#     Test2::Suite        0.000155 0.000159
#     Test::More               any 1.302195
# 
# === Test Recommends ===
# 
#     Module         Want     Have
#     ---------- -------- --------
#     CPAN::Meta 2.120900 2.150010
# 
# === Runtime Requires ===
# 
#     Module                                 Want     Have
#     ---------------------------------- -------- --------
#     Class::Prototyped                      1.13     1.13
#     Data::Structure::Deserialize::Auto     1.01     1.01
#     IO::All                                0.87     0.87
#     Moose::Util::TypeConstraints         2.2207   2.2207
#     Syntax::Keyword::Try                   0.29     0.29
#     perl                               5.026000 5.026000
# 
t/00-report-prereqs.t ... ok
The regex_sets feature is experimental in regex; marked by <-- HERE in m/^ (?[ <-- HERE  ( \p{Word} & \p{XID_Start} ) + [_] ])
  (?[ ( \p{Word} & \p{XID_Continue} ) ]) *    $/ at /tmp/loop_over_bdir-122380-NmweBG/Config-Structured-3.01-0/blib/lib/Config/Structured.pm line 310.
The regex_sets feature is experimental in regex; marked by <-- HERE in m/^ (?[ ( \p{Word} & \p{XID_Start} ) + [_] ])
  (?[ <-- HERE  ( \p{Word} & \p{XID_Continue} ) ]) *    $/ at /tmp/loop_over_bdir-122380-NmweBG/Config-Structured-3.01-0/blib/lib/Config/Structured.pm line 310.
t/01_load.t ............. ok
The regex_sets feature is experimental in regex; marked by <-- HERE in m/^ (?[ <-- HERE  ( \p{Word} & \p{XID_Start} ) + [_] ])
  (?[ ( \p{Word} & \p{XID_Continue} ) ]) *    $/ at /tmp/loop_over_bdir-122380-NmweBG/Config-Structured-3.01-0/blib/lib/Config/Structured.pm line 310.
The regex_sets feature is experimental in regex; marked by <-- HERE in m/^ (?[ ( \p{Word} & \p{XID_Start} ) + [_] ])
  (?[ <-- HERE  ( \p{Word} & \p{XID_Continue} ) ]) *    $/ at /tmp/loop_over_bdir-122380-NmweBG/Config-Structured-3.01-0/blib/lib/Config/Structured.pm line 310.
t/02_deserialize.t ...... ok
The regex_sets feature is experimental in regex; marked by <-- HERE in m/^ (?[ <-- HERE  ( \p{Word} & \p{XID_Start} ) + [_] ])
  (?[ ( \p{Word} & \p{XID_Continue} ) ]) *    $/ at /tmp/loop_over_bdir-122380-NmweBG/Config-Structured-3.01-0/blib/lib/Config/Structured.pm line 310.
The regex_sets feature is experimental in regex; marked by <-- HERE in m/^ (?[ ( \p{Word} & \p{XID_Start} ) + [_] ])
  (?[ <-- HERE  ( \p{Word} & \p{XID_Continue} ) ]) *    $/ at /tmp/loop_over_bdir-122380-NmweBG/Config-Structured-3.01-0/blib/lib/Config/Structured.pm line 310.
t/03_module_args.t ...... ok
The regex_sets feature is experimental in regex; marked by <-- HERE in m/^ (?[ <-- HERE  ( \p{Word} & \p{XID_Start} ) + [_] ])
  (?[ ( \p{Word} & \p{XID_Continue} ) ]) *    $/ at /tmp/loop_over_bdir-122380-NmweBG/Config-Structured-3.01-0/blib/lib/Config/Structured.pm line 310.
The regex_sets feature is experimental in regex; marked by <-- HERE in m/^ (?[ ( \p{Word} & \p{XID_Start} ) + [_] ])
  (?[ <-- HERE  ( \p{Word} & \p{XID_Continue} ) ]) *    $/ at /tmp/loop_over_bdir-122380-NmweBG/Config-Structured-3.01-0/blib/lib/Config/Structured.pm line 310.
t/04_children.t ......... ok
The regex_sets feature is experimental in regex; marked by <-- HERE in m/^ (?[ <-- HERE  ( \p{Word} & \p{XID_Start} ) + [_] ])
  (?[ ( \p{Word} & \p{XID_Continue} ) ]) *    $/ at /tmp/loop_over_bdir-122380-NmweBG/Config-Structured-3.01-0/blib/lib/Config/Structured.pm line 310.
The regex_sets feature is experimental in regex; marked by <-- HERE in m/^ (?[ ( \p{Word} & \p{XID_Start} ) + [_] ])
  (?[ <-- HERE  ( \p{Word} & \p{XID_Continue} ) ]) *    $/ at /tmp/loop_over_bdir-122380-NmweBG/Config-Structured-3.01-0/blib/lib/Config/Structured.pm line 310.
t/05_reserved.t ......... ok
The regex_sets feature is experimental in regex; marked by <-- HERE in m/^ (?[ <-- HERE  ( \p{Word} & \p{XID_Start} ) + [_] ])
  (?[ ( \p{Word} & \p{XID_Continue} ) ]) *    $/ at /tmp/loop_over_bdir-122380-NmweBG/Config-Structured-3.01-0/blib/lib/Config/Structured.pm line 310.
The regex_sets feature is experimental in regex; marked by <-- HERE in m/^ (?[ ( \p{Word} & \p{XID_Start} ) + [_] ])
  (?[ <-- HERE  ( \p{Word} & \p{XID_Continue} ) ]) *    $/ at /tmp/loop_over_bdir-122380-NmweBG/Config-Structured-3.01-0/blib/lib/Config/Structured.pm line 310.
t/10_from_default.t ..... ok
The regex_sets feature is experimental in regex; marked by <-- HERE in m/^ (?[ <-- HERE  ( \p{Word} & \p{XID_Start} ) + [_] ])
  (?[ ( \p{Word} & \p{XID_Continue} ) ]) *    $/ at /tmp/loop_over_bdir-122380-NmweBG/Config-Structured-3.01-0/blib/lib/Config/Structured.pm line 310.
The regex_sets feature is experimental in regex; marked by <-- HERE in m/^ (?[ ( \p{Word} & \p{XID_Start} ) + [_] ])
  (?[ <-- HERE  ( \p{Word} & \p{XID_Continue} ) ]) *    $/ at /tmp/loop_over_bdir-122380-NmweBG/Config-Structured-3.01-0/blib/lib/Config/Structured.pm line 310.
t/11_from_env.t ......... ok
The regex_sets feature is experimental in regex; marked by <-- HERE in m/^ (?[ <-- HERE  ( \p{Word} & \p{XID_Start} ) + [_] ])
  (?[ ( \p{Word} & \p{XID_Continue} ) ]) *    $/ at /tmp/loop_over_bdir-122380-NmweBG/Config-Structured-3.01-0/blib/lib/Config/Structured.pm line 310.
The regex_sets feature is experimental in regex; marked by <-- HERE in m/^ (?[ ( \p{Word} & \p{XID_Start} ) + [_] ])
  (?[ <-- HERE  ( \p{Word} & \p{XID_Continue} ) ]) *    $/ at /tmp/loop_over_bdir-122380-NmweBG/Config-Structured-3.01-0/blib/lib/Config/Structured.pm line 310.
t/12_from_file.t ........ ok
The regex_sets feature is experimental in regex; marked by <-- HERE in m/^ (?[ <-- HERE  ( \p{Word} & \p{XID_Start} ) + [_] ])
  (?[ ( \p{Word} & \p{XID_Continue} ) ]) *    $/ at /tmp/loop_over_bdir-122380-NmweBG/Config-Structured-3.01-0/blib/lib/Config/Structured.pm line 310.
The regex_sets feature is experimental in regex; marked by <-- HERE in m/^ (?[ ( \p{Word} & \p{XID_Start} ) + [_] ])
  (?[ <-- HERE  ( \p{Word} & \p{XID_Continue} ) ]) *    $/ at /tmp/loop_over_bdir-122380-NmweBG/Config-Structured-3.01-0/blib/lib/Config/Structured.pm line 310.
t/20_typechecking.t ..... ok
The regex_sets feature is experimental in regex; marked by <-- HERE in m/^ (?[ <-- HERE  ( \p{Word} & \p{XID_Start} ) + [_] ])
  (?[ ( \p{Word} & \p{XID_Continue} ) ]) *    $/ at /tmp/loop_over_bdir-122380-NmweBG/Config-Structured-3.01-0/blib/lib/Config/Structured.pm line 310.
The regex_sets feature is experimental in regex; marked by <-- HERE in m/^ (?[ ( \p{Word} & \p{XID_Start} ) + [_] ])
  (?[ <-- HERE  ( \p{Word} & \p{XID_Continue} ) ]) *    $/ at /tmp/loop_over_bdir-122380-NmweBG/Config-Structured-3.01-0/blib/lib/Config/Structured.pm line 310.
t/30_on_access_hooks.t .. ok
The regex_sets feature is experimental in regex; marked by <-- HERE in m/^ (?[ <-- HERE  ( \p{Word} & \p{XID_Start} ) + [_] ])
  (?[ ( \p{Word} & \p{XID_Continue} ) ]) *    $/ at /tmp/loop_over_bdir-122380-NmweBG/Config-Structured-3.01-0/blib/lib/Config/Structured.pm line 310.
The regex_sets feature is experimental in regex; marked by <-- HERE in m/^ (?[ ( \p{Word} & \p{XID_Start} ) + [_] ])
  (?[ <-- HERE  ( \p{Word} & \p{XID_Continue} ) ]) *    $/ at /tmp/loop_over_bdir-122380-NmweBG/Config-Structured-3.01-0/blib/lib/Config/Structured.pm line 310.
t/31_on_load_hooks.t .... ok
The regex_sets feature is experimental in regex; marked by <-- HERE in m/^ (?[ <-- HERE  ( \p{Word} & \p{XID_Start} ) + [_] ])
  (?[ ( \p{Word} & \p{XID_Continue} ) ]) *    $/ at /tmp/loop_over_bdir-122380-NmweBG/Config-Structured-3.01-0/blib/lib/Config/Structured.pm line 310.
The regex_sets feature is experimental in regex; marked by <-- HERE in m/^ (?[ ( \p{Word} & \p{XID_Start} ) + [_] ])
  (?[ <-- HERE  ( \p{Word} & \p{XID_Continue} ) ]) *    $/ at /tmp/loop_over_bdir-122380-NmweBG/Config-Structured-3.01-0/blib/lib/Config/Structured.pm line 310.
t/32_wildcard_hooks.t ... ok
The regex_sets feature is experimental in regex; marked by <-- HERE in m/^ (?[ <-- HERE  ( \p{Word} & \p{XID_Start} ) + [_] ])
  (?[ ( \p{Word} & \p{XID_Continue} ) ]) *    $/ at /tmp/loop_over_bdir-122380-NmweBG/Config-Structured-3.01-0/blib/lib/Config/Structured.pm line 310.
The regex_sets feature is experimental in regex; marked by <-- HERE in m/^ (?[ ( \p{Word} & \p{XID_Start} ) + [_] ])
  (?[ <-- HERE  ( \p{Word} & \p{XID_Continue} ) ]) *    $/ at /tmp/loop_over_bdir-122380-NmweBG/Config-Structured-3.01-0/blib/lib/Config/Structured.pm line 310.
t/40_to_hash.t .......... ok
All tests successful.
Files=14, Tests=37,  9 wallclock secs ( 0.04 usr  0.03 sys +  3.54 cusr  0.76 csys =  4.37 CPU)
Result: PASS

------------------------------
PREREQUISITES
------------------------------

Prerequisite modules loaded:

requires:

    Module                             Need     Have    
    ---------------------------------- -------- --------
    Class::Prototyped                  1.13     1.13    
    Data::Structure::Deserialize::Auto 1.01     1.01    
    IO::All                            0.87     0.87    
    Moose::Util::TypeConstraints       2.2207   2.2207  
    perl                               5.026000 5.026000
    Syntax::Keyword::Try               0.29     0.29    

build_requires:

    Module                             Need     Have    
    ---------------------------------- -------- --------
    ExtUtils::MakeMaker                0        7.70    
    File::Spec                         0        3.75    
    Test2::Suite                       0.000155 0.000159
    Test::More                         0        1.302195

configure_requires:

    Module                             Need     Have    
    ---------------------------------- -------- --------
    ExtUtils::MakeMaker                0        7.70    


------------------------------
ENVIRONMENT AND OTHER CONTEXT
------------------------------

Environment variables:

    AUTOMATED_TESTING = 1
    LANG = en_US.UTF-8
    LANGUAGE = en_US:en
    PATH = /home/sand/bin:/usr/local/bin:/usr/bin:/bin:/usr/games:/usr/local/perl/bin:/usr/X11/bin:/sbin:/usr/sbin
    PERL5LIB = 
    PERL5OPT = 
    PERL5_CPANPLUS_IS_RUNNING = 30234
    PERL5_CPAN_IS_RUNNING = 30234
    PERL_CANARY_STABILITY_NOPROMPT = 1
    PERL_MM_USE_DEFAULT = 1
    PERL_USE_UNSAFE_INC = 1
    SHELL = /usr/bin/zsh
    TERM = screen

Perl special variables (and OS-specific diagnostics, for MSWin32):

    $^X = /home/sand/src/perl/repoperls/installed-perls/host/k93msid/v5.26.0/bb7f/bin/perl
    $UID/$EUID = 1005 / 1005
    $GID = 1005 1005
    $EGID = 1005 1005

Perl module toolchain versions installed:

    Module              Have    
    ------------------- --------
    CPAN                2.36    
    CPAN::Meta          2.150010
    Cwd                 3.75    
    ExtUtils::CBuilder  0.280236
    ExtUtils::Command   7.70    
    ExtUtils::Install   2.06    
    ExtUtils::MakeMaker 7.70    
    ExtUtils::Manifest  1.70    
    ExtUtils::ParseXS   3.51    
    File::Spec          3.75    
    JSON                4.10    
    JSON::PP            4.12    
    Module::Build       0.4234  
    Module::Signature   0.88    
    Parse::CPAN::Meta   2.150010
    Test::Harness       3.44    
    Test::More          1.302195
    YAML                1.30    
    YAML::Syck          1.34    
    version             0.9929  


--

Summary of my perl5 (revision 5 version 26 subversion 0) configuration:
  Derived from: 95388f2eb27e74cdbfb715c0097f16aeba4e6e4e
  Platform:
    osname=linux
    osvers=5.16.0-6-amd64
    archname=x86_64-linux
    uname='linux k93msid 5.16.0-6-amd64 #1 smp preempt debian 5.16.18-1 (2022-03-29) x86_64 gnulinux '
    config_args='-Dprefix=/home/sand/src/perl/repoperls/installed-perls/host/k93msid/v5.26.0/bb7f -Dmyhostname=k93msid -Dinstallusrbinperl=n -Uversiononly -Dusedevel -des -Ui_db -Dlibswanted=cl pthread socket inet nsl gdbm dbm malloc dl ld sun m crypt sec util c cposix posix ucb BSD gdbm_compat -Uuseithreads -Uuselongdouble -DEBUGGING=both'
    hint=recommended
    useposix=true
    d_sigaction=define
    useithreads=undef
    usemultiplicity=undef
    use64bitint=define
    use64bitall=define
    uselongdouble=undef
    usemymalloc=n
    default_inc_excludes_dot=define
    bincompat5005=undef
  Compiler:
    cc='cc'
    ccflags ='-fwrapv -DDEBUGGING -fno-strict-aliasing -pipe -fstack-protector-strong -I/usr/local/include -D_LARGEFILE_SOURCE -D_FILE_OFFSET_BITS=64 -D_FORTIFY_SOURCE=2'
    optimize='-O2 -g'
    cppflags='-fwrapv -DDEBUGGING -fno-strict-aliasing -pipe -fstack-protector-strong -I/usr/local/include'
    ccversion=''
    gccversion='11.2.0'
    gccosandvers=''
    intsize=4
    longsize=8
    ptrsize=8
    doublesize=8
    byteorder=12345678
    doublekind=3
    d_longlong=define
    longlongsize=8
    d_longdbl=define
    longdblsize=16
    longdblkind=3
    ivtype='long'
    ivsize=8
    nvtype='double'
    nvsize=8
    Off_t='off_t'
    lseeksize=8
    alignbytes=8
    prototype=define
  Linker and Libraries:
    ld='cc'
    ldflags =' -fstack-protector-strong -L/usr/local/lib'
    libpth=/usr/local/lib /usr/include/x86_64-linux-gnu /usr/lib /lib/x86_64-linux-gnu /lib/../lib /usr/lib/x86_64-linux-gnu /usr/lib/../lib /lib
    libs=-lpthread -lnsl -ldl -lm -lcrypt -lutil -lc
    perllibs=-lpthread -lnsl -ldl -lm -lcrypt -lutil -lc
    libc=libc-2.33.so
    so=so
    useshrplib=false
    libperl=libperl.a
    gnulibc_version='2.33'
  Dynamic Linking:
    dlsrc=dl_dlopen.xs
    dlext=so
    d_dlsymun=undef
    ccdlflags='-Wl,-E'
    cccdlflags='-fPIC'
    lddlflags='-shared -O2 -g -L/usr/local/lib -fstack-protector-strong'


Characteristics of this binary (from libperl): 
  Compile-time options:
    DEBUGGING
    HAS_TIMES
    PERLIO_LAYERS
    PERL_COPY_ON_WRITE
    PERL_DONT_CREATE_GVSV
    PERL_MALLOC_WRAP
    PERL_OP_PARENT
    PERL_PRESERVE_IVUV
    PERL_USE_DEVEL
    USE_64_BIT_ALL
    USE_64_BIT_INT
    USE_LARGE_FILES
    USE_LOCALE
    USE_LOCALE_COLLATE
    USE_LOCALE_CTYPE
    USE_LOCALE_NUMERIC
    USE_LOCALE_TIME
    USE_PERLIO
    USE_PERL_ATOF
  Locally applied patches:
    uncommitted-changes
  Built under linux
  Compiled at Apr 23 2022 16:36:30
  %ENV:
    PERL5LIB=""
    PERL5OPT=""
    PERL5_CPANPLUS_IS_RUNNING="30234"
    PERL5_CPAN_IS_RUNNING="30234"
    PERL_CANARY_STABILITY_NOPROMPT="1"
    PERL_MM_USE_DEFAULT="1"
    PERL_USE_UNSAFE_INC="1"
  @INC:
    /home/sand/src/perl/repoperls/installed-perls/host/k93msid/v5.26.0/bb7f/lib/site_perl/5.26.0/x86_64-linux
    /home/sand/src/perl/repoperls/installed-perls/host/k93msid/v5.26.0/bb7f/lib/site_perl/5.26.0
    /home/sand/src/perl/repoperls/installed-perls/host/k93msid/v5.26.0/bb7f/lib/5.26.0/x86_64-linux
    /home/sand/src/perl/repoperls/installed-perls/host/k93msid/v5.26.0/bb7f/lib/5.26.0
    .