Pod-Markdown v3.200 Perl 5 v5.30.0 darwin-thread-multi-2level

Status
Pass
From
Stanislaw Pusep
Dist
Pod-Markdown v3.200
Platform
Perl 5 v5.30.0 darwin-thread-multi-2level
Date
2019-10-10 05:29:14
ID
e57571e8-eb1e-11e9-9744-abff5332767b
This distribution has been tested as part of the CPAN Testers
project, supporting the Perl programming language.  See
http://wiki.cpantesters.org/ for more information or email
questions to cpan-testers-discuss@perl.org


--
Dear RWSTAUNER,

This is a computer-generated report for Pod-Markdown-3.200
on perl 5.30.0, created by App::cpanminus::reporter 0.17 (1.9018).

Thank you for uploading your work to CPAN.  Congratulations!
All tests were successful.

Sections of this report:

    * Tester comments
    * Program output
    * Prerequisites
    * Environment and other context

------------------------------
TESTER COMMENTS
------------------------------

Additional comments from tester:

none provided

------------------------------
PROGRAM OUTPUT
------------------------------

Output from '':

Building and testing Pod-Markdown-3.200
cp lib/Pod/Markdown.pm blib/lib/Pod/Markdown.pm
cp lib/Pod/Perldoc/ToMarkdown.pm blib/lib/Pod/Perldoc/ToMarkdown.pm
cp bin/pod2markdown blib/script/pod2markdown
"/usr/local/Cellar/perl/5.30.0/bin/perl" -MExtUtils::MY -e 'MY->fixin(shift)' -- blib/script/pod2markdown
Manifying 1 pod document
Manifying 2 pod documents
PERL_DL_NONLAZY=1 "/usr/local/Cellar/perl/5.30.0/bin/perl" "-MExtUtils::Command::MM" "-MTest::Harness" "-e" "undef *Test::Harness::Switches; test_harness(0, 'blib/lib', 'blib/arch')" t/*.t
t/00-compile.t ......... ok
# 
# Versions for all modules listed in MYMETA.json (including optional ones):
# 
# === Configure Requires ===
# 
#     Module              Want Have
#     ------------------- ---- ----
#     ExtUtils::MakeMaker  any 7.38
# 
# === Build Requires ===
# 
#     Module              Want Have
#     ------------------- ---- ----
#     ExtUtils::MakeMaker  any 7.38
# 
# === Test Requires ===
# 
#     Module                Want     Have
#     --------------------- ---- --------
#     Exporter               any     5.73
#     ExtUtils::MakeMaker    any     7.38
#     File::Spec             any     3.75
#     File::Spec::Functions  any     3.75
#     File::Temp             any   0.2309
#     IO::Handle             any     1.40
#     IPC::Open3             any     1.20
#     Symbol                 any     1.08
#     Test::Differences      any     0.67
#     Test::More            0.88 1.302168
#     lib                    any     0.65
#     utf8                   any     1.22
# 
# === Test Recommends ===
# 
#     Module         Want     Have
#     ---------- -------- --------
#     CPAN::Meta 2.120900 2.150010
# 
# === Runtime Requires ===
# 
#     Module               Want  Have
#     -------------------- ---- -----
#     Encode                any  3.01
#     Getopt::Long          any  2.51
#     Pod::Simple          3.27  3.39
#     Pod::Simple::Methody  any  3.39
#     Pod::Usage            any  1.69
#     URI::Escape           any  3.31
#     parent                any 0.237
#     strict                any  1.11
#     warnings              any  1.44
# 
# === Runtime Recommends ===
# 
#     Module         Want Have
#     -------------- ---- ----
#     HTML::Entities  any 3.69
# 
t/00-report-prereqs.t .. ok
t/back-compat.t ........ ok
t/basic.t .............. ok
t/codes.t .............. ok
t/encoding.t ........... ok
t/entities.t ........... ok
t/escape.t ............. ok
t/formats.t ............ ok
t/links.t .............. ok
t/lists.t .............. ok
t/meta.t ............... ok
t/misc.t ............... ok
t/nested.t ............. ok
t/new.t ................ ok
t/perldoc.t ............ ok
t/pod2markdown.t ....... ok
t/verbatim.t ........... ok
All tests successful.
Files=18, Tests=354,  4 wallclock secs ( 0.08 usr  0.04 sys +  2.67 cusr  0.47 csys =  3.26 CPU)
Result: PASS

------------------------------
PREREQUISITES
------------------------------

Prerequisite modules loaded:

    No requirements found

------------------------------
ENVIRONMENT AND OTHER CONTEXT
------------------------------

Environment variables:

    LANG = en_US.UTF-8
    LC_ALL = en_US.UTF-8
    LC_CTYPE = UTF-8
    LC_TERMINAL = iTerm2
    LC_TERMINAL_VERSION = 3.3.5beta2
    LDFLAGS = -L/usr/local/opt/curl/lib
    PATH = /usr/local/opt/curl/bin:/usr/local/bin:/usr/bin:/bin:/usr/sbin:/sbin:/opt/X11/bin:/Applications/Wireshark.app/Contents/MacOS:/Users/stan/.vim/bin:/Users/stan/bin:/Users/stan/node_modules/.bin:/usr/local/opt/curl/bin:/Users/stan/perl5/bin
    PERL5LIB = /Users/stan/perl5/lib/perl5
    PERL_LOCAL_LIB_ROOT = /Users/stan/perl5
    PERL_MB_OPT = --install_base "/Users/stan/perl5"
    PERL_MM_OPT = INSTALL_BASE=/Users/stan/perl5
    PERL_MM_USE_DEFAULT = 1
    SHELL = /bin/zsh
    TERM = screen
    TMPDIR = /var/folders/1m/0mbn7h096b361dk2y6kwjfn00000gn/T/

Perl special variables (and OS-specific diagnostics, for MSWin32):

    EGID = 20 20 12 61 79 80 81 98 501 702 33 100 204 250 395 398 399
    EUID = 501
    EXECUTABLE_NAME = /usr/local/Cellar/perl/5.30.0/bin/perl
    GID = 20 20 12 61 79 80 81 98 501 702 33 100 204 250 395 398 399
    UID = 501

Perl module toolchain versions installed:

    Module              Have    
    ------------------- --------
    CPAN                2.27    
    CPAN::Meta          2.150010
    Cwd                 3.75    
    ExtUtils::CBuilder  0.280231
    ExtUtils::Command   7.38    
    ExtUtils::Install   2.14    
    ExtUtils::MakeMaker 7.38    
    ExtUtils::Manifest  1.72    
    ExtUtils::ParseXS   3.40    
    File::Spec          3.75    
    JSON                4.02    
    JSON::PP            4.04    
    Module::Build       0.4229  
    Module::Signature   0.83    
    Parse::CPAN::Meta   2.150010
    Test::Harness       3.42    
    Test::More          1.302168
    YAML                1.29    
    YAML::Syck          n/a     
    version             0.9924  


--

Summary of my perl5 (revision 5 version 30 subversion 0) configuration:
   
  Platform:
    osname=darwin
    osvers=18.6.0
    archname=darwin-thread-multi-2level
    uname='darwin mojave-2.local 18.6.0 darwin kernel version 18.6.0: thu apr 25 23:16:27 pdt 2019; root:xnu-4903.261.4~2release_x86_64 x86_64 '
    config_args='-des -Dprefix=/usr/local/Cellar/perl/5.30.0 -Dprivlib=/usr/local/Cellar/perl/5.30.0/lib/perl5/5.30.0 -Dsitelib=/usr/local/Cellar/perl/5.30.0/lib/perl5/site_perl/5.30.0 -Dotherlibdirs=/usr/local/lib/perl5/site_perl/5.30.0 -Dperlpath=/usr/local/opt/perl/bin/perl -Dstartperl=#!/usr/local/opt/perl/bin/perl -Dman1dir=/usr/local/Cellar/perl/5.30.0/share/man/man1 -Dman3dir=/usr/local/Cellar/perl/5.30.0/share/man/man3 -Duseshrplib -Duselargefiles -Dusethreads'
    hint=recommended
    useposix=true
    d_sigaction=define
    useithreads=define
    usemultiplicity=define
    use64bitint=define
    use64bitall=define
    uselongdouble=undef
    usemymalloc=n
    default_inc_excludes_dot=define
    bincompat5005=undef
  Compiler:
    cc='cc'
    ccflags ='-fno-common -DPERL_DARWIN -mmacosx-version-min=10.14 -fno-strict-aliasing -pipe -fstack-protector-strong -I/usr/local/include -DPERL_USE_SAFE_PUTENV'
    optimize='-O3'
    cppflags='-fno-common -DPERL_DARWIN -mmacosx-version-min=10.14 -fno-strict-aliasing -pipe -fstack-protector-strong -I/usr/local/include'
    ccversion=''
    gccversion='4.2.1 Compatible Apple LLVM 10.0.1 (clang-1001.0.46.4)'
    gccosandvers=''
    intsize=4
    longsize=8
    ptrsize=8
    doublesize=8
    byteorder=12345678
    doublekind=3
    d_longlong=define
    longlongsize=8
    d_longdbl=define
    longdblsize=16
    longdblkind=3
    ivtype='long'
    ivsize=8
    nvtype='double'
    nvsize=8
    Off_t='off_t'
    lseeksize=8
    alignbytes=8
    prototype=define
  Linker and Libraries:
    ld='cc'
    ldflags =' -mmacosx-version-min=10.14 -fstack-protector-strong -L/usr/local/lib'
    libpth=/usr/local/lib /Applications/Xcode.app/Contents/Developer/Platforms/MacOSX.platform/Developer/SDKs/MacOSX10.14.sdk/usr/include/libxml2 /Applications/Xcode.app/Contents/Developer/Toolchains/XcodeDefault.xctoolchain/usr/lib/clang/10.0.1/lib /Applications/Xcode.app/Contents/Developer/Toolchains/XcodeDefault.xctoolchain/usr/lib /Applications/Xcode.app/Contents/Developer/Platforms/MacOSX.platform/Developer/SDKs/MacOSX10.14.sdk/usr/lib /usr/lib
    libs=-lpthread -ldbm -ldl -lm -lutil -lc
    perllibs=-lpthread -ldl -lm -lutil -lc
    libc=
    so=dylib
    useshrplib=true
    libperl=libperl.dylib
    gnulibc_version=''
  Dynamic Linking:
    dlsrc=dl_dlopen.xs
    dlext=bundle
    d_dlsymun=undef
    ccdlflags=' '
    cccdlflags=' '
    lddlflags=' -mmacosx-version-min=10.14 -bundle -undefined dynamic_lookup -L/usr/local/lib -fstack-protector-strong'


Characteristics of this binary (from libperl): 
  Compile-time options:
    HAS_TIMES
    MULTIPLICITY
    PERLIO_LAYERS
    PERL_COPY_ON_WRITE
    PERL_DONT_CREATE_GVSV
    PERL_IMPLICIT_CONTEXT
    PERL_MALLOC_WRAP
    PERL_OP_PARENT
    PERL_PRESERVE_IVUV
    PERL_USE_SAFE_PUTENV
    USE_64_BIT_ALL
    USE_64_BIT_INT
    USE_ITHREADS
    USE_LARGE_FILES
    USE_LOCALE
    USE_LOCALE_COLLATE
    USE_LOCALE_CTYPE
    USE_LOCALE_NUMERIC
    USE_LOCALE_TIME
    USE_PERLIO
    USE_PERL_ATOF
    USE_REENTRANT_API
    USE_THREAD_SAFE_LOCALE
  Built under darwin
  Compiled at May 30 2019 18:29:19
  %ENV:
    PERL5LIB="/Users/stan/perl5/lib/perl5"
    PERL_LOCAL_LIB_ROOT="/Users/stan/perl5"
    PERL_MB_OPT="--install_base "/Users/stan/perl5""
    PERL_MM_OPT="INSTALL_BASE=/Users/stan/perl5"
    PERL_MM_USE_DEFAULT="1"
  @INC:
    /Users/stan/perl5/lib/perl5/5.30.0/darwin-thread-multi-2level
    /Users/stan/perl5/lib/perl5/5.30.0
    /Users/stan/perl5/lib/perl5/darwin-thread-multi-2level
    /Users/stan/perl5/lib/perl5
    /usr/local/Cellar/perl/5.30.0/lib/perl5/site_perl/5.30.0/darwin-thread-multi-2level
    /usr/local/Cellar/perl/5.30.0/lib/perl5/site_perl/5.30.0
    /usr/local/Cellar/perl/5.30.0/lib/perl5/5.30.0/darwin-thread-multi-2level
    /usr/local/Cellar/perl/5.30.0/lib/perl5/5.30.0
    /usr/local/lib/perl5/site_perl/5.30.0