Template-Benchmark v1.09_01 Perl 5 v5.20.3 x86_64-linux

Status
Pass
From
Slaven Rezić (SREZIC)
Dist
Template-Benchmark v1.09_01
Platform
Perl 5 v5.20.3 x86_64-linux
Date
2017-11-13 20:26:14
ID
e54ec4b8-c8b0-11e7-9786-b21738ff84fa
This distribution has been tested as part of the CPAN Testers
project, supporting the Perl programming language.  See
http://wiki.cpantesters.org/ for more information or email
questions to cpan-testers-discuss@perl.org


--
Dear Sam Graham,

This is a computer-generated report for Template-Benchmark-1.09_01
on perl 5.20.3, created by CPAN-Reporter-1.2018.

Thank you for uploading your work to CPAN.  Congratulations!
All tests were successful.

Sections of this report:

    * Tester comments
    * Program output
    * Prerequisites
    * Environment and other context

------------------------------
TESTER COMMENTS
------------------------------

Additional comments from tester:

none provided

------------------------------
PROGRAM OUTPUT
------------------------------

Output from './Build test':

# Testing Template::Benchmark 1.09_01, Perl 5.020003, /opt/perl-5.20.3/bin/perl
t/00-load.t ................. ok
t/10-class-methods.t ........ ok
t/15-constructor.t .......... ok
t/16-only-plugin.t .......... ok
t/17-features-from.t ........ ok
t/18-cache-types-from.t ..... ok
t/20-instance-methods.t ..... skipped: Instance testing requires one of the following sets of modules to be installed: (Template::Sandbox Cache::CacheFactory CHI Cache::FastMmap Cache::FileCache Cache::FastMemoryCache Cache::Ref::FIFO) (Template::Toolkit Template::Stash::XS Template::Parser::CET) (HTML::Template)
# Using plugin TextXslate (3.4.0) for dataset tests
t/30-custom-dataset.t ....... ok
# Using plugin TextXslate (3.4.0) for feature repeats tests
t/40-per-feature-repeats.t .. ok
t/50-script-run.t ........... ok
All tests successful.
Files=10, Tests=46,  3 wallclock secs ( 0.04 usr  0.08 sys +  1.68 cusr  0.30 csys =  2.10 CPU)
Result: PASS

------------------------------
PREREQUISITES
------------------------------

Prerequisite modules loaded:

requires:

    Module            Need   Have      
    ----------------- ------ ----------
    Benchmark         0      1.18      
    File::Path        0      2.15      
    File::Spec        0      3.62      
    File::Temp        0.18   0.2304    
    FindBin           0      1.51      
    Getopt::Long      0      2.5       
    IO::File          0      1.16      
    Module::Pluggable 0      5.2       
    perl              v5.6.1 5.020003  
    Pod::Usage        0      1.69      
    Scalar::Util      0      1.49      
    Text::Matrix      0      1.00      
    Text::Wrap        0      2013.0523 

build_requires:

    Module            Need   Have      
    ----------------- ------ ----------
    Config            0      5.020003  
    Cwd               0      3.62      
    File::Spec        0      3.62      
    FindBin           0      1.51      
    Test::Command     0.08   0.11      
    Test::Exception   0      0.43      
    Test::MockObject  0      1.20161202
    Test::More        0      1.302106  

configure_requires:

    Module            Need   Have      
    ----------------- ------ ----------
    Module::Build     0.23   0.4224    


------------------------------
ENVIRONMENT AND OTHER CONTEXT
------------------------------

Environment variables:

    LANG = C
    PATH = /usr/local/bin:/usr/bin:/bin:/usr/local/sbin:/usr/sbin:/sbin:/home/cpansand/bin/linux-gnu:/home/cpansand/bin/sh:/home/cpansand/bin:/usr/games:/home/cpansand/devel:/home/eserte/src/srezic-misc/scripts
    PERL5LIB = /home/cpansand/.cpan/build/2017111215/Text-Matrix-1.00-1/blib/arch:/home/cpansand/.cpan/build/2017111215/Text-Matrix-1.00-1/blib/lib
    PERL5OPT = 
    PERL5_CPANPLUS_IS_RUNNING = 28345
    PERL5_CPAN_IS_RUNNING = 28345
    PERL5_CPAN_IS_RUNNING_IN_RECURSION = 27622,28345
    PERLDOC = -MPod::Perldoc::ToTextOverstrike
    PERL_BATCH = yes
    PERL_CANARY_STABILITY_NOPROMPT = 1
    PERL_CPAN_REPORTER_CONFIG = /var/tmp/cpansmoker-1023/2017111215/cpanreporter_000_config.ini
    PERL_EXTUTILS_AUTOINSTALL = --defaultdeps
    SHELL = /usr/bin/zsh
    TERM = screen
    TMPDIR = /var/tmp/cpansmoker-1023/2017111215

Perl special variables (and OS-specific diagnostics, for MSWin32):

    $^X = /opt/perl-5.20.3/bin/perl
    $UID/$EUID = 1023 / 1023
    $GID = 1023 1023
    $EGID = 1023 1023

Perl module toolchain versions installed:

    Module              Have    
    ------------------- --------
    CPAN                2.16    
    CPAN::Meta          2.150010
    Cwd                 3.62    
    ExtUtils::CBuilder  0.280226
    ExtUtils::Command   7.30    
    ExtUtils::Install   2.06    
    ExtUtils::MakeMaker 7.30    
    ExtUtils::Manifest  1.70    
    ExtUtils::ParseXS   3.35    
    File::Spec          3.62    
    JSON                2.94    
    JSON::PP            2.94    
    Module::Build       0.4224  
    Module::Signature   0.81    
    Parse::CPAN::Meta   2.150010
    Test::Harness       3.39    
    Test::More          1.302106
    YAML                1.24    
    YAML::Syck          1.30    
    version             0.9918  


--

Summary of my perl5 (revision 5 version 20 subversion 3) configuration:
   
  Platform:
    osname=linux, osvers=3.16.0-4-amd64, archname=x86_64-linux
    uname='linux debian8 3.16.0-4-amd64 #1 smp debian 3.16.43-2+deb8u1 (2017-06-18) x86_64 gnulinux '
    config_args='-ds -e -Dprefix=/opt/perl-5.20.3 -Dcf_email=srezic@cpan.org'
    hint=recommended, useposix=true, d_sigaction=define
    useithreads=undef, usemultiplicity=undef
    use64bitint=define, use64bitall=define, uselongdouble=undef
    usemymalloc=n, bincompat5005=undef
  Compiler:
    cc='cc', ccflags ='-fwrapv -fno-strict-aliasing -pipe -fstack-protector -I/usr/local/include -D_LARGEFILE_SOURCE -D_FILE_OFFSET_BITS=64',
    optimize='-O2',
    cppflags='-fwrapv -fno-strict-aliasing -pipe -fstack-protector -I/usr/local/include'
    ccversion='', gccversion='4.9.2', gccosandvers=''
    intsize=4, longsize=8, ptrsize=8, doublesize=8, byteorder=12345678
    d_longlong=define, longlongsize=8, d_longdbl=define, longdblsize=16
    ivtype='long', ivsize=8, nvtype='double', nvsize=8, Off_t='off_t', lseeksize=8
    alignbytes=8, prototype=define
  Linker and Libraries:
    ld='cc', ldflags =' -fstack-protector -L/usr/local/lib'
    libpth=/usr/local/lib /usr/lib/gcc/x86_64-linux-gnu/4.9/include-fixed /usr/include/x86_64-linux-gnu /usr/lib /lib/x86_64-linux-gnu /lib/../lib /usr/lib/x86_64-linux-gnu /usr/lib/../lib /lib
    libs=-lpthread -lnsl -lgdbm -ldb -ldl -lm -lcrypt -lutil -lc -lgdbm_compat
    perllibs=-lpthread -lnsl -ldl -lm -lcrypt -lutil -lc
    libc=libc-2.19.so, so=so, useshrplib=false, libperl=libperl.a
    gnulibc_version='2.19'
  Dynamic Linking:
    dlsrc=dl_dlopen.xs, dlext=so, d_dlsymun=undef, ccdlflags='-Wl,-E'
    cccdlflags='-fPIC', lddlflags='-shared -O2 -L/usr/local/lib -fstack-protector'


Characteristics of this binary (from libperl): 
  Compile-time options: HAS_TIMES PERLIO_LAYERS PERL_DONT_CREATE_GVSV
                        PERL_HASH_FUNC_ONE_AT_A_TIME_HARD PERL_MALLOC_WRAP
                        PERL_NEW_COPY_ON_WRITE PERL_PRESERVE_IVUV
                        USE_64_BIT_ALL USE_64_BIT_INT USE_LARGE_FILES
                        USE_LOCALE USE_LOCALE_COLLATE USE_LOCALE_CTYPE
                        USE_LOCALE_NUMERIC USE_PERLIO USE_PERL_ATOF
  Built under linux
  Compiled at Jun 20 2017 18:04:57
  %ENV:
    PERL5LIB="/home/cpansand/.cpan/build/2017111215/Text-Matrix-1.00-1/blib/arch:/home/cpansand/.cpan/build/2017111215/Text-Matrix-1.00-1/blib/lib"
    PERL5OPT=""
    PERL5_CPANPLUS_IS_RUNNING="28345"
    PERL5_CPAN_IS_RUNNING="28345"
    PERL5_CPAN_IS_RUNNING_IN_RECURSION="27622,28345"
    PERLDOC="-MPod::Perldoc::ToTextOverstrike"
    PERL_BATCH="yes"
    PERL_CANARY_STABILITY_NOPROMPT="1"
    PERL_CPAN_REPORTER_CONFIG="/var/tmp/cpansmoker-1023/2017111215/cpanreporter_000_config.ini"
    PERL_EXTUTILS_AUTOINSTALL="--defaultdeps"
  @INC:
    /home/cpansand/.cpan/build/2017111215/Text-Matrix-1.00-1/blib/arch
    /home/cpansand/.cpan/build/2017111215/Text-Matrix-1.00-1/blib/lib
    /opt/perl-5.20.3/lib/site_perl/5.20.3/x86_64-linux
    /opt/perl-5.20.3/lib/site_perl/5.20.3
    /opt/perl-5.20.3/lib/5.20.3/x86_64-linux
    /opt/perl-5.20.3/lib/5.20.3
    .