Dancer v1.3512 Perl 5 v5.26.1 x86_64-linux-ld

Status
Pass
From
Chris Williams (BINGOS)
Dist
Dancer v1.3512
Platform
Perl 5 v5.26.1 x86_64-linux-ld
Date
2019-09-26 05:17:12
ID
e545daf8-e01c-11e9-9066-e374b0ba08e8
This distribution has been tested as part of the CPAN Testers
project, supporting the Perl programming language.  See
http://wiki.cpantesters.org/ for more information or email
questions to cpan-testers-discuss@perl.org


--

Dear David Precious,

This is a computer-generated error report created automatically by
CPANPLUS, version 0.9178. Testers personal comments may appear
at the end of this report.


Thank you for uploading your work to CPAN.  Congratulations!
All tests were successful.

TEST RESULTS:

Below is the error stack from stage 'make test':

PERL_DL_NONLAZY=1 "/home/cpan/pit/bare-ld/perl-5.26.1/bin/perl" "-MExtUtils::Command::MM" "-MTest::Harness" "-e" "undef *Test::Harness::Switches; test_harness(0, 'blib/lib', 'blib/arch')" t/*.t t/00_base/*.t t/01_config/*.t t/02_request/*.t t/03_route_handler/*.t t/04_static_file/*.t t/05_views/*.t t/06_helpers/*.t t/07_apphandlers/*.t t/08_session/*.t t/09_cookies/*.t t/10_template/*.t t/11_logger/*.t t/12_response/*.t t/13_engines/*.t t/14_serializer/*.t t/15_plugins/*.t t/16_timer/*.t t/17_apps/*.t t/19_dancer/*.t t/20_deprecation/*.t t/21_dependents/*.t t/22_hooks/*.t t/23_dancer_tests/*.t t/24_deployment/*.t t/25_exceptions/*.t
t/00-compile.t ...................................... ok
# 
# Versions for all modules listed in MYMETA.json (including optional ones):
# 
# === Configure Requires ===
# 
#     Module              Want Have
#     ------------------- ---- ----
#     ExtUtils::MakeMaker  any 7.38
# 
# === Configure Suggests ===
# 
#     Module      Want       Have
#     -------- ------- ----------
#     JSON::PP 2.27300 2.27400_02
# 
# === Build Requires ===
# 
#     Module              Want Have
#     ------------------- ---- ----
#     ExtUtils::MakeMaker  any 7.38
# 
# === Test Requires ===
# 
#     Module               Want     Have
#     ------------------- ----- --------
#     Data::Dump            any     1.23
#     Devel::Hide           any   0.0010
#     Digest::MD5           any     2.55
#     ExtUtils::MakeMaker   any     7.38
#     File::Spec            any     3.75
#     HTTP::CookieJar     0.008    0.008
#     HTTP::Request         any     6.18
#     HTTP::Tiny          0.014    0.070
#     IO::Handle            any     1.36
#     IO::Socket::INET      any     1.35
#     IPC::Open3            any     1.20
#     JSON                 2.90     4.02
#     Plack::Builder        any    undef
#     Test::More            any 1.302168
#     Test::NoWarnings      any     1.04
#     blib                 1.01     1.06
#     utf8                  any     1.19
# 
# === Test Recommends ===
# 
#     Module         Want     Have
#     ---------- -------- --------
#     CPAN::Meta 2.120900 2.150010
# 
# === Runtime Requires ===
# 
#     Module                      Want     Have
#     -------------------------- ----- --------
#     Carp                         any     1.42
#     Cwd                          any     3.75
#     Data::Dumper                 any    2.167
#     Encode                       any     2.88
#     Exporter                     any     5.72
#     Fcntl                        any     1.13
#     File::Basename               any     2.85
#     File::Copy                   any     2.32
#     File::Path                   any     2.16
#     File::Spec                   any     3.75
#     File::Spec::Functions        any     3.75
#     File::Temp                   any   0.2309
#     File::stat                   any     1.07
#     FindBin                      any     1.51
#     Getopt::Long                 any     2.49
#     HTTP::Body                   any     1.22
#     HTTP::Date                   any     6.02
#     HTTP::Headers                any     6.18
#     HTTP::Server::Simple::PSGI   any     0.16
#     HTTP::Tiny                 0.014    0.070
#     Hash::Merge::Simple          any    0.051
#     IO::File                     any     1.16
#     MIME::Types                  any     2.17
#     Module::Runtime              any    0.016
#     POSIX                        any     1.76
#     Pod::Usage                   any     1.69
#     Scalar::Util                 any  1.46_02
#     Test::Builder                any 1.302168
#     Test::More                   any 1.302168
#     Time::HiRes                  any   1.9741
#     Try::Tiny                    any     0.30
#     URI                          any     1.76
#     URI::Escape                  any     3.31
#     base                         any     2.26
#     bytes                        any     1.05
#     constant                     any     1.33
#     lib                          any     0.64
#     overload                     any     1.28
#     parent                       any    0.236
#     strict                       any     1.11
#     vars                         any     1.03
#     warnings                     any     1.37
# 
# === Runtime Recommends ===
# 
#     Module      Want Have
#     ----------- ---- ----
#     MIME::Types 2.17 2.17
#     YAML         any 1.29
#     YAML::XS     any 0.80
# 
t/00-report-prereqs.t ............................... ok
t/00_base/000_create_fake_env.t ..................... ok
# Testing Dancer 1.3512, Perl 5.026001, /home/cpan/pit/bare-ld/perl-5.26.1/bin/perl
t/00_base/001_load.t ................................ ok
t/00_base/002_strict_and_warnings.t ................. ok
t/00_base/003_syntax.t .............................. ok
t/00_base/004_args.t ................................ ok
t/00_base/005_module_loader.t ....................... ok
t/00_base/007_load_syntax.t ......................... ok
t/00_base/008_export.t .............................. ok
t/00_base/009_syntax_export.t ....................... ok
t/00_base/010_export_script.t ....................... ok
t/00_base/06_dancer_object.t ........................ ok
t/00_base/08_pod_coverage_dancer.t .................. skipped: Test::Pod::Coverage 1.08 required for testing POD coverage
t/00_base/09_load_app.t ............................. ok
t/00_base/11_file_utils.t ........................... ok
t/00_base/12_utf8_charset.t ......................... ok
t/00_base/13_dancer_singleton.t ..................... ok
t/00_base/15_dependent_modules.t .................... skipped: Author tests not required for installation
t/00_base/17_globalwarnings_config_on.t ............. ok
t/00_base/config.t .................................. ok
t/00_base/easymocker.t .............................. ok
t/00_base/normalize_path.t .......................... ok
# Test::TCP 2.20 loaded successfully
# Test::More 1.302168 loaded successfully
# JSON 4.02 loaded successfully
# YAML 1.29 loaded successfully
# Clone 0.43 loaded successfully
# Plack 1.0047 loaded successfully
# XML::Simple is not available
# HTTP::Parser::XS is not available
t/00_base/optional-module-versions.t ................ ok
t/00_base/uri_for.t ................................. ok
t/01_config/01_settings.t ........................... ok
t/01_config/02_mime_type.t .......................... ok
t/01_config/03_logger.t ............................. ok
t/01_config/04_config_file.t ........................ ok
t/01_config/05_serializers.t ........................ ok
# Testing YAML parsing with YAML::XS version 0.80
# Testing YAML parsing with YAML version 1.29
t/01_config/06_config_api.t ......................... ok
t/01_config/06_stack_trace.t ........................ ok
t/01_config/07_strict_config.t ...................... ok
t/01_config/08_environments.t ....................... ok
t/01_config/yaml_dependency.t ....................... ok
t/02_request/000_create_fake_env.t .................. ok
t/02_request/01_load.t .............................. ok
t/02_request/04_custom.t ............................ ok
t/02_request/04_forward.t ........................... ok
t/02_request/05_cgi_pm_compat.t ..................... ok
t/02_request/06_init_env.t .......................... ok
# OK
t/02_request/07_raw_data.t .......................... ok
t/02_request/08_param_array.t ....................... ok
t/02_request/08_params.t ............................ ok
t/02_request/10_mixed_params.t ...................... ok
t/02_request/11_accessors.t ......................... ok
t/02_request/12_base.t .............................. ok
t/02_request/13_ajax.t .............................. ok
t/02_request/14_uploads.t ........................... ok
t/02_request/15_headers.t ........................... ok
t/02_request/16_delete.t ............................ ok
t/02_request/17_uri_base.t .......................... ok
t/02_request/18_param_accessor.t .................... ok
t/02_request/19_json_body.t ......................... ok
t/02_request/20_body.t .............................. ok
t/02_request/21_dancer_response_multiple_params.t ... ok
t/03_route_handler/01_http_methods.t ................ ok
t/03_route_handler/02_params.t ...................... ok
t/03_route_handler/03_routes_api.t .................. ok
t/03_route_handler/04_routes_matching.t ............. ok
t/03_route_handler/04_wildcards_megasplat.t ......... ok
t/03_route_handler/05_filter.t ...................... ok
t/03_route_handler/05_unicode.t ..................... ok
t/03_route_handler/06_redirect.t .................... ok
t/03_route_handler/07_compilation_warning.t ......... ok
t/03_route_handler/08_errors.t ...................... ok
t/03_route_handler/12_response.t .................... ok
t/03_route_handler/12_response_halt.t ............... ok
t/03_route_handler/14_options.t ..................... ok
t/03_route_handler/15_prefix.t ...................... ok
t/03_route_handler/16_caching.t ..................... ok
t/03_route_handler/16_embedded_prefixes.t ........... ok
t/03_route_handler/18_auto_page.t ................... ok
t/03_route_handler/21_ajax.t ........................ ok
t/03_route_handler/23_filter_error_catching.t ....... ok
t/03_route_handler/24_multiple_params.t ............. ok
t/03_route_handler/24_named_captures.t .............. ok
t/03_route_handler/28_plack_mount.t ................. ok
t/03_route_handler/29_forward.t ..................... ok
t/03_route_handler/29_redirect_immediately.t ........ ok
t/03_route_handler/30_forward_session.t ............. ok
t/03_route_handler/31_infinite_loop.t ............... ok
t/03_route_handler/33_vars.t ........................ ok
t/03_route_handler/34_forward_body_post.t ........... ok
t/03_route_handler/35_no_further_routes.t ........... ok
t/03_route_handler/36_false_routes.t ................ ok
t/03_route_handler/99_bugs.t ........................ ok
t/04_static_file/001_base.t ......................... ok
t/04_static_file/003_mime_types_reinit.t ............ ok
t/04_static_file/01_mime_types.t .................... ok
t/04_static_file/02_dir_traversal.t ................. ok
t/05_views/002_view_rendering.t ..................... ok
t/05_views/03_layout.t .............................. ok
t/06_helpers/000_create_fake_env.t .................. ok
t/06_helpers/01_send_file.t ......................... ok
t/06_helpers/02_http_status.t ....................... ok
t/06_helpers/03_content_type.t ...................... ok
t/06_helpers/04_status.t ............................ ok
t/06_helpers/05_send_error.t ........................ ok
t/06_helpers/06_load.t .............................. ok
t/07_apphandlers/000_create_fake_env.t .............. ok
t/07_apphandlers/01_base.t .......................... ok
t/07_apphandlers/02_apache2_plack.t ................. ok
t/07_apphandlers/03_psgi_app.t ...................... ok
t/07_apphandlers/04_standalone_app.t ................ ok
t/07_apphandlers/05_middlewares.t ................... ok
t/07_apphandlers/05_psgi_api.t ...................... ok
t/07_apphandlers/06_debug.t ......................... skipped: Test::Output is needed for this test
t/07_apphandlers/07_middleware_map.t ................ ok
t/07_apphandlers/08_is_text.t ....................... ok
t/08_session/000_create_fake_env.t .................. ok
t/08_session/01_load.t .............................. ok
Use of uninitialized value in subroutine entry at /home/cpan/pit/bare-ld/conf/perl-5.26.1/.cpanplus/5.26.1/build/Yj7ZcceDki/Dancer-1.3512/blib/lib/Dancer/FileUtils.pm line 32.
t/08_session/02_dependency_check.t .................. ok
t/08_session/03_http_requests.t ..................... ok
t/08_session/04_api.t ............................... ok
t/08_session/05_yaml.t .............................. ok
t/08_session/06_abstract.t .......................... ok
t/08_session/07_session_expires.t ................... ok
t/08_session/08_simple.t ............................ ok
t/08_session/09_session.t ........................... ok
t/08_session/10_filter.t ............................ ok
t/08_session/11_session_secure.t .................... ok
t/08_session/12_session_name.t ...................... ok
t/08_session/13_session_httponly.t .................. ok
t/08_session/14_session_domain.t .................... ok
t/09_cookies/000_create_fake_env.t .................. ok
t/09_cookies/01_use.t ............................... ok
t/09_cookies/02_cookie_object.t ..................... ok
t/09_cookies/03_persistence.t ....................... ok
t/09_cookies/04_secure.t ............................ ok
t/09_cookies/05_api.t ............................... ok
t/09_cookies/06_expires.t ........................... ok
t/10_template/000_create_fake_env.t ................. ok
t/10_template/01_factory.t .......................... ok
t/10_template/02_abstract_class.t ................... ok
t/10_template/03_simple.t ........................... ok
t/10_template/05_template_toolkit.t ................. ok
t/10_template/05_template_toolkit_fromdata.t ........ skipped: module Template::Provider::FromDATA required
t/10_template/extension.t ........................... ok
t/10_template/template.t ............................ ok
t/11_logger/000_create_fake_env.t ................... ok
t/11_logger/01_abstract.t ........................... ok
t/11_logger/02_factory.t ............................ ok
t/11_logger/03_file.t ............................... ok
t/11_logger/04_console.t ............................ skipped: Test::Output is needed for this test
t/11_logger/05_format.t ............................. ok
t/11_logger/06_null.t ............................... ok
t/11_logger/07_diag.t ............................... ok
t/11_logger/08_serialize.t .......................... skipped: Test::Output is needed for this test
t/11_logger/09_capture.t ............................ ok
t/11_logger/10_note.t ............................... ok
t/11_logger/11_runtime_file.t ....................... ok
t/11_logger/unicode.t ............................... ok
t/12_response/000_create_fake_env.t ................. ok
t/12_response/01_CRLF_injection.t ................... ok
t/12_response/02_headers.t .......................... ok
t/12_response/03_charset.t .......................... ok
Wide character in print at /home/cpan/pit/jail/N2oRGhr_rI/lib/perl5/HTTP/Server/Simple/PSGI.pm line 132, <DATA> line 16.
Wide character in print at /home/cpan/pit/jail/N2oRGhr_rI/lib/perl5/HTTP/Server/Simple/PSGI.pm line 132, <DATA> line 16.
t/12_response/04_charset_server.t ................... ok
t/12_response/05_api.t .............................. ok
t/12_response/06_filter_halt_status.t ............... ok
t/12_response/07_cookies.t .......................... ok
t/12_response/08_drop_content.t ..................... ok
t/12_response/09_headers_to_array.t ................. ok
Data exceeding 100 levels, truncating
t/12_response/10_error_dumper.t ..................... ok
Devel::Hide hides Clone.pm
t/12_response/10_error_dumper_without_clone.t ....... ok
t/12_response/11_CVE-2012-5572.t .................... ok
t/13_engines/00_load.t .............................. ok
t/13_engines/02_template_init.t ..................... ok
t/14_serializer/01_helpers.t ........................ ok
t/14_serializer/02_request_json.t ................... ok
t/14_serializer/03_request_yaml.t ................... ok
t/14_serializer/04_request_xml.t .................... ok
t/14_serializer/05_request_mutable.t ................ ok
t/14_serializer/06_api.t ............................ ok
t/14_serializer/07_request_jsonp.t .................. ok
t/14_serializer/17_clear_serializer.t ............... ok
t/14_serializer/18_mutable_template_or_serialize.t .. ok
t/14_serializer/99_bugs.t ........................... ok
t/15_plugins/000_create_fake_env.t .................. ok
t/15_plugins/01_register.t .......................... ok
t/15_plugins/02_config.t ............................ ok
t/15_plugins/03_namespace.t ......................... ok
t/15_plugins/04_apps_and_plugins.t .................. ok
t/15_plugins/05_keywords.t .......................... ok
t/15_plugins/05_plugins_and_OO.t .................... ok
t/15_plugins/05b_plugins_and_c3.t ................... ok
t/15_plugins/06_hook.t .............................. ok
t/15_plugins/07_ajax_plack_builder.t ................ ok
t/16_timer/00_base.t ................................ ok
t/17_apps/000_create_fake_env.t ..................... ok
t/17_apps/00_base.t ................................. ok
t/17_apps/01_settings.t ............................. ok
t/17_apps/02_load_app.t ............................. ok
t/17_apps/03_prefix.t ............................... ok
t/17_apps/05_api.t .................................. ok
t/19_dancer/01_script.t ............................. ok
t/19_dancer/02_script_version_from.t ................ ok
t/20_deprecation/01_api.t ........................... ok
t/21_dependents/Dancer-Session-Cookie.t ............. skipped: Dancer::Session::Cookie 0.14 required
t/22_hooks/00_syntax.t .............................. ok
t/22_hooks/01_api.t ................................. ok
t/22_hooks/02_before.t .............................. ok
t/22_hooks/03_after.t ............................... ok
t/22_hooks/04_template.t ............................ ok
t/22_hooks/05_layout.t .............................. ok
t/22_hooks/06_serializer.t .......................... ok
t/22_hooks/07_file.t ................................ ok
t/22_hooks/08_error.t ............................... ok
t/22_hooks/09_before_error_init.t ................... ok
t/22_hooks/10_error_in_hook.t ....................... ok
t/22_hooks/11_error_in_hook.t ....................... ok
t/23_dancer_tests/01_basic.t ........................ ok
t/23_dancer_tests/02_tests_functions.t .............. ok
t/23_dancer_tests/03_uris.t ......................... ok
t/24_deployment/01_multi_webapp.t ................... ok
t/25_exceptions/01_exceptions.t ..................... ok
t/25_exceptions/02_exceptions.t ..................... ok
t/25_exceptions/03_exceptions.t ..................... ok
t/25_exceptions/04_exceptions_warn.t ................ ok
t/author-pod-syntax.t ............................... skipped: these tests are for testing by the author
t/pod.t ............................................. skipped: Author tests not required for installation
t/release-distmeta.t ................................ skipped: these tests are for release candidate testing
All tests successful.
Files=222, Tests=2136, 36 wallclock secs ( 0.53 usr  0.15 sys + 30.53 cusr  3.89 csys = 35.10 CPU)
Result: PASS


PREREQUISITES:

Here is a list of prerequisites you specified and versions we
managed to load:

	  Module Name                        Have     Want
	  Carp                               1.42        0
	  Cwd                                3.75        0
	  Data::Dump                         1.23        0
	  Data::Dumper                      2.167        0
	  Devel::Hide                      0.0010        0
	  Digest::MD5                        2.55        0
	  Encode                             2.88        0
	  Exporter                           5.72        0
	  ExtUtils::MakeMaker                7.38        0
	  Fcntl                              1.13        0
	  File::Basename                     2.85        0
	  File::Copy                         2.32        0
	  File::Path                         2.16        0
	  File::Spec                         3.75        0
	  File::Spec::Functions              3.75        0
	  File::Temp                       0.2309        0
	  File::stat                         1.07        0
	  FindBin                            1.51        0
	  Getopt::Long                       2.49        0
	  HTTP::Body                         1.22        0
	  HTTP::CookieJar                   0.008    0.008
	  HTTP::Date                         6.02        0
	  HTTP::Headers                      6.18        0
	  HTTP::Request                      6.18        0
	  HTTP::Server::Simple::PSGI         0.16        0
	  HTTP::Tiny                        0.070    0.014
	  Hash::Merge::Simple               0.051        0
	  IO::File                           1.16        0
	  IO::Handle                         1.36        0
	  IO::Socket::INET                   1.35        0
	  IPC::Open3                         1.20        0
	  JSON                               4.02     2.90
	  MIME::Types                        2.17        0
	  Module::Runtime                   0.016        0
	  POSIX                              1.76        0
	  Plack::Builder                        0        0
	  Pod::Usage                         1.69        0
	  Scalar::Util                    1.46_02        0
	  Test::Builder                  1.302168        0
	  Test::More                     1.302168        0
	  Test::NoWarnings                   1.04        0
	  Time::HiRes                      1.9741        0
	  Try::Tiny                          0.30        0
	  URI                                1.76        0
	  URI::Escape                        3.31        0
	  base                               2.26        0
	  blib                               1.06     1.01
	  bytes                              1.05        0
	  constant                           1.33        0
	  lib                                0.64        0
	  overload                           1.28        0
	  parent                            0.236        0
	  strict                             1.11        0
	  utf8                               1.19        0
	  vars                               1.03        0
	  warnings                           1.37        0

Perl module toolchain versions installed:
	Module Name                        Have
	CPANPLUS                         0.9178
	CPANPLUS::Dist::Build              0.90
	Cwd                                3.75
	ExtUtils::CBuilder             0.280231
	ExtUtils::Command                  7.38
	ExtUtils::Install                  2.14
	ExtUtils::MakeMaker                7.38
	ExtUtils::Manifest                 1.72
	ExtUtils::ParseXS                  3.35
	File::Spec                         3.75
	Module::Build                    0.4229
	Pod::Parser                        1.63
	Pod::Simple                        3.35
	Test2                          1.302168
	Test::Harness                      3.42
	Test::More                     1.302168
	version                          0.9924

******************************** NOTE ********************************
The comments above are created mechanically, possibly without manual
checking by the sender.  As there are many people performing automatic
tests on each upload to CPAN, it is likely that you will receive
identical messages about the same problem.

If you believe that the message is mistaken, please reply to the first
one with correction and/or additional informations, and do not take
it personally.  We appreciate your patience. :)
**********************************************************************

Additional comments:


This report was machine-generated by CPANPLUS::Dist::YACSmoke 1.08.
Powered by minismokebox version 0.68

CPANPLUS is prefering Build.PL

------------------------------
ENVIRONMENT AND OTHER CONTEXT
------------------------------

Environment variables:

    AUTOMATED_TESTING = 1
    LANG = en_GB.UTF-8
    LANGUAGE = en_GB:en
    NONINTERACTIVE_TESTING = 1
    PATH = /home/cpan/pit/bare-ld/conf/perl-5.26.1/.cpanplus/5.26.1/build/Yj7ZcceDki/Dancer-1.3512/blib/script:/usr/local/sbin:/usr/local/bin:/usr/sbin:/usr/bin:/sbin:/bin:/usr/games:/usr/local/games:/snap/bin
    PERL5LIB = /home/cpan/pit/jail/N2oRGhr_rI/lib/perl5:/home/cpan/pit/bare-ld/conf/perl-5.26.1/.cpanplus/5.26.1/build/Yj7ZcceDki/Dancer-1.3512/blib/lib:/home/cpan/pit/bare-ld/conf/perl-5.26.1/.cpanplus/5.26.1/build/Yj7ZcceDki/Dancer-1.3512/blib/arch
    PERL5_CPANPLUS_IS_RUNNING = 29004
    PERL5_CPANPLUS_IS_VERSION = 0.9178
    PERL5_MINISMOKEBOX = 0.68
    PERL5_YACSMOKE_BASE = /home/cpan/pit/bare-ld/conf/perl-5.26.1
    PERL_EXTUTILS_AUTOINSTALL = --defaultdeps
    PERL_LOCAL_LIB_ROOT = /home/cpan/pit/jail/N2oRGhr_rI
    PERL_MB_OPT = --install_base "/home/cpan/pit/jail/N2oRGhr_rI"
    PERL_MM_OPT = INSTALL_BASE=/home/cpan/pit/jail/N2oRGhr_rI
    PERL_MM_USE_DEFAULT = 1
    SHELL = /bin/bash
    TERM = screen

Perl special variables (and OS-specific diagnostics, for MSWin32):

    Perl: $^X = /home/cpan/pit/bare-ld/perl-5.26.1/bin/perl
    UID:  $<  = 1001
    EUID: $>  = 1001
    GID:  $(  = 1001 1001
    EGID: $)  = 1001 1001


-------------------------------


--

Summary of my perl5 (revision 5 version 26 subversion 1) configuration:
   
  Platform:
    osname=linux
    osvers=4.15.0-58-generic
    archname=x86_64-linux-ld
    uname='linux uchder 4.15.0-58-generic #64-ubuntu smp tue aug 6 11:12:41 utc 2019 x86_64 x86_64 x86_64 gnulinux '
    config_args='-des -Dprefix=/home/cpan/pit/bare-ld/perl-5.26.1 -Duselongdouble'
    hint=recommended
    useposix=true
    d_sigaction=define
    useithreads=undef
    usemultiplicity=undef
    use64bitint=define
    use64bitall=define
    uselongdouble=define
    usemymalloc=n
    default_inc_excludes_dot=define
    bincompat5005=undef
  Compiler:
    cc='cc'
    ccflags ='-fwrapv -fno-strict-aliasing -pipe -fstack-protector-strong -I/usr/local/include -D_LARGEFILE_SOURCE -D_FILE_OFFSET_BITS=64'
    optimize='-O2'
    cppflags='-fwrapv -fno-strict-aliasing -pipe -fstack-protector-strong -I/usr/local/include'
    ccversion=''
    gccversion='7.4.0'
    gccosandvers=''
    intsize=4
    longsize=8
    ptrsize=8
    doublesize=8
    byteorder=12345678
    doublekind=3
    d_longlong=define
    longlongsize=8
    d_longdbl=define
    longdblsize=16
    longdblkind=3
    ivtype='long'
    ivsize=8
    nvtype='long double'
    nvsize=16
    Off_t='off_t'
    lseeksize=8
    alignbytes=16
    prototype=define
  Linker and Libraries:
    ld='cc'
    ldflags =' -fstack-protector-strong -L/usr/local/lib'
    libpth=/usr/local/lib /usr/lib/gcc/x86_64-linux-gnu/7/include-fixed /usr/include/x86_64-linux-gnu /usr/lib /lib/x86_64-linux-gnu /lib/../lib /usr/lib/x86_64-linux-gnu /usr/lib/../lib /lib
    libs=-lpthread -lnsl -lgdbm -ldl -lm -lcrypt -lutil -lc
    perllibs=-lpthread -lnsl -ldl -lm -lcrypt -lutil -lc
    libc=libc-2.27.so
    so=so
    useshrplib=false
    libperl=libperl.a
    gnulibc_version='2.27'
  Dynamic Linking:
    dlsrc=dl_dlopen.xs
    dlext=so
    d_dlsymun=undef
    ccdlflags='-Wl,-E'
    cccdlflags='-fPIC'
    lddlflags='-shared -O2 -L/usr/local/lib -fstack-protector-strong'


Characteristics of this binary (from libperl): 
  Compile-time options:
    HAS_TIMES
    PERLIO_LAYERS
    PERL_COPY_ON_WRITE
    PERL_DONT_CREATE_GVSV
    PERL_MALLOC_WRAP
    PERL_OP_PARENT
    PERL_PRESERVE_IVUV
    USE_64_BIT_ALL
    USE_64_BIT_INT
    USE_LARGE_FILES
    USE_LOCALE
    USE_LOCALE_COLLATE
    USE_LOCALE_CTYPE
    USE_LOCALE_NUMERIC
    USE_LOCALE_TIME
    USE_LONG_DOUBLE
    USE_PERLIO
    USE_PERL_ATOF
  Locally applied patches:
    Devel::PatchPerl 1.64
  Built under linux
  Compiled at Aug 13 2019 20:28:09
  %ENV:
    PERL5LIB="/home/cpan/pit/jail/N2oRGhr_rI/lib/perl5:/home/cpan/pit/bare-ld/conf/perl-5.26.1/.cpanplus/5.26.1/build/Yj7ZcceDki/Dancer-1.3512/blib/lib:/home/cpan/pit/bare-ld/conf/perl-5.26.1/.cpanplus/5.26.1/build/Yj7ZcceDki/Dancer-1.3512/blib/arch"
    PERL5_CPANPLUS_IS_RUNNING="29004"
    PERL5_CPANPLUS_IS_VERSION="0.9178"
    PERL5_MINISMOKEBOX="0.68"
    PERL5_YACSMOKE_BASE="/home/cpan/pit/bare-ld/conf/perl-5.26.1"
    PERL_EXTUTILS_AUTOINSTALL="--defaultdeps"
    PERL_LOCAL_LIB_ROOT="/home/cpan/pit/jail/N2oRGhr_rI"
    PERL_MB_OPT="--install_base "/home/cpan/pit/jail/N2oRGhr_rI""
    PERL_MM_OPT="INSTALL_BASE=/home/cpan/pit/jail/N2oRGhr_rI"
    PERL_MM_USE_DEFAULT="1"
  @INC:
    /home/cpan/pit/jail/N2oRGhr_rI/lib/perl5/5.26.1/x86_64-linux-ld
    /home/cpan/pit/jail/N2oRGhr_rI/lib/perl5/5.26.1
    /home/cpan/pit/jail/N2oRGhr_rI/lib/perl5/x86_64-linux-ld
    /home/cpan/pit/jail/N2oRGhr_rI/lib/perl5
    /home/cpan/pit/bare-ld/conf/perl-5.26.1/.cpanplus/5.26.1/build/Yj7ZcceDki/Dancer-1.3512/blib/lib
    /home/cpan/pit/bare-ld/conf/perl-5.26.1/.cpanplus/5.26.1/build/Yj7ZcceDki/Dancer-1.3512/blib/arch
    /home/cpan/pit/bare-ld/perl-5.26.1/lib/site_perl/5.26.1/x86_64-linux-ld
    /home/cpan/pit/bare-ld/perl-5.26.1/lib/site_perl/5.26.1
    /home/cpan/pit/bare-ld/perl-5.26.1/lib/5.26.1/x86_64-linux-ld
    /home/cpan/pit/bare-ld/perl-5.26.1/lib/5.26.1