Net-SSH-Perl v2.14 Perl 5 v5.18.1 darwin-2level

Status
Pass
From
Neil Bowers
Dist
Net-SSH-Perl v2.14
Platform
Perl 5 v5.18.1 darwin-2level
Date
2021-09-24 19:44:56
ID
e51a0ac6-1d6f-11ec-b97c-98e946aa91a4
This distribution has been tested as part of the CPAN Testers
project, supporting the Perl programming language.  See
http://wiki.cpantesters.org/ for more information or email
questions to cpan-testers-discuss@perl.org


--
Dear Steffen Schwigon,

This is a computer-generated report for Net-SSH-Perl-2.14
on perl 5.18.1, created by CPAN-Reporter-1.2018.

Thank you for uploading your work to CPAN.  Congratulations!
All tests were successful.

Sections of this report:

    * Tester comments
    * Program output
    * Prerequisites
    * Environment and other context

------------------------------
TESTER COMMENTS
------------------------------

Additional comments from tester:

none provided

------------------------------
PROGRAM OUTPUT
------------------------------

Output from '/usr/bin/make test':

"/usr/local/perl/5181/bin/perl" -MExtUtils::Command::MM -e 'cp_nonempty' -- Perl.bs blib/arch/auto/Net/SSH/Perl/Perl.bs 644
PERL_DL_NONLAZY=1 "/usr/local/perl/5181/bin/perl" "-MExtUtils::Command::MM" "-MTest::Harness" "-e" "undef *Test::Harness::Switches; test_harness(0, 'blib/lib', 'blib/arch')" t/*.t
t/00-signature.t ... skipped: Set the environment variable TEST_SIGNATURE to enable this test
t/01-compile.t ..... ok
t/02-buffer.t ...... ok
t/03-packet.t ...... skipped: Cannot test protocol 1 packets without Math::GMP
t/04-config.t ...... ok
t/05-cipher.t ...... ok
t/06-auth.t ........ skipped: Test not enabled yet
t/06-circular.t .... ok
t/07-ed25519.t ..... ok
t/99-perlcritic.t .. skipped: Set the environment variable TEST_CRITIC to enable this test
t/99-pod.t ......... skipped: Test not ready yet.
t/99-spellcheck.t .. skipped: Set the environment variable TEST_SPELL to enable this test
t/99-yaml.t ........ skipped: Set the environment variable TEST_AUTHOR to enable this test
All tests successful.
Files=13, Tests=147,  1 wallclock secs ( 0.04 usr  0.02 sys +  0.81 cusr  0.17 csys =  1.04 CPU)
Result: PASS

------------------------------
PREREQUISITES
------------------------------

Prerequisite modules loaded:

requires:

    Module               Need  Have 
    -------------------- ----- -----
    Crypt::Curve25519    0.05  0.06 
    Crypt::IDEA          0     1.10 
    CryptX               0.032 0.073
    Digest::BubbleBabble 0.01  0.02 
    Digest::MD5          0     2.58 
    File::HomeDir        0     1.00 
    File::Spec           0     3.75 
    IO::Socket           0     1.48 
  ! Math::GMP            1.04  n/a  
    Scalar::Util         0     1.59 
    String::CRC32        1.2   2.100

build_requires:

    Module               Need  Have 
    -------------------- ----- -----
    ExtUtils::MakeMaker  0     7.62 


------------------------------
ENVIRONMENT AND OTHER CONTEXT
------------------------------

Environment variables:

    PATH = /usr/local/apache/bin:/usr/local/bin:/opt/local/bin:/usr/local/bin:/usr/bin:/bin:/usr/sbin:/sbin:/Applications/VMware Fusion.app/Contents/Public:/usr/local/go/bin:/opt/X11/bin:/usr/local/git/bin
    PERL5LIB = 
    PERL5OPT = 
    PERL5_CPANPLUS_IS_RUNNING = 40898
    PERL5_CPAN_IS_RUNNING = 40898
    SHELL = /bin/sh
    TERM = xterm

Perl special variables (and OS-specific diagnostics, for MSWin32):

    $^X = /usr/local/perl/5181/bin/perl
    $UID/$EUID = 0 / 0
    $GID = 0 0 1 2 3 4 5 8 9 12 20 29 61 80 701 702 33
    $EGID = 0 0 1 2 3 4 5 8 9 12 20 29 61 80 701 702 33

Perl module toolchain versions installed:

    Module              Have    
    ------------------- --------
    CPAN                2.05    
    CPAN::Meta          2.150010
    Cwd                 3.75    
    ExtUtils::CBuilder  0.280236
    ExtUtils::Command   7.62    
    ExtUtils::Install   2.06    
    ExtUtils::MakeMaker 7.62    
    ExtUtils::Manifest  1.70    
    ExtUtils::ParseXS   3.35    
    File::Spec          3.75    
    JSON                4.03    
    JSON::PP            4.06    
    Module::Build       0.4231  
    Module::Signature   n/a     
    Parse::CPAN::Meta   2.150010
    Test::Harness       3.42    
    Test::More          1.302187
    YAML                1.30    
    YAML::Syck          n/a     
    version             0.9929  


--

Summary of my perl5 (revision 5 version 18 subversion 1) configuration:
   
  Platform:
    osname=darwin, osvers=12.5.0, archname=darwin-2level
    uname='darwin tucumcari.home 12.5.0 darwin kernel version 12.5.0: sun sep 29 13:33:47 pdt 2013; root:xnu-2050.48.12~1release_x86_64 x86_64 '
    config_args='-Dprefix=/usr/local/perl/5181'
    hint=recommended, useposix=true, d_sigaction=define
    useithreads=undef, usemultiplicity=undef
    useperlio=define, d_sfio=undef, uselargefiles=define, usesocks=undef
    use64bitint=define, use64bitall=define, uselongdouble=undef
    usemymalloc=n, bincompat5005=undef
  Compiler:
    cc='gcc', ccflags ='-fno-common -DPERL_DARWIN -fno-strict-aliasing -pipe -fstack-protector -I/usr/local/include -I/opt/local/include',
    optimize='-O3',
    cppflags='-fno-common -DPERL_DARWIN -fno-strict-aliasing -pipe -fstack-protector -I/usr/local/include -I/opt/local/include'
    ccversion='', gccversion='4.2.1 (Based on Apple Inc. build 5658) (LLVM build 2336.11.00)', gccosandvers=''
    intsize=4, longsize=8, ptrsize=8, doublesize=8, byteorder=12345678
    d_longlong=define, longlongsize=8, d_longdbl=define, longdblsize=16
    ivtype='long', ivsize=8, nvtype='double', nvsize=8, Off_t='off_t', lseeksize=8
    alignbytes=8, prototype=define
  Linker and Libraries:
    ld='env MACOSX_DEPLOYMENT_TARGET=10.3 gcc', ldflags =' -fstack-protector -L/usr/local/lib -L/opt/local/lib'
    libpth=/usr/local/lib /opt/local/lib /usr/lib
    libs=-lgdbm -ldbm -ldl -lm -lutil -lc
    perllibs=-ldl -lm -lutil -lc
    libc=, so=dylib, useshrplib=false, libperl=libperl.a
    gnulibc_version=''
  Dynamic Linking:
    dlsrc=dl_dlopen.xs, dlext=bundle, d_dlsymun=undef, ccdlflags=' '
    cccdlflags=' ', lddlflags=' -bundle -undefined dynamic_lookup -L/usr/local/lib -L/opt/local/lib -fstack-protector'


Characteristics of this binary (from libperl): 
  Compile-time options: HAS_TIMES PERLIO_LAYERS PERL_DONT_CREATE_GVSV
                        PERL_HASH_FUNC_ONE_AT_A_TIME_HARD PERL_MALLOC_WRAP
                        PERL_PRESERVE_IVUV PERL_SAWAMPERSAND USE_64_BIT_ALL
                        USE_64_BIT_INT USE_LARGE_FILES USE_LOCALE
                        USE_LOCALE_COLLATE USE_LOCALE_CTYPE
                        USE_LOCALE_NUMERIC USE_PERLIO USE_PERL_ATOF
  Built under darwin
  Compiled at Jun  8 2014 13:51:35
  %ENV:
    PERL5LIB=""
    PERL5OPT=""
    PERL5_CPANPLUS_IS_RUNNING="40898"
    PERL5_CPAN_IS_RUNNING="40898"
  @INC:
    /usr/local/perl/5181/lib/site_perl/5.18.1/darwin-2level
    /usr/local/perl/5181/lib/site_perl/5.18.1
    /usr/local/perl/5181/lib/5.18.1/darwin-2level
    /usr/local/perl/5181/lib/5.18.1
    .