Module-Metadata v1.000037 Perl 5 v5.28.2 i686-linux-multi
- Status
- Pass
- From
- Nigel Horne
- Dist
-
Module-Metadata v1.000037
- Platform
- Perl 5 v5.28.2 i686-linux-multi
- Date
- 2020-02-17 21:10:16
- ID
- e517ce8c-51c9-11ea-81c3-df7a5855e463
This distribution has been tested as part of the CPAN Testers
project, supporting the Perl programming language. See
http://wiki.cpantesters.org/ for more information or email
questions to cpan-testers-discuss@perl.org
--
Dear Karen Etheridge,
This is a computer-generated report for Module-Metadata-1.000037
on perl 5.28.2, created by CPAN-Reporter-1.2018.
Thank you for uploading your work to CPAN. Congratulations!
All tests were successful.
Sections of this report:
* Tester comments
* Program output
* Prerequisites
* Environment and other context
------------------------------
TESTER COMMENTS
------------------------------
Additional comments from tester:
none provided
------------------------------
PROGRAM OUTPUT
------------------------------
Output from '/usr/bin/make test':
PERL_DL_NONLAZY=1 "/home/njh/perl5/perlbrew/perls/perl-5.28.2-multi/bin/perl5.28.2" "-MExtUtils::Command::MM" "-MTest::Harness" "-e" "undef *Test::Harness::Switches; test_harness(0, 'blib/lib', 'blib/arch')" t/*.t
t/contains_pod.t ....... ok
t/encoding.t ........... ok
#
# Versions for all modules listed in MYMETA.json (including optional ones):
#
# === Configure Requires ===
#
# Module Want Have
# ------------------- ---- ----
# ExtUtils::MakeMaker any 7.44
#
# === Build Requires ===
#
# Module Want Have
# ------------------- ---- ----
# ExtUtils::MakeMaker any 7.44
#
# === Test Requires ===
#
# Module Want Have
# ------------------- ---- --------
# Cwd any 3.74
# ExtUtils::MakeMaker any 7.44
# File::Basename any 2.85
# File::Path any 2.16
# File::Spec any 3.74
# File::Temp any 0.2309
# IO::File any 1.41
# Test::More 0.88 1.302133
# lib any 0.64
#
# === Test Recommends ===
#
# Module Want Have
# ---------- -------- --------
# CPAN::Meta 2.120900 2.150010
#
# === Runtime Requires ===
#
# Module Want Have
# ---------- ---- ------
# Carp any 1.50
# Encode any 3.02
# Fcntl any 1.13
# File::Find any 1.34
# File::Spec any 3.74
# strict any 1.11
# version 0.87 0.9923
# warnings any 1.42
#
# === Other Modules ===
#
# Module Have
# --------------- -------
# Encode 3.02
# File::Temp 0.2309
# JSON::PP 4.04
# Module::Runtime missing
# Pod::Coverage 0.23
# Sub::Name missing
# YAML missing
# autodie 2.29
#
t/00-report-prereqs.t .. ok
t/endpod.t ............. ok
t/extract-package.t .... ok
t/extract-version.t .... ok
t/metadata.t ........... ok
t/taint.t .............. ok
t/version.t ............ ok
All tests successful.
Files=9, Tests=350, 2 wallclock secs ( 0.16 usr 0.03 sys + 2.15 cusr 0.27 csys = 2.61 CPU)
Result: PASS
------------------------------
PREREQUISITES
------------------------------
Prerequisite modules loaded:
requires:
Module Need Have
------------------- ----- --------
Carp 0 1.50
Encode 0 3.02
Fcntl 0 1.13
File::Find 0 1.34
File::Spec 0 3.74
perl 5.006 5.028002
strict 0 1.11
version 0.87 0.9923
warnings 0 1.42
build_requires:
Module Need Have
------------------- ----- --------
Cwd 0 3.74
ExtUtils::MakeMaker 0 7.44
File::Basename 0 2.85
File::Path 0 2.16
File::Spec 0 3.74
File::Temp 0 0.2309
IO::File 0 1.41
lib 0 0.64
Test::More 0.88 1.302133
configure_requires:
Module Need Have
------------------- ----- --------
ExtUtils::MakeMaker 0 7.44
perl 5.006 5.028002
------------------------------
ENVIRONMENT AND OTHER CONTEXT
------------------------------
Environment variables:
HARNESS_OPTIONS = c:j2
LANG = en_GB.UTF-8
LANGUAGE = en_GB:en
PATH = /home/njh/perl5/perlbrew/bin:/home/njh/perl5/perlbrew/perls/perl-5.28.2-multi/bin:/home/njh/perl5/perlbrew/bin:/usr/bin:/bin
PERL5LIB =
PERL5OPT =
PERL5_CPANPLUS_IS_RUNNING = 16580
PERL5_CPAN_IS_RUNNING = 16580
PERLBREW_HOME = /home/njh/.perlbrew
PERLBREW_LIB =
PERLBREW_MANPATH = /home/njh/perl5/perlbrew/perls/perl-5.28.2-multi/man
PERLBREW_PATH = /home/njh/perl5/perlbrew/bin:/home/njh/perl5/perlbrew/perls/perl-5.28.2-multi/bin
PERLBREW_PERL = perl-5.28.2-multi
PERLBREW_ROOT = /home/njh/perl5/perlbrew
PERLBREW_SHELLRC_VERSION = 0.86
PERLBREW_VERSION = 0.86
PERL_LOCAL_LIB_ROOT =
PERL_USE_UNSAFE_INC = 1
SHELL = /bin/sh
TEMP = /tmp/user/1000
TMPDIR = /tmp/user/1000
Perl special variables (and OS-specific diagnostics, for MSWin32):
$^X = /home/njh/perl5/perlbrew/perls/perl-5.28.2-multi/bin/perl5.28.2
$UID/$EUID = 1000 / 1000
$GID = 1000 4 24 25 29 30 44 46 103 107 108 1000
$EGID = 1000 4 24 25 29 30 44 46 103 107 108 1000
Perl module toolchain versions installed:
Module Have
------------------- --------
CPAN 2.27
CPAN::Meta 2.150010
Cwd 3.74
ExtUtils::CBuilder 0.280234
ExtUtils::Command 7.44
ExtUtils::Install 2.14
ExtUtils::MakeMaker 7.44
ExtUtils::Manifest 1.72
ExtUtils::ParseXS 3.39
File::Spec 3.74
JSON 4.02
JSON::PP 4.04
Module::Build 0.4231
Module::Signature n/a
Parse::CPAN::Meta 2.150010
Test::Harness 3.42
Test::More 1.302133
YAML n/a
YAML::Syck n/a
version 0.9923
--
Summary of my perl5 (revision 5 version 28 subversion 2) configuration:
Platform:
osname=linux
osvers=5.2.0-2-686-pae
archname=i686-linux-multi
uname='linux philips 5.2.0-2-686-pae #1 smp debian 5.2.7-1 (2019-08-07) i686 gnulinux '
config_args='-de -Dprefix=/home/njh/perl5/perlbrew/perls/perl-5.28.2-multi -Dusedevel -Dusemultiplicity -Accflags= -Aeval:scriptdir=/home/njh/perl5/perlbrew/perls/perl-5.28.2-multi/bin'
hint=recommended
useposix=true
d_sigaction=define
useithreads=undef
usemultiplicity=define
use64bitint=undef
use64bitall=undef
uselongdouble=undef
usemymalloc=n
default_inc_excludes_dot=define
bincompat5005=undef
Compiler:
cc='cc'
ccflags ='-fwrapv -fno-strict-aliasing -pipe -fstack-protector-strong -I/usr/local/include -D_LARGEFILE_SOURCE -D_FILE_OFFSET_BITS=64'
optimize='-O2'
cppflags='-fwrapv -fno-strict-aliasing -pipe -fstack-protector-strong -I/usr/local/include'
ccversion=''
gccversion='9.2.1 20191008'
gccosandvers=''
intsize=4
longsize=4
ptrsize=4
doublesize=8
byteorder=1234
doublekind=3
d_longlong=define
longlongsize=8
d_longdbl=define
longdblsize=12
longdblkind=3
ivtype='long'
ivsize=4
nvtype='double'
nvsize=8
Off_t='off_t'
lseeksize=8
alignbytes=4
prototype=define
Linker and Libraries:
ld='cc'
ldflags =' -fstack-protector-strong -L/usr/local/lib'
libpth=/usr/local/lib /usr/lib/gcc/i686-linux-gnu/9/include-fixed /usr/include/i386-linux-gnu /usr/lib /lib/i386-linux-gnu /lib/../lib /usr/lib/i386-linux-gnu /usr/lib/../lib /lib /lib64 /usr/lib64
libs=-lpthread -lnsl -lgdbm -ldb -ldl -lm -lcrypt -lutil -lc
perllibs=-lpthread -lnsl -ldl -lm -lcrypt -lutil -lc
libc=libc-2.29.so
so=so
useshrplib=false
libperl=libperl.a
gnulibc_version='2.29'
Dynamic Linking:
dlsrc=dl_dlopen.xs
dlext=so
d_dlsymun=undef
ccdlflags='-Wl,-E'
cccdlflags='-fPIC'
lddlflags='-shared -O2 -L/usr/local/lib -fstack-protector-strong'
Characteristics of this binary (from libperl):
Compile-time options:
HAS_TIMES
MULTIPLICITY
PERLIO_LAYERS
PERL_COPY_ON_WRITE
PERL_DONT_CREATE_GVSV
PERL_IMPLICIT_CONTEXT
PERL_MALLOC_WRAP
PERL_OP_PARENT
PERL_PRESERVE_IVUV
PERL_USE_DEVEL
USE_LARGE_FILES
USE_LOCALE
USE_LOCALE_COLLATE
USE_LOCALE_CTYPE
USE_LOCALE_NUMERIC
USE_LOCALE_TIME
USE_PERLIO
USE_PERL_ATOF
Built under linux
Compiled at Oct 19 2019 10:26:27
%ENV:
PERL5LIB=""
PERL5OPT=""
PERL5_CPANPLUS_IS_RUNNING="16580"
PERL5_CPAN_IS_RUNNING="16580"
PERLBREW_HOME="/home/njh/.perlbrew"
PERLBREW_LIB=""
PERLBREW_MANPATH="/home/njh/perl5/perlbrew/perls/perl-5.28.2-multi/man"
PERLBREW_PATH="/home/njh/perl5/perlbrew/bin:/home/njh/perl5/perlbrew/perls/perl-5.28.2-multi/bin"
PERLBREW_PERL="perl-5.28.2-multi"
PERLBREW_ROOT="/home/njh/perl5/perlbrew"
PERLBREW_SHELLRC_VERSION="0.86"
PERLBREW_VERSION="0.86"
PERL_LOCAL_LIB_ROOT=""
PERL_USE_UNSAFE_INC="1"
@INC:
/home/njh/perl5/perlbrew/perls/perl-5.28.2-multi/lib/site_perl/5.28.2/i686-linux-multi
/home/njh/perl5/perlbrew/perls/perl-5.28.2-multi/lib/site_perl/5.28.2
/home/njh/perl5/perlbrew/perls/perl-5.28.2-multi/lib/5.28.2/i686-linux-multi
/home/njh/perl5/perlbrew/perls/perl-5.28.2-multi/lib/5.28.2
.