Alien-automake v0.18 Perl 5 v5.28.3 darwin-thread-multi-2level

Status
Pass
From
aero
Dist
Alien-automake v0.18
Platform
Perl 5 v5.28.3 darwin-thread-multi-2level
Date
2022-08-12 00:15:39
ID
e5112b84-19d3-11ed-a8d3-a7ac11b87da9
This distribution has been tested as part of the CPAN Testers
project, supporting the Perl programming language.  See
http://wiki.cpantesters.org/ for more information or email
questions to cpan-testers-discuss@perl.org


--
Dear Graham Ollis,

This is a computer-generated report for Alien-automake-0.18
on perl 5.28.3, created by CPAN-Reporter-1.2018.

Thank you for uploading your work to CPAN.  Congratulations!
All tests were successful.

Sections of this report:

    * Tester comments
    * Program output
    * Prerequisites
    * Environment and other context

------------------------------
TESTER COMMENTS
------------------------------

Additional comments from tester:

none provided

------------------------------
PROGRAM OUTPUT
------------------------------

Output from '/usr/bin/make test':

"/Users/chadwick/CASE_SENSITIVE_FS/perl5/perlbrew/perls/perl-5.28/bin/perl" -MAlien::Build::MM=cmd -e test
PERL_DL_NONLAZY=1 "/Users/chadwick/CASE_SENSITIVE_FS/perl5/perlbrew/perls/perl-5.28/bin/perl" "-MExtUtils::Command::MM" "-MTest::Harness" "-e" "undef *Test::Harness::Switches; test_harness(0, 'blib/lib', 'blib/arch')" t/*.t
# 
# 
# 
# HARNESS_ACTIVE=1
# HARNESS_VERSION=3.44
# LANG=ko_KR.UTF-8
# LC_TERMINAL=iTerm2
# LC_TERMINAL_VERSION=3.4.16
# PERL5LIB=/Users/chadwick/.cpan/build/Alien-automake-0.18-0/blib/lib:/Users/chadwick/.cpan/build/Alien-automake-0.18-0/blib/arch:
# PERL5OPT=
# PERL5_CPANPLUS_IS_RUNNING=11002
# PERL5_CPAN_IS_RUNNING=11002
# PERLBREW_HOME=/Users/chadwick/.perlbrew
# PERLBREW_MANPATH=/Users/chadwick/perl5/perlbrew/perls/perl-5.28/man
# PERLBREW_PATH=/Users/chadwick/perl5/perlbrew/bin:/Users/chadwick/perl5/perlbrew/perls/perl-5.28/bin
# PERLBREW_PERL=perl-5.28
# PERLBREW_ROOT=/Users/chadwick/perl5/perlbrew
# PERLBREW_SHELLRC_VERSION=0.96
# PERLBREW_VERSION=0.96
# PERL_DL_NONLAZY=1
# PERL_MM_USE_DEFAULT=1
# PERL_USE_UNSAFE_INC=1
# SHELL=/usr/local/bin/bash
# 
# 
# 
# PERL5LIB path
# /Users/chadwick/.cpan/build/Alien-automake-0.18-0/blib/lib
# /Users/chadwick/.cpan/build/Alien-automake-0.18-0/blib/arch
# 
# 
# 
# perl                                  5.028003 darwin darwin-thread-multi-2level
# Alien::Base                           2.52
# Alien::Build                          2.52
# Alien::Build::MM                      2.52
# Alien::Build::Plugin::Build::Autoconf 2.52
# Alien::Build::Plugin::Build::MSYS     2.52
# Alien::autoconf                       0.18
# Env                                   1.04
# ExtUtils::MakeMaker                   7.64
# Test2::V0                             0.000145
# Test::Alien                           2.52
# Test::More                            1.302191
# 
# 
# 
t/00_diag.t ......... ok
t/01_use.t .......... ok
t/alien_automake.t .. ok
All tests successful.
Files=3, Tests=7,  1 wallclock secs ( 0.02 usr  0.01 sys +  0.49 cusr  0.09 csys =  0.61 CPU)
Result: PASS

------------------------------
PREREQUISITES
------------------------------

Prerequisite modules loaded:

requires:

    Module                                Need     Have    
    ------------------------------------- -------- --------
    Alien::Base                           0.038    2.52    
    Alien::Build                          0.25     2.52    
    perl                                  5.008001 5.028003

build_requires:

    Module                                Need     Have    
    ------------------------------------- -------- --------
    Alien::autoconf                       0.05     0.18    
    Alien::Build                          0.49     2.52    
    Alien::Build::MM                      0.32     2.52    
    Alien::Build::Plugin::Build::Autoconf 0.47     2.52    
    Alien::m4                             0.11     0.21    
    Archive::Tar                          0        2.40    
    Config                                0        5.028003
    Env                                   0        1.04    
    ExtUtils::MakeMaker                   6.52     7.64    
    HTTP::Tiny                            0.044    0.082   
    IO::Socket::SSL                       1.56     2.074   
    IO::Zlib                              0        1.11    
    Mojo::DOM58                           1.00     3.001   
    Net::SSLeay                           1.49     1.92    
    Path::Tiny                            0.077    0.122   
    Sort::Versions                        0        1.62    
    Test2::V0                             0.000121 0.000145
    Test::Alien                           2.52     2.52    
    Test::More                            0.98     1.302191
    URI                                   0        5.12    
    URI::Escape                           0        5.12    

configure_requires:

    Module                                Need     Have    
    ------------------------------------- -------- --------
    Alien::Build                          0.32     2.52    
    Alien::Build::MM                      0.32     2.52    
    Alien::Build::Plugin::Build::MSYS     0.84     2.52    
    ExtUtils::MakeMaker                   6.52     7.64    
    perl                                  5.008001 5.028003


------------------------------
ENVIRONMENT AND OTHER CONTEXT
------------------------------

Environment variables:

    LANG = ko_KR.UTF-8
    LC_TERMINAL = iTerm2
    LC_TERMINAL_VERSION = 3.4.16
    NONINTERACTIVE_TESTING = 1
    PATH = /Users/chadwick/.anyenv/envs/pyenv/shims:/Users/chadwick/.anyenv/envs/pyenv/bin:/Users/chadwick/.anyenv/envs/nodenv/shims:/Users/chadwick/.anyenv/envs/nodenv/bin:/Users/chadwick/.anyenv/envs/jenv/shims:/Users/chadwick/.anyenv/envs/jenv/bin:/Users/chadwick/.anyenv/envs/goenv/shims:/Users/chadwick/.anyenv/envs/goenv/bin:/Users/chadwick/.anyenv/bin:/Users/chadwick/.rakubrew/shims:/Users/chadwick/perl5/perlbrew/bin:/Users/chadwick/perl5/perlbrew/perls/perl-5.28/bin:/Users/chadwick/bin:/usr/local/opt/openssl/bin:/usr/local/sbin:/usr/local/bin:/usr/bin:/bin:/usr/sbin:/sbin:/opt/X11/bin:/Library/Apple/usr/bin
    PERL5LIB = 
    PERL5OPT = 
    PERL5_CPANPLUS_IS_RUNNING = 11002
    PERL5_CPAN_IS_RUNNING = 11002
    PERLBREW_HOME = /Users/chadwick/.perlbrew
    PERLBREW_MANPATH = /Users/chadwick/perl5/perlbrew/perls/perl-5.28/man
    PERLBREW_PATH = /Users/chadwick/perl5/perlbrew/bin:/Users/chadwick/perl5/perlbrew/perls/perl-5.28/bin
    PERLBREW_PERL = perl-5.28
    PERLBREW_ROOT = /Users/chadwick/perl5/perlbrew
    PERLBREW_SHELLRC_VERSION = 0.96
    PERLBREW_VERSION = 0.96
    PERL_MM_USE_DEFAULT = 1
    PERL_USE_UNSAFE_INC = 1
    SHELL = /usr/local/bin/bash
    TERM = xterm-256color
    TMPDIR = /var/folders/mw/pq9rk2250zb605jk5mqcj5g80000gq/T/

Perl special variables (and OS-specific diagnostics, for MSWin32):

    $^X = /Users/chadwick/CASE_SENSITIVE_FS/perl5/perlbrew/perls/perl-5.28/bin/perl
    $UID/$EUID = 503 / 503
    $GID = 20 20 12 61 79 80 81 98 399 33 100 204 250 395 400 701
    $EGID = 20 20 12 61 79 80 81 98 399 33 100 204 250 395 400 701

Perl module toolchain versions installed:

    Module              Have    
    ------------------- --------
    CPAN                2.34    
    CPAN::Meta          2.150010
    Cwd                 3.75    
    ExtUtils::CBuilder  0.280236
    ExtUtils::Command   7.64    
    ExtUtils::Install   2.20    
    ExtUtils::MakeMaker 7.64    
    ExtUtils::Manifest  1.73    
    ExtUtils::ParseXS   3.44    
    File::Spec          3.75    
    JSON                4.09    
    JSON::PP            4.11    
    Module::Build       0.4231  
    Module::Signature   n/a     
    Parse::CPAN::Meta   2.150010
    Test::Harness       3.44    
    Test::More          1.302191
    YAML                1.30    
    YAML::Syck          1.34    
    version             0.9929  


--

Summary of my perl5 (revision 5 version 28 subversion 3) configuration:
   
  Platform:
    osname=darwin
    osvers=19.5.0
    archname=darwin-thread-multi-2level
    uname='darwin chadwick-mac 19.5.0 darwin kernel version 19.5.0: thu apr 30 18:25:59 pdt 2020; root:xnu-6153.121.1~7release_x86_64 x86_64 '
    config_args='-de -Dprefix=/Users/chadwick/perl5/perlbrew/perls/perl-5.28 -Dman1dir=none -Dman3dir=none -Dusethreads -Aeval:scriptdir=/Users/chadwick/perl5/perlbrew/perls/perl-5.28/bin'
    hint=recommended
    useposix=true
    d_sigaction=define
    useithreads=define
    usemultiplicity=define
    use64bitint=define
    use64bitall=define
    uselongdouble=undef
    usemymalloc=n
    default_inc_excludes_dot=define
    bincompat5005=undef
  Compiler:
    cc='cc'
    ccflags ='-fno-common -DPERL_DARWIN -mmacosx-version-min=10.15 -fno-strict-aliasing -pipe -fstack-protector-strong -I/usr/local/include -DPERL_USE_SAFE_PUTENV'
    optimize='-O3'
    cppflags='-fno-common -DPERL_DARWIN -mmacosx-version-min=10.15 -fno-strict-aliasing -pipe -fstack-protector-strong -I/usr/local/include'
    ccversion=''
    gccversion='4.2.1 Compatible Apple LLVM 11.0.3 (clang-1103.0.32.62)'
    gccosandvers=''
    intsize=4
    longsize=8
    ptrsize=8
    doublesize=8
    byteorder=12345678
    doublekind=3
    d_longlong=define
    longlongsize=8
    d_longdbl=define
    longdblsize=16
    longdblkind=3
    ivtype='long'
    ivsize=8
    nvtype='double'
    nvsize=8
    Off_t='off_t'
    lseeksize=8
    alignbytes=8
    prototype=define
  Linker and Libraries:
    ld='cc'
    ldflags =' -mmacosx-version-min=10.15 -fstack-protector-strong -L/usr/local/lib'
    libpth=/usr/local/lib /Library/Developer/CommandLineTools/usr/lib/clang/11.0.3/lib /Library/Developer/CommandLineTools/SDKs/MacOSX.sdk/usr/lib /Library/Developer/CommandLineTools/usr/lib /usr/lib
    libs=-lpthread -lgdbm -ldbm -ldl -lm -lutil -lc
    perllibs=-lpthread -ldl -lm -lutil -lc
    libc=
    so=dylib
    useshrplib=false
    libperl=libperl.a
    gnulibc_version=''
  Dynamic Linking:
    dlsrc=dl_dlopen.xs
    dlext=bundle
    d_dlsymun=undef
    ccdlflags=' '
    cccdlflags=' '
    lddlflags=' -mmacosx-version-min=10.15 -bundle -undefined dynamic_lookup -L/usr/local/lib -fstack-protector-strong'


Characteristics of this binary (from libperl): 
  Compile-time options:
    HAS_TIMES
    MULTIPLICITY
    PERLIO_LAYERS
    PERL_COPY_ON_WRITE
    PERL_DONT_CREATE_GVSV
    PERL_IMPLICIT_CONTEXT
    PERL_MALLOC_WRAP
    PERL_OP_PARENT
    PERL_PRESERVE_IVUV
    PERL_USE_SAFE_PUTENV
    USE_64_BIT_ALL
    USE_64_BIT_INT
    USE_ITHREADS
    USE_LARGE_FILES
    USE_LOCALE
    USE_LOCALE_COLLATE
    USE_LOCALE_CTYPE
    USE_LOCALE_NUMERIC
    USE_LOCALE_TIME
    USE_PERLIO
    USE_PERL_ATOF
    USE_REENTRANT_API
  Locally applied patches:
    Devel::PatchPerl 1.98
  Built under darwin
  Compiled at Jun  2 2020 08:33:23
  %ENV:
    PERL5LIB=""
    PERL5OPT=""
    PERL5_CPANPLUS_IS_RUNNING="11002"
    PERL5_CPAN_IS_RUNNING="11002"
    PERLBREW_HOME="/Users/chadwick/.perlbrew"
    PERLBREW_MANPATH="/Users/chadwick/perl5/perlbrew/perls/perl-5.28/man"
    PERLBREW_PATH="/Users/chadwick/perl5/perlbrew/bin:/Users/chadwick/perl5/perlbrew/perls/perl-5.28/bin"
    PERLBREW_PERL="perl-5.28"
    PERLBREW_ROOT="/Users/chadwick/perl5/perlbrew"
    PERLBREW_SHELLRC_VERSION="0.96"
    PERLBREW_VERSION="0.96"
    PERL_MM_USE_DEFAULT="1"
    PERL_USE_UNSAFE_INC="1"
  @INC:
    /Users/chadwick/perl5/perlbrew/perls/perl-5.28/lib/site_perl/5.28.3/darwin-thread-multi-2level
    /Users/chadwick/perl5/perlbrew/perls/perl-5.28/lib/site_perl/5.28.3
    /Users/chadwick/perl5/perlbrew/perls/perl-5.28/lib/5.28.3/darwin-thread-multi-2level
    /Users/chadwick/perl5/perlbrew/perls/perl-5.28/lib/5.28.3
    /Users/chadwick/perl5/perlbrew/perls/perl-5.28/lib/site_perl/5.28.2/darwin-thread-multi-2level
    /Users/chadwick/perl5/perlbrew/perls/perl-5.28/lib/site_perl/5.28.2
    /Users/chadwick/perl5/perlbrew/perls/perl-5.28/lib/site_perl/5.28.1/darwin-thread-multi-2level
    /Users/chadwick/perl5/perlbrew/perls/perl-5.28/lib/site_perl/5.28.1
    /Users/chadwick/perl5/perlbrew/perls/perl-5.28/lib/site_perl
    .