Params-ValidationCompiler v0.31 Perl 5 v5.22.3 x86_64-linux
- Status
- Pass
- From
- Andreas J. König (ANDK)
- Dist
-
Params-ValidationCompiler v0.31
- Platform
- Perl 5 v5.22.3 x86_64-linux
- Date
- 2023-01-13 12:29:16
- ID
- e50eec50-933d-11ed-9dc5-d2f9de1f177c
This distribution has been tested as part of the CPAN Testers
project, supporting the Perl programming language. See
http://wiki.cpantesters.org/ for more information or email
questions to cpan-testers-discuss@perl.org
--
Dear Dave Rolsky,
This is a computer-generated report for Params-ValidationCompiler-0.31
on perl 5.22.3, created by CPAN-Reporter-1.2018.
Thank you for uploading your work to CPAN. Congratulations!
All tests were successful.
Sections of this report:
* Tester comments
* Program output
* Prerequisites
* Environment and other context
------------------------------
TESTER COMMENTS
------------------------------
Additional comments from tester:
this report is from an automated smoke testing program
and was not reviewed by a human for accuracy
------------------------------
PROGRAM OUTPUT
------------------------------
Output from '/usr/bin/make test':
PERL_DL_NONLAZY=1 "/home/sand/src/perl/repoperls/installed-perls/host/k93msid/v5.22.3/da1c/bin/perl" "-MExtUtils::Command::MM" "-MTest::Harness" "-e" "undef *Test::Harness::Switches; test_harness(0, 'blib/lib', 'blib/arch')" t/*.t t/named/*.t t/positional/*.t
#
# Versions for all modules listed in MYMETA.json (including optional ones):
#
# === Configure Requires ===
#
# Module Want Have
# ------------------- ---- -------
# ExtUtils::MakeMaker any 7.65_02
#
# === Build Requires ===
#
# Module Want Have
# ------------------- ---- -------
# ExtUtils::MakeMaker any 7.65_02
#
# === Test Requires ===
#
# Module Want Have
# ------------------------- -------- --------
# ExtUtils::MakeMaker any 7.65_02
# File::Spec any 3.75
# Hash::Util any 0.18
# Specio 0.14 0.47
# Test2::Plugin::NoWarnings any 0.09
# Test2::Require::Module any 0.000145
# Test2::V0 any 0.000145
# Test::More 1.302015 1.302191
# Test::Without::Module any 0.20
#
# === Test Recommends ===
#
# Module Want Have
# ---------- -------- --------
# CPAN::Meta 2.120900 2.150010
#
# === Runtime Requires ===
#
# Module Want Have
# ---------------- ---- ----
# B any 1.58
# Carp any 1.50
# Eval::Closure any 0.14
# Exception::Class any 1.45
# Exporter any 5.74
# List::Util 1.29 1.63
# Scalar::Util any 1.63
# overload any 1.26
# strict any 1.09
# warnings any 1.34
#
# === Runtime Recommends ===
#
# Module Want Have
# ----------------- ---- ----
# Class::XSAccessor 1.17 1.19
# Sub::Util 1.40 1.63
#
t/00-report-prereqs.t .... ok
t/default.t .............. ok
t/exceptions.t ........... ok
t/moose.t ................ ok
t/name-fails.t ........... ok
t/name.t ................. ok
t/named/args-check.t ..... ok
t/named/const-hash.t ..... skipped: Const::Fast doesn't work on dev/blead perl. Also the tests fail on Perl 5.18 but not others for no reason I can understand
t/named/locked-hash.t .... ok
t/named/required.t ....... ok
t/named/return-object.t .. ok
t/named/slurpy.t ......... ok
t/pairs-to-value-list.t .. ok
t/positional/default.t ... ok
t/positional/required.t .. ok
t/positional/slurpy.t .... ok
t/self-check.t ........... ok
t/source_for.t ........... ok
t/specio.t ............... ok
t/type-tiny.t ............ ok
All tests successful.
Files=20, Tests=88, 7 wallclock secs ( 0.06 usr 0.03 sys + 2.87 cusr 0.80 csys = 3.76 CPU)
Result: PASS
------------------------------
PREREQUISITES
------------------------------
Prerequisite modules loaded:
requires:
Module Need Have
------------------------- -------- --------
B 0 1.58
Carp 0 1.50
Eval::Closure 0 0.14
Exception::Class 0 1.45
Exporter 0 5.74
List::Util 1.29 1.63
overload 0 1.26
Scalar::Util 0 1.63
strict 0 1.09
warnings 0 1.34
build_requires:
Module Need Have
------------------------- -------- --------
ExtUtils::MakeMaker 0 7.65_02
File::Spec 0 3.75
Hash::Util 0 0.18
Specio 0.14 0.47
Test2::Plugin::NoWarnings 0 0.09
Test2::Require::Module 0 0.000145
Test2::V0 0 0.000145
Test::More 1.302015 1.302191
Test::Without::Module 0 0.20
configure_requires:
Module Need Have
------------------------- -------- --------
ExtUtils::MakeMaker 0 7.65_02
opt_requires:
Module Need Have
------------------------- -------- --------
Class::XSAccessor 1.17 1.19
Sub::Util 1.40 1.63
------------------------------
ENVIRONMENT AND OTHER CONTEXT
------------------------------
Environment variables:
AUTOMATED_TESTING = 1
LANG = en_US.UTF-8
LANGUAGE = en_US:en
PATH = /home/sand/bin:/usr/local/bin:/usr/bin:/bin:/usr/games:/usr/local/perl/bin:/usr/X11/bin:/sbin:/usr/sbin
PERL5LIB =
PERL5OPT =
PERL5_CPANPLUS_IS_RUNNING = 2567283
PERL5_CPAN_IS_RUNNING = 2567283
PERL_CANARY_STABILITY_NOPROMPT = 1
PERL_MM_USE_DEFAULT = 1
PERL_USE_UNSAFE_INC = 1
SHELL = /usr/bin/zsh
TERM = screen
Perl special variables (and OS-specific diagnostics, for MSWin32):
$^X = /home/sand/src/perl/repoperls/installed-perls/host/k93msid/v5.22.3/da1c/bin/perl
$UID/$EUID = 1005 / 1005
$GID = 1005 1005
$EGID = 1005 1005
Perl module toolchain versions installed:
Module Have
------------------- --------
CPAN 2.34
CPAN::Meta 2.150010
Cwd 3.75
ExtUtils::CBuilder 0.280236
ExtUtils::Command 7.65_02
ExtUtils::Install 2.20
ExtUtils::MakeMaker 7.65_02
ExtUtils::Manifest 1.70
ExtUtils::ParseXS 3.44
File::Spec 3.75
JSON 4.07
JSON::PP 4.11
Module::Build 0.4231
Module::Signature 0.88
Parse::CPAN::Meta 2.150010
Test::Harness 3.43_06
Test::More 1.302191
YAML 1.30
YAML::Syck 1.34
version 0.9929
--
Summary of my perl5 (revision 5 version 22 subversion 3) configuration:
Derived from: 16b638b0a20de774856b3a21a75a5e373af5262c
Platform:
osname=linux, osvers=5.16.0-5-amd64, archname=x86_64-linux
uname='linux k93msid 5.16.0-5-amd64 #1 smp preempt debian 5.16.14-1 (2022-03-15) x86_64 gnulinux '
config_args='-Dprefix=/home/sand/src/perl/repoperls/installed-perls/host/k93msid/v5.22.3/da1c -Dmyhostname=k93msid -Dinstallusrbinperl=n -Uversiononly -Dusedevel -des -Ui_db -Dlibswanted=cl pthread socket inet nsl gdbm dbm malloc dl ld sun m crypt sec util c cposix posix ucb BSD gdbm_compat -Uuseithreads -Uuselongdouble -DEBUGGING=-g'
hint=recommended, useposix=true, d_sigaction=define
useithreads=undef, usemultiplicity=undef
use64bitint=define, use64bitall=define, uselongdouble=undef
usemymalloc=n, bincompat5005=undef
Compiler:
cc='cc', ccflags ='-fwrapv -fno-strict-aliasing -pipe -fstack-protector-strong -I/usr/local/include -D_LARGEFILE_SOURCE -D_FILE_OFFSET_BITS=64 -D_FORTIFY_SOURCE=2',
optimize='-O2 -g',
cppflags='-fwrapv -fno-strict-aliasing -pipe -fstack-protector-strong -I/usr/local/include'
ccversion='', gccversion='11.2.0', gccosandvers=''
intsize=4, longsize=8, ptrsize=8, doublesize=8, byteorder=12345678, doublekind=3
d_longlong=define, longlongsize=8, d_longdbl=define, longdblsize=16, longdblkind=3
ivtype='long', ivsize=8, nvtype='double', nvsize=8, Off_t='off_t', lseeksize=8
alignbytes=8, prototype=define
Linker and Libraries:
ld='cc', ldflags =' -fstack-protector-strong -L/usr/local/lib'
libpth=/usr/local/lib /usr/include/x86_64-linux-gnu /usr/lib /lib/x86_64-linux-gnu /lib/../lib /usr/lib/x86_64-linux-gnu /usr/lib/../lib /lib
libs=-lpthread -lnsl -ldl -lm -lcrypt -lutil -lc
perllibs=-lpthread -lnsl -ldl -lm -lcrypt -lutil -lc
libc=libc-2.33.so, so=so, useshrplib=false, libperl=libperl.a
gnulibc_version='2.33'
Dynamic Linking:
dlsrc=dl_dlopen.xs, dlext=so, d_dlsymun=undef, ccdlflags='-Wl,-E'
cccdlflags='-fPIC', lddlflags='-shared -O2 -g -L/usr/local/lib -fstack-protector-strong'
Characteristics of this binary (from libperl):
Compile-time options: HAS_TIMES PERLIO_LAYERS PERL_DONT_CREATE_GVSV
PERL_HASH_FUNC_ONE_AT_A_TIME_HARD PERL_MALLOC_WRAP
PERL_NEW_COPY_ON_WRITE PERL_PRESERVE_IVUV
PERL_USE_DEVEL USE_64_BIT_ALL USE_64_BIT_INT
USE_LARGE_FILES USE_LOCALE USE_LOCALE_COLLATE
USE_LOCALE_CTYPE USE_LOCALE_NUMERIC USE_LOCALE_TIME
USE_PERLIO USE_PERL_ATOF
Locally applied patches:
uncommitted-changes
Built under linux
Compiled at Mar 20 2022 01:18:57
%ENV:
PERL5LIB=""
PERL5OPT=""
PERL5_CPANPLUS_IS_RUNNING="2567283"
PERL5_CPAN_IS_RUNNING="2567283"
PERL_CANARY_STABILITY_NOPROMPT="1"
PERL_MM_USE_DEFAULT="1"
PERL_USE_UNSAFE_INC="1"
@INC:
/home/sand/src/perl/repoperls/installed-perls/host/k93msid/v5.22.3/da1c/lib/site_perl/5.22.3/x86_64-linux
/home/sand/src/perl/repoperls/installed-perls/host/k93msid/v5.22.3/da1c/lib/site_perl/5.22.3
/home/sand/src/perl/repoperls/installed-perls/host/k93msid/v5.22.3/da1c/lib/5.22.3/x86_64-linux
/home/sand/src/perl/repoperls/installed-perls/host/k93msid/v5.22.3/da1c/lib/5.22.3
.