Test-Command v0.11 Perl 5 v5.8.3 aarch64-linux-thread-multi

Status
Pass
From
Nigel Horne
Dist
Test-Command v0.11
Platform
Perl 5 v5.8.3 aarch64-linux-thread-multi
Date
2018-04-06 05:32:28
ID
e50b1e2c-395b-11e8-931e-0bc8b99948c7
This distribution has been tested as part of the CPAN Testers
project, supporting the Perl programming language.  See
http://wiki.cpantesters.org/ for more information or email
questions to cpan-testers-discuss@perl.org


--
Dear Daniel B. Boorstein,

This is a computer-generated report for Test-Command-0.11
on perl 5.8.3, created by CPAN-Reporter-1.2018.

Thank you for uploading your work to CPAN.  Congratulations!
All tests were successful.

Sections of this report:

    * Tester comments
    * Program output
    * Prerequisites
    * Environment and other context

------------------------------
TESTER COMMENTS
------------------------------

Additional comments from tester:

this report is from an automated smoke testing program
and was not reviewed by a human for accuracy

------------------------------
PROGRAM OUTPUT
------------------------------

Output from './Build test':

# Testing Test::Command 0.11, Perl 5.008003, /home/njh/perl5/perlbrew/perls/perl-5.8.3/bin/perl
t/00-load.t ....... ok
t/01-funcs.t ...... ok
t/02-exit.t ....... ok
t/03-stdout.t ..... ok
Argument "foo\nbar\n" isn't numeric in numeric eq (==) at (eval in cmp_ok) t/05-object.t line 40.
Argument "foo\nbar\n" isn't numeric in numeric ne (!=) at (eval in cmp_ok) t/05-object.t line 41.
Argument "bar\nfoo\n" isn't numeric in numeric eq (==) at (eval in cmp_ok) t/05-object.t line 54.
Argument "bar\nfoo\n" isn't numeric in numeric ne (!=) at (eval in cmp_ok) t/05-object.t line 55.
t/05-object.t ..... ok
t/06-signal.t ..... ok
t/04-stderr.t ..... ok
t/pod-coverage.t .. ok
t/pod.t ........... ok
All tests successful.
Files=9, Tests=119,  2 wallclock secs ( 0.20 usr  0.07 sys +  3.01 cusr  0.91 csys =  4.19 CPU)
Result: PASS

------------------------------
PREREQUISITES
------------------------------

Prerequisite modules loaded:

build_requires:

    Module       Need Have    
    ------------ ---- --------
    Test::Simple 0.62 1.302120


------------------------------
ENVIRONMENT AND OTHER CONTEXT
------------------------------

Environment variables:

    AUTOMATED_TESTING = 1
    HARNESS_OPTIONS = j4
    LANG = en_US.UTF-8
    LANGUAGE = en_US.UTF-8
    LC_ALL = en_US.UTF-8
    PATH = /home/njh/perl5/perlbrew/bin:/home/njh/perl5/perlbrew/perls/perl-5.8.3/bin:/home/njh/src/njh/smoker/bin:/usr/bin:/bin
    PERL5LIB = /home/njh/.cpan/build/Monkey-Patch-0.03-13/blib/arch:/home/njh/.cpan/build/Monkey-Patch-0.03-13/blib/lib:/home/njh/.cpan/build/Sub-Delete-1.00002-12/blib/arch:/home/njh/.cpan/build/Sub-Delete-1.00002-12/blib/lib:/home/njh/.cpan/build/YAML-Tiny-1.73-13/blib/arch:/home/njh/.cpan/build/YAML-Tiny-1.73-13/blib/lib:/home/njh/.cpan/build/Bundle-CPAN-Reporter-Smoker-Tests-0.004-14/blib/arch:/home/njh/.cpan/build/Bundle-CPAN-Reporter-Smoker-Tests-0.004-14/blib/lib
    PERL5OPT = 
    PERL5_CPANPLUS_IS_RUNNING = 14474
    PERL5_CPAN_IS_RUNNING = 14474
    PERLBREW_HOME = /home/njh/.perlbrew
    PERLBREW_MANPATH = /home/njh/perl5/perlbrew/perls/perl-5.8.3/man
    PERLBREW_PATH = /home/njh/perl5/perlbrew/bin:/home/njh/perl5/perlbrew/perls/perl-5.8.3/bin
    PERLBREW_PERL = perl-5.8.3
    PERLBREW_ROOT = /home/njh/perl5/perlbrew
    PERLBREW_SHELLRC_VERSION = 0.82
    PERLBREW_VERSION = 0.82
    SHELL = /bin/sh

Perl special variables (and OS-specific diagnostics, for MSWin32):

    $^X = /home/njh/perl5/perlbrew/perls/perl-5.8.3/bin/perl
    $UID/$EUID = 1000 / 1000
    $GID = 1000 1000
    $EGID = 1000 1000

Perl module toolchain versions installed:

    Module              Have    
    ------------------- --------
    CPAN                2.16    
    CPAN::Meta          2.143240
    Cwd                 3.62    
    ExtUtils::CBuilder  0.280224
    ExtUtils::Command   7.30    
    ExtUtils::Install   2.06    
    ExtUtils::MakeMaker 7.30    
    ExtUtils::Manifest  1.70    
    ExtUtils::ParseXS   3.30    
    File::Spec          3.62    
    JSON                2.94    
    JSON::PP            2.94    
    Module::Build       0.4224  
    Module::Signature   n/a     
    Parse::CPAN::Meta   1.4414  
    Test::Harness       3.39    
    Test::More          1.302120
    YAML                1.24    
    YAML::Syck          1.30    
    version             0.9918  


--

Summary of my perl5 (revision 5.0 version 8 subversion 3) configuration:
  Platform:
    osname=linux, osvers=4.9.23-std-1, archname=aarch64-linux-thread-multi
    uname='linux scaleway 4.9.23-std-1 #1 smp mon apr 24 13:18:14 utc 2017 aarch64 gnulinux '
    config_args='-de -Dprefix=/home/njh/perl5/perlbrew/perls/perl-5.8.3 -Duseithreads -Dusemultiplicity -Dusedevel -Accflags=-O2 -W -Wformat=2 -Wswitch -Wshadow -Wwrite-strings -Wuninitialized -Wall -pipe -fomit-frame-pointer -D_FORTIFY_SOURCE=2 -Wpointer-arith -Wstrict-prototypes -fstack-protector -Wstack-protector -Wextra -Wbad-function-cast -Wcast-align -Wcast-qual -Wdisabled-optimization -Wendif-labels -Wfloat-equal -Wformat-nonliteral -Winline -Wmissing-declarations -Wmissing-prototypes -Wnested-externs -Wpointer-arith -Wundef -Wformat-security -Aeval:scriptdir=/home/njh/perl5/perlbrew/perls/perl-5.8.3/bin'
    hint=recommended, useposix=true, d_sigaction=define
    usethreads=define use5005threads=undef useithreads=define usemultiplicity=define
    useperlio=define d_sfio=undef uselargefiles=define usesocks=undef
    use64bitint=define use64bitall=define uselongdouble=undef
    usemymalloc=n, bincompat5005=undef
  Compiler:
    cc='cc', ccflags ='-D_REENTRANT -D_GNU_SOURCE -O2 -W -Wformat=2 -Wswitch -Wshadow -Wwrite-strings -Wuninitialized -Wall -pipe -fomit-frame-pointer -D_FORTIFY_SOURCE=2 -Wpointer-arith -Wstrict-prototypes -fstack-protector -Wstack-protector -Wextra -Wbad-function-cast -Wcast-align -Wcast-qual -Wdisabled-optimization -Wendif-labels -Wfloat-equal -Wformat-nonliteral -Winline -Wmissing-declarations -Wmissing-prototypes -Wnested-externs -Wpointer-arith -Wundef -Wformat-security -fno-strict-aliasing -I/usr/local/include -D_LARGEFILE_SOURCE -D_FILE_OFFSET_BITS=64',
    optimize='-O2',
    cppflags='-D_REENTRANT -D_GNU_SOURCE -O2 -W -Wformat=2 -Wswitch -Wshadow -Wwrite-strings -Wuninitialized -Wall -pipe -fomit-frame-pointer -D_FORTIFY_SOURCE=2 -Wpointer-arith -Wstrict-prototypes -fstack-protector -Wstack-protector -Wextra -Wbad-function-cast -Wcast-align -Wcast-qual -Wdisabled-optimization -Wendif-labels -Wfloat-equal -Wformat-nonliteral -Winline -Wmissing-declarations -Wmissing-prototypes -Wnested-externs -Wpointer-arith -Wundef -Wformat-security -fno-strict-aliasing -I/usr/local/include'
    ccversion='', gccversion='4.9.2', gccosandvers=''
    intsize=4, longsize=8, ptrsize=8, doublesize=8, byteorder=12345678
    d_longlong=define, longlongsize=8, d_longdbl=define, longdblsize=16
    ivtype='long', ivsize=8, nvtype='double', nvsize=8, Off_t='off_t', lseeksize=8
    alignbytes=8, prototype=define
  Linker and Libraries:
    ld='cc', ldflags =' -L/usr/local/lib'
    libpth=/usr/local/lib /lib/aarch64-linux-gnu /lib/../lib /usr/lib/aarch64-linux-gnu /usr/lib/../lib /lib /usr/lib
    libs=-lnsl -ldl -lm -lcrypt -lutil -lpthread -lc
    perllibs=-lnsl -ldl -lm -lcrypt -lutil -lpthread -lc
    libc=libc-2.19.so, so=so, useshrplib=false, libperl=libperl.a
    gnulibc_version='2.19'
  Dynamic Linking:
    dlsrc=dl_dlopen.xs, dlext=so, d_dlsymun=undef, ccdlflags='-rdynamic'
    cccdlflags='-fpic', lddlflags='-shared -L/usr/local/lib'


Characteristics of this binary (from libperl): 
  Compile-time options: MULTIPLICITY USE_ITHREADS USE_64_BIT_INT USE_64_BIT_ALL USE_LARGE_FILES PERL_IMPLICIT_CONTEXT
  Locally applied patches:
  	Devel::PatchPerl 1.48
  Built under linux
  Compiled at Jun 23 2017 00:11:05
  %ENV:
    PERL5LIB="/home/njh/.cpan/build/Monkey-Patch-0.03-13/blib/arch:/home/njh/.cpan/build/Monkey-Patch-0.03-13/blib/lib:/home/njh/.cpan/build/Sub-Delete-1.00002-12/blib/arch:/home/njh/.cpan/build/Sub-Delete-1.00002-12/blib/lib:/home/njh/.cpan/build/YAML-Tiny-1.73-13/blib/arch:/home/njh/.cpan/build/YAML-Tiny-1.73-13/blib/lib:/home/njh/.cpan/build/Bundle-CPAN-Reporter-Smoker-Tests-0.004-14/blib/arch:/home/njh/.cpan/build/Bundle-CPAN-Reporter-Smoker-Tests-0.004-14/blib/lib"
    PERL5OPT=""
    PERL5_CPANPLUS_IS_RUNNING="14474"
    PERL5_CPAN_IS_RUNNING="14474"
    PERLBREW_HOME="/home/njh/.perlbrew"
    PERLBREW_MANPATH="/home/njh/perl5/perlbrew/perls/perl-5.8.3/man"
    PERLBREW_PATH="/home/njh/perl5/perlbrew/bin:/home/njh/perl5/perlbrew/perls/perl-5.8.3/bin"
    PERLBREW_PERL="perl-5.8.3"
    PERLBREW_ROOT="/home/njh/perl5/perlbrew"
    PERLBREW_SHELLRC_VERSION="0.82"
    PERLBREW_VERSION="0.82"
  @INC:
    /home/njh/.cpan/build/Monkey-Patch-0.03-13/blib/arch
    /home/njh/.cpan/build/Monkey-Patch-0.03-13/blib/lib
    /home/njh/.cpan/build/Sub-Delete-1.00002-12/blib/arch
    /home/njh/.cpan/build/Sub-Delete-1.00002-12/blib/lib
    /home/njh/.cpan/build/YAML-Tiny-1.73-13/blib/arch
    /home/njh/.cpan/build/YAML-Tiny-1.73-13/blib/lib
    /home/njh/.cpan/build/Bundle-CPAN-Reporter-Smoker-Tests-0.004-14/blib/arch
    /home/njh/.cpan/build/Bundle-CPAN-Reporter-Smoker-Tests-0.004-14/blib/lib
    /home/njh/perl5/perlbrew/perls/perl-5.8.3/lib/5.8.3/aarch64-linux-thread-multi
    /home/njh/perl5/perlbrew/perls/perl-5.8.3/lib/5.8.3
    /home/njh/perl5/perlbrew/perls/perl-5.8.3/lib/site_perl/5.8.3/aarch64-linux-thread-multi
    /home/njh/perl5/perlbrew/perls/perl-5.8.3/lib/site_perl/5.8.3
    /home/njh/perl5/perlbrew/perls/perl-5.8.3/lib/site_perl
    .