Report for Class-DBI-Sweet-0.11

Back
From: metabase:user:314402c4-2aae-11df-837a-5e0a49663a4f
Subject: PASS Class-DBI-Sweet-0.11 v5.22.2 FreeBSD
Date: 2016-09-07T07:01:26Z

This distribution has been tested as part of the CPAN Testers
project, supporting the Perl programming language.  See
http://wiki.cpantesters.org/ for more information or email
questions to cpan-testers-discuss@perl.org


--
Dear Fred Moyer,

This is a computer-generated report for Class-DBI-Sweet-0.11
on perl 5.22.2, created by CPAN-Reporter-1.2018.

Thank you for uploading your work to CPAN.  Congratulations!
All tests were successful.

Sections of this report:

    * Tester comments
    * Program output
    * Prerequisites
    * Environment and other context

------------------------------
TESTER COMMENTS
------------------------------

Additional comments from tester:

none provided

------------------------------
PROGRAM OUTPUT
------------------------------

Output from './Build test':

t/01use.t ................................ ok
t/02pod.t ................................ skipped: set TEST_POD to enable this test
t/03podcoverage.t ........................ skipped: set TEST_POD to enable this test
t/04join.t ............................... ok
t/05count.t .............................. ok
t/06object_cache.t ....................... ok
Use of uninitialized value $got in numeric eq (==) at (eval in cmp_ok) t/07prefetch.t line 48.
t/07prefetch.t ........................... ok
t/08pager.t .............................. ok
t/09sequence.t ........................... ok
t/cdbi-t-ocache/01-columns.t ............. ok
t/cdbi-t-ocache/03-subclassing.t ......... ok
t/cdbi-t-ocache/05-Query.t ............... ok
t/cdbi-t-ocache/06-hasa.t ................ ok
t/cdbi-t-ocache/08-inheritcols.t ......... ok
t/cdbi-t-ocache/09-has_many.t ............ ok
DBI connect('test','',...) failed: Can't connect to local MySQL server through socket '/tmp/mysql.sock' (2) at t/cdbi-t/testlib/MyBase.pm line 10.
t/cdbi-t-ocache/10-mysql.t ............... skipped: Need MySQL for this test
t/cdbi-t-ocache/11-triggers.t ............ ok
t/cdbi-t-ocache/12-filter.t .............. ok
t/cdbi-t-ocache/13-constraint.t .......... ok
t/cdbi-t-ocache/14-might_have.t .......... ok
t/cdbi-t-ocache/16-reserved.t ............ ok
# Pg connection failed (DBI connect('dbname=template1','postgres',...) failed: konnte nicht mit dem Server verbinden: Datei oder Verzeichnis nicht gefunden
# 	Läuft der Server lokal und akzeptiert er Verbindungen
# 	auf dem Unix-Domain-Socket ?/tmp/.s.PGSQL.5432?? at /home/cpansand/.cpan/build/2016090706/Ima-DBI-0.35-hOaMFX/blib/lib/Ima/DBI.pm line 328.
# ). Set env variables DBD_PG_DBNAME,  DBD_PG_USER,
# DBD_PG_PASSWD to enable testing.
t/cdbi-t-ocache/17-data_type.t ........... skipped: Pg connection failed.
t/cdbi-t-ocache/18-has_a.t ............... ok
t/cdbi-t-ocache/19-set_sql.t ............. ok
t/cdbi-t-ocache/21-iterator.t ............ ok
t/cdbi-t-ocache/22-deflate_order.t ....... skipped: Need Time::Piece::MySQL for this test
t/cdbi-t-ocache/23-cascade.t ............. ok
t/cdbi-t-ocache/24-meta_info.t ........... ok
DBI connect('test','',...) failed: Can't connect to local MySQL server through socket '/tmp/mysql.sock' (2) at t/cdbi-t/testlib/MyBase.pm line 10.
t/cdbi-t-ocache/25-closures_in_meta.t .... skipped: Need MySQL for this test
t/cdbi-t-ocache/97-pod.t ................. ok
t/cdbi-t-ocache/98-failure.t ............. ok
t/cdbi-t-ocache/99-misc.t ................ ok
t/cdbi-t-rescache/01-columns.t ........... ok
t/cdbi-t-rescache/03-subclassing.t ....... ok
t/cdbi-t-rescache/05-Query.t ............. ok
t/cdbi-t-rescache/06-hasa.t .............. ok
t/cdbi-t-rescache/08-inheritcols.t ....... ok
t/cdbi-t-rescache/09-has_many.t .......... ok
DBI connect('test','',...) failed: Can't connect to local MySQL server through socket '/tmp/mysql.sock' (2) at t/cdbi-t/testlib/MyBase.pm line 10.
t/cdbi-t-rescache/10-mysql.t ............. skipped: Need MySQL for this test
t/cdbi-t-rescache/11-triggers.t .......... ok
t/cdbi-t-rescache/12-filter.t ............ ok
t/cdbi-t-rescache/13-constraint.t ........ ok
t/cdbi-t-rescache/14-might_have.t ........ ok
t/cdbi-t-rescache/16-reserved.t .......... ok
# Pg connection failed (DBI connect('dbname=template1','postgres',...) failed: konnte nicht mit dem Server verbinden: Datei oder Verzeichnis nicht gefunden
# 	Läuft der Server lokal und akzeptiert er Verbindungen
# 	auf dem Unix-Domain-Socket ?/tmp/.s.PGSQL.5432?? at /home/cpansand/.cpan/build/2016090706/Ima-DBI-0.35-hOaMFX/blib/lib/Ima/DBI.pm line 328.
# ). Set env variables DBD_PG_DBNAME,  DBD_PG_USER,
# DBD_PG_PASSWD to enable testing.
t/cdbi-t-rescache/17-data_type.t ......... skipped: Pg connection failed.
t/cdbi-t-rescache/18-has_a.t ............. ok
t/cdbi-t-rescache/19-set_sql.t ........... ok
t/cdbi-t-rescache/21-iterator.t .......... ok
t/cdbi-t-rescache/22-deflate_order.t ..... skipped: Need Time::Piece::MySQL for this test
t/cdbi-t-rescache/23-cascade.t ........... ok
t/cdbi-t-rescache/24-meta_info.t ......... ok
DBI connect('test','',...) failed: Can't connect to local MySQL server through socket '/tmp/mysql.sock' (2) at t/cdbi-t/testlib/MyBase.pm line 10.
t/cdbi-t-rescache/25-closures_in_meta.t .. skipped: Need MySQL for this test
t/cdbi-t-rescache/97-pod.t ............... ok
t/cdbi-t-rescache/98-failure.t ........... ok
t/cdbi-t-rescache/99-misc.t .............. ok
t/cdbi-t/01-columns.t .................... ok
t/cdbi-t/02-Film.t ....................... ok
t/cdbi-t/03-subclassing.t ................ ok
t/cdbi-t/04-lazy.t ....................... ok
t/cdbi-t/05-Query.t ...................... ok
t/cdbi-t/06-hasa.t ....................... ok
t/cdbi-t/08-inheritcols.t ................ ok
t/cdbi-t/09-has_many.t ................... ok
DBI connect('test','',...) failed: Can't connect to local MySQL server through socket '/tmp/mysql.sock' (2) at t/cdbi-t/testlib/MyBase.pm line 10.
t/cdbi-t/10-mysql.t ...................... skipped: Need MySQL for this test
t/cdbi-t/11-triggers.t ................... ok
t/cdbi-t/12-filter.t ..................... ok
t/cdbi-t/13-constraint.t ................. ok
t/cdbi-t/14-might_have.t ................. ok
# Pg connection failed (DBI connect('dbname=template1','postgres',...) failed: konnte nicht mit dem Server verbinden: Datei oder Verzeichnis nicht gefunden
# 	Läuft der Server lokal und akzeptiert er Verbindungen
# 	auf dem Unix-Domain-Socket ?/tmp/.s.PGSQL.5432?? at /home/cpansand/.cpan/build/2016090706/Ima-DBI-0.35-hOaMFX/blib/lib/Ima/DBI.pm line 328.
# ). Set env variables DBD_PG_DBNAME,  DBD_PG_USER,
# DBD_PG_PASSWD to enable testing.
t/cdbi-t/17-data_type.t .................. skipped: Pg connection failed.
t/cdbi-t/18-has_a.t ...................... ok
t/cdbi-t/19-set_sql.t .................... ok
t/cdbi-t/21-iterator.t ................... ok
t/cdbi-t/22-deflate_order.t .............. skipped: Need Time::Piece::MySQL for this test
t/cdbi-t/23-cascade.t .................... ok
t/cdbi-t/24-meta_info.t .................. ok
DBI connect('test','',...) failed: Can't connect to local MySQL server through socket '/tmp/mysql.sock' (2) at t/cdbi-t/testlib/MyBase.pm line 10.
t/cdbi-t/25-closures_in_meta.t ........... skipped: Need MySQL for this test
t/cdbi-t/97-pod.t ........................ ok
t/cdbi-t/98-failure.t .................... ok
t/cdbi-t/99-misc.t ....................... ok
All tests successful.
Files=79, Tests=1280, 51 wallclock secs ( 0.08 usr  0.34 sys +  6.30 cusr  3.02 csys =  9.73 CPU)
Result: PASS

------------------------------
PREREQUISITES
------------------------------

Prerequisite modules loaded:

requires:

    Module        Need    Have  
    ------------- ------- ------
    Class::DBI    v3.0.12 3.0.17
    Data::Page    0       2.02  
    DBD::SQLite   1.08    1.50  
    DBI           0       1.636 
    List::Util    0       1.45  
    SQL::Abstract 1.55    1.81  

configure_requires:

    Module        Need    Have  
    ------------- ------- ------
    Module::Build 0.38    0.4220


------------------------------
ENVIRONMENT AND OTHER CONTEXT
------------------------------

Environment variables:

    LC_ALL = de_DE.ISO8859-1
    PATH = /usr/local/bin:/usr/bin:/bin:/usr/local/sbin:/usr/sbin:/sbin:/home/cpansand/bin/freebsd10.1:/home/cpansand/bin/sh:/home/cpansand/bin:/usr/games:/home/cpansand/devel:/home/eserte/src/srezic-misc/scripts
    PERL5LIB = /home/cpansand/.cpan/build/2016090706/Class-DBI-v3.0.17-lS511p/blib/arch:/home/cpansand/.cpan/build/2016090706/Class-DBI-v3.0.17-lS511p/blib/lib:/home/cpansand/.cpan/build/2016090706/Ima-DBI-0.35-hOaMFX/blib/arch:/home/cpansand/.cpan/build/2016090706/Ima-DBI-0.35-hOaMFX/blib/lib:/home/cpansand/.cpan/build/2016090706/DBIx-ContextualFetch-1.03-L8P3ZS/blib/arch:/home/cpansand/.cpan/build/2016090706/DBIx-ContextualFetch-1.03-L8P3ZS/blib/lib:/home/cpansand/.cpan/build/2016090706/UNIVERSAL-moniker-0.08-8zAuEP/blib/arch:/home/cpansand/.cpan/build/2016090706/UNIVERSAL-moniker-0.08-8zAuEP/blib/lib:/home/cpansand/.cpan/build/2016090706/Catalyst-View-CSS-Squish-0.02-_mgpJC/blib/arch:/home/cpansand/.cpan/build/2016090706/Catalyst-View-CSS-Squish-0.02-_mgpJC/blib/lib:/home/cpansand/.cpan/build/2016090706/CSS-Squish-0.10-M810Fd/blib/arch:/home/cpansand/.cpan/build/2016090706/CSS-Squish-0.10-M810Fd/blib/lib:/home/cpansand/.cpan/build/2016090706/Business-SEDOL-2.01-Osm804/blib/arch:/home/cpansand/.cpan/build/2016090706/Business-SEDOL-2.01-Osm804/blib/lib:/home/cpansand/.cpan/build/2016090706/Blog-BlogML-Reader-1.03-g4V5jT/blib/arch:/home/cpansand/.cpan/build/2016090706/Blog-BlogML-Reader-1.03-g4V5jT/blib/lib:/home/cpansand/.cpan/build/2016090706/Biblio-Thesaurus-0.43-L3rtck/blib/arch:/home/cpansand/.cpan/build/2016090706/Biblio-Thesaurus-0.43-L3rtck/blib/lib
    PERL5OPT = 
    PERL5_CPANPLUS_IS_RUNNING = 7770
    PERL5_CPAN_IS_RUNNING = 7770
    PERL5_CPAN_IS_RUNNING_IN_RECURSION = 7756,7770
    PERLDOC = -MPod::Perldoc::ToTextOverstrike
    PERL_BATCH = yes
    PERL_CANARY_STABILITY_NOPROMPT = 1
    PERL_CPAN_REPORTER_CONFIG = /var/tmp/cpansmoker-1023/2016090706/cpanreporter_000_config.ini
    PERL_EXTUTILS_AUTOINSTALL = --defaultdeps
    SHELL = /usr/local/bin/zsh
    TERM = screen
    TMPDIR = /var/tmp/cpansmoker-1023/2016090706

Perl special variables (and OS-specific diagnostics, for MSWin32):

    $^X = /usr/perl5.22.2p/bin/perl5.22.2
    $UID/$EUID = 1023 / 1023
    $GID = 1023 1023
    $EGID = 1023 1023

Perl module toolchain versions installed:

    Module              Have    
    ------------------- --------
    CPAN                2.11    
    CPAN::Meta          2.150010
    Cwd                 3.62    
    ExtUtils::CBuilder  0.280221
    ExtUtils::Command   7.24    
    ExtUtils::Install   2.04    
    ExtUtils::MakeMaker 7.24    
    ExtUtils::Manifest  1.70    
    ExtUtils::ParseXS   3.28    
    File::Spec          3.62    
    JSON                2.90    
    JSON::PP            2.27300 
    Module::Build       0.4220  
    Module::Signature   n/a     
    Parse::CPAN::Meta   2.150010
    Test::Harness       3.35    
    Test::More          1.302052
    YAML                1.15    
    YAML::Syck          1.29    
    version             0.9917  


--

Summary of my perl5 (revision 5 version 22 subversion 2) configuration:
   
  Platform:
    osname=freebsd, osvers=10.1-release, archname=amd64-freebsd
    uname='freebsd cvrsnica-freebsd-101.herceg.de 10.1-release freebsd 10.1-release #0 r274401: tue nov 11 21:02:49 utc 2014 root@releng1.nyi.freebsd.org:usrobjusrsrcsysgeneric amd64 '
    config_args='-ds -e -Dprefix=/usr/perl5.22.2p -Dcf_email=srezic@cpan.org -Doptimize=-O2 -pipe'
    hint=recommended, useposix=true, d_sigaction=define
    useithreads=undef, usemultiplicity=undef
    use64bitint=define, use64bitall=define, uselongdouble=undef
    usemymalloc=n, bincompat5005=undef
  Compiler:
    cc='cc', ccflags ='-DHAS_FPSETMASK -DHAS_FLOATINGPOINT_H -fno-strict-aliasing -pipe -fstack-protector -I/usr/local/include -D_FORTIFY_SOURCE=2',
    optimize='-O2 -pipe',
    cppflags='-DHAS_FPSETMASK -DHAS_FLOATINGPOINT_H -fno-strict-aliasing -pipe -fstack-protector -I/usr/local/include'
    ccversion='', gccversion='4.2.1 Compatible FreeBSD Clang 3.4.1 (tags/RELEASE_34/dot1-final 208032)', gccosandvers=''
    intsize=4, longsize=8, ptrsize=8, doublesize=8, byteorder=12345678, doublekind=3
    d_longlong=define, longlongsize=8, d_longdbl=define, longdblsize=16, longdblkind=3
    ivtype='long', ivsize=8, nvtype='double', nvsize=8, Off_t='off_t', lseeksize=8
    alignbytes=8, prototype=define
  Linker and Libraries:
    ld='cc', ldflags ='-pthread -Wl,-E  -fstack-protector -L/usr/local/lib'
    libpth=/usr/lib /usr/local/lib /usr/include/clang/3.4.1 /usr/lib
    libs=-lpthread -lgdbm -lm -lcrypt -lutil -lc
    perllibs=-lpthread -lm -lcrypt -lutil -lc
    libc=, so=so, useshrplib=false, libperl=libperl.a
    gnulibc_version=''
  Dynamic Linking:
    dlsrc=dl_dlopen.xs, dlext=so, d_dlsymun=undef, ccdlflags=' '
    cccdlflags='-DPIC -fPIC', lddlflags='-shared  -L/usr/local/lib -fstack-protector'


Characteristics of this binary (from libperl): 
  Compile-time options: HAS_TIMES PERLIO_LAYERS PERL_DONT_CREATE_GVSV
                        PERL_HASH_FUNC_ONE_AT_A_TIME_HARD PERL_MALLOC_WRAP
                        PERL_NEW_COPY_ON_WRITE PERL_PRESERVE_IVUV
                        USE_64_BIT_ALL USE_64_BIT_INT USE_LARGE_FILES
                        USE_LOCALE USE_LOCALE_COLLATE USE_LOCALE_CTYPE
                        USE_LOCALE_NUMERIC USE_LOCALE_TIME USE_PERLIO
                        USE_PERL_ATOF
  Built under freebsd
  Compiled at May 29 2016 23:34:36
  %ENV:
    PERL5LIB="/home/cpansand/.cpan/build/2016090706/Class-DBI-v3.0.17-lS511p/blib/arch:/home/cpansand/.cpan/build/2016090706/Class-DBI-v3.0.17-lS511p/blib/lib:/home/cpansand/.cpan/build/2016090706/Ima-DBI-0.35-hOaMFX/blib/arch:/home/cpansand/.cpan/build/2016090706/Ima-DBI-0.35-hOaMFX/blib/lib:/home/cpansand/.cpan/build/2016090706/DBIx-ContextualFetch-1.03-L8P3ZS/blib/arch:/home/cpansand/.cpan/build/2016090706/DBIx-ContextualFetch-1.03-L8P3ZS/blib/lib:/home/cpansand/.cpan/build/2016090706/UNIVERSAL-moniker-0.08-8zAuEP/blib/arch:/home/cpansand/.cpan/build/2016090706/UNIVERSAL-moniker-0.08-8zAuEP/blib/lib:/home/cpansand/.cpan/build/2016090706/Catalyst-View-CSS-Squish-0.02-_mgpJC/blib/arch:/home/cpansand/.cpan/build/2016090706/Catalyst-View-CSS-Squish-0.02-_mgpJC/blib/lib:/home/cpansand/.cpan/build/2016090706/CSS-Squish-0.10-M810Fd/blib/arch:/home/cpansand/.cpan/build/2016090706/CSS-Squish-0.10-M810Fd/blib/lib:/home/cpansand/.cpan/build/2016090706/Business-SEDOL-2.01-Osm804/blib/arch:/home/cpansand/.cpan/build/2016090706/Business-SEDOL-2.01-Osm804/blib/lib:/home/cpansand/.cpan/build/2016090706/Blog-BlogML-Reader-1.03-g4V5jT/blib/arch:/home/cpansand/.cpan/build/2016090706/Blog-BlogML-Reader-1.03-g4V5jT/blib/lib:/home/cpansand/.cpan/build/2016090706/Biblio-Thesaurus-0.43-L3rtck/blib/arch:/home/cpansand/.cpan/build/2016090706/Biblio-Thesaurus-0.43-L3rtck/blib/lib"
    PERL5OPT=""
    PERL5_CPANPLUS_IS_RUNNING="7770"
    PERL5_CPAN_IS_RUNNING="7770"
    PERL5_CPAN_IS_RUNNING_IN_RECURSION="7756,7770"
    PERLDOC="-MPod::Perldoc::ToTextOverstrike"
    PERL_BATCH="yes"
    PERL_CANARY_STABILITY_NOPROMPT="1"
    PERL_CPAN_REPORTER_CONFIG="/var/tmp/cpansmoker-1023/2016090706/cpanreporter_000_config.ini"
    PERL_EXTUTILS_AUTOINSTALL="--defaultdeps"
  @INC:
    /home/cpansand/.cpan/build/2016090706/Class-DBI-v3.0.17-lS511p/blib/arch
    /home/cpansand/.cpan/build/2016090706/Class-DBI-v3.0.17-lS511p/blib/lib
    /home/cpansand/.cpan/build/2016090706/Ima-DBI-0.35-hOaMFX/blib/arch
    /home/cpansand/.cpan/build/2016090706/Ima-DBI-0.35-hOaMFX/blib/lib
    /home/cpansand/.cpan/build/2016090706/DBIx-ContextualFetch-1.03-L8P3ZS/blib/arch
    /home/cpansand/.cpan/build/2016090706/DBIx-ContextualFetch-1.03-L8P3ZS/blib/lib
    /home/cpansand/.cpan/build/2016090706/UNIVERSAL-moniker-0.08-8zAuEP/blib/arch
    /home/cpansand/.cpan/build/2016090706/UNIVERSAL-moniker-0.08-8zAuEP/blib/lib
    /home/cpansand/.cpan/build/2016090706/Catalyst-View-CSS-Squish-0.02-_mgpJC/blib/arch
    /home/cpansand/.cpan/build/2016090706/Catalyst-View-CSS-Squish-0.02-_mgpJC/blib/lib
    /home/cpansand/.cpan/build/2016090706/CSS-Squish-0.10-M810Fd/blib/arch
    /home/cpansand/.cpan/build/2016090706/CSS-Squish-0.10-M810Fd/blib/lib
    /home/cpansand/.cpan/build/2016090706/Business-SEDOL-2.01-Osm804/blib/arch
    /home/cpansand/.cpan/build/2016090706/Business-SEDOL-2.01-Osm804/blib/lib
    /home/cpansand/.cpan/build/2016090706/Blog-BlogML-Reader-1.03-g4V5jT/blib/arch
    /home/cpansand/.cpan/build/2016090706/Blog-BlogML-Reader-1.03-g4V5jT/blib/lib
    /home/cpansand/.cpan/build/2016090706/Biblio-Thesaurus-0.43-L3rtck/blib/arch
    /home/cpansand/.cpan/build/2016090706/Biblio-Thesaurus-0.43-L3rtck/blib/lib
    /usr/perl5.22.2p/lib/site_perl/5.22.2/amd64-freebsd
    /usr/perl5.22.2p/lib/site_perl/5.22.2
    /usr/perl5.22.2p/lib/5.22.2/amd64-freebsd
    /usr/perl5.22.2p/lib/5.22.2
    .