Const-Exporter vv1.3.0 Perl 5 v5.38.0 x86_64-linux
- Status
- Pass
- From
- Nigel Horne
- Dist
-
Const-Exporter vv1.3.0
- Platform
- Perl 5 v5.38.0 x86_64-linux
- Date
- 2025-08-13 02:26:18
- ID
- e4ed6288-77ec-11f0-aad0-92b2370acedf
This distribution has been tested as part of the CPAN Testers
project, supporting the Perl programming language. See
http://wiki.cpantesters.org/ for more information or email
questions to cpan-testers-discuss@perl.org
--
Dear Robert Rothenberg,
This is a computer-generated report for Const-Exporter-v1.3.0
on perl 5.38.0, created by CPAN-Reporter-1.2019.
Thank you for uploading your work to CPAN. Congratulations!
All tests were successful.
Sections of this report:
* Tester comments
* Program output
* Prerequisites
* Environment and other context
------------------------------
TESTER COMMENTS
------------------------------
Additional comments from tester:
this report is from an automated smoke testing program
and was not reviewed by a human for accuracy
------------------------------
PROGRAM OUTPUT
------------------------------
Output from '/usr/bin/make test':
PERL_DL_NONLAZY=1 "/home/smoker/perl5/perlbrew/perls/perl-5.38.0/bin/perl5.38.0" "-MExtUtils::Command::MM" "-MTest::Harness" "-e" "undef *Test::Harness::Switches; test_harness(0, 'blib/lib', 'blib/arch')" t/*.t
t/10-basic.t ................ ok
#
# Versions for all modules listed in MYMETA.json (including optional ones):
#
# === Configure Requires ===
#
# Module Want Have
# ------------------- ---- ----
# ExtUtils::MakeMaker any 7.70
#
# === Build Requires ===
#
# Module Want Have
# ------------------- -------- --------
# ExtUtils::MakeMaker 7.22 7.70
# Module::Metadata 1.000015 1.000037
#
# === Test Requires ===
#
# Module Want Have
# ---------------- -------- --------
# File::Spec any 3.88
# Hash::Objectify any 0.008
# Module::Metadata 1.000015 1.000037
# Sub::Identify 0.06 0.14
# Test::More any 1.302195
# Test::Most any 0.38
# if any 0.0610
# lib any 0.65
# strict any 1.12
#
# === Test Recommends ===
#
# Module Want Have
# ---------- -------- --------
# CPAN::Meta 2.120900 2.150010
#
# === Runtime Requires ===
#
# Module Want Have
# -------------- -------- --------
# Carp any 1.54
# Const::Fast any 0.014
# Exporter 5.57 5.77
# List::Util 1.56 1.63
# Package::Stash any 0.40
# Ref::Util any 0.204
# perl 5.014000 5.038000
# warnings any 1.65
#
# === Runtime Recommends ===
#
# Module Want Have
# ------------------- ---- -----
# List::SomeUtils::XS any 0.58
# Package::Stash::XS any 0.30
# Ref::Util::XS any 0.117
# Storable 3.05 3.32
#
t/00-report-prereqs.t ....... ok
t/11-tags.t ................. ok
t/12-blessed.t .............. ok
t/13-is_const.t ............. ok
t/20-example.t .............. ok
t/author-changes.t .......... skipped: these tests are for testing by the author
t/author-critic.t ........... skipped: these tests are for testing by the author
t/author-cve.t .............. skipped: these tests are for testing by the author
t/author-eof.t .............. skipped: these tests are for testing by the author
t/author-eol.t .............. skipped: these tests are for testing by the author
t/author-minimum-version.t .. skipped: these tests are for testing by the author
t/author-no-tabs.t .......... skipped: these tests are for testing by the author
t/author-pod-coverage.t ..... skipped: these tests are for testing by the author
t/author-pod-linkcheck.t .... skipped: these tests are for testing by the author
t/author-pod-syntax.t ....... skipped: these tests are for testing by the author
t/author-portability.t ...... skipped: these tests are for testing by the author
t/author-vars.t ............. skipped: these tests are for testing by the author
t/21-example.t .............. ok
t/empty-with-const.t ........ ok
t/release-dist-manifest.t ... skipped: these tests are for release candidate testing
t/release-fixme.t ........... skipped: these tests are for release candidate testing
t/release-kwalitee.t ........ skipped: these tests are for release candidate testing
t/release-trailing-space.t .. skipped: these tests are for release candidate testing
t/enums.t ................... ok
t/strictures.t .............. ok
All tests successful.
Files=26, Tests=54, 3 wallclock secs ( 0.35 usr 0.12 sys + 4.64 cusr 1.57 csys = 6.68 CPU)
Result: PASS
------------------------------
PREREQUISITES
------------------------------
Prerequisite modules loaded:
requires:
Module Need Have
------------------- -------- --------
Carp 0 1.54
Const::Fast 0 0.014
Exporter 5.57 5.77
List::Util 1.56 1.63
Package::Stash 0 0.40
perl 5.014000 5.038000
Ref::Util 0 0.204
warnings 0 1.65
build_requires:
Module Need Have
------------------- -------- --------
ExtUtils::MakeMaker 7.22 7.70
File::Spec 0 3.88
Hash::Objectify 0 0.008
if 0 0.0610
lib 0 0.65
Module::Metadata 1.000015 1.000037
strict 0 1.12
Sub::Identify 0.06 0.14
Test::More 0 1.302195
Test::Most 0 0.38
configure_requires:
Module Need Have
------------------- -------- --------
ExtUtils::MakeMaker 0 7.70
opt_requires:
Module Need Have
------------------- -------- --------
List::SomeUtils::XS 0 0.58
Package::Stash::XS 0 0.30
Ref::Util::XS 0 0.117
Storable 3.05 3.32
opt_build_requires:
Module Need Have
------------------- -------- --------
CPAN::Meta 2.120900 2.150010
------------------------------
ENVIRONMENT AND OTHER CONTEXT
------------------------------
Environment variables:
AUTOMATED_TESTING = 1
HARNESS_OPTIONS = c:j2
PATH = /home/smoker/perl5/perlbrew/bin:/home/smoker/perl5/perlbrew/perls/perl-5.38.0/bin:/usr/local/sbin:/usr/local/bin:/usr/sbin:/usr/bin:/sbin:/bin::
PERL5LIB = /home/smoker/.cpan/build/Ref-Util-0.204-0/blib/arch:/home/smoker/.cpan/build/Ref-Util-0.204-0/blib/lib:/home/smoker/.cpan/build/Ref-Util-XS-0.117-0/blib/arch:/home/smoker/.cpan/build/Ref-Util-XS-0.117-0/blib/lib:/home/smoker/.cpan/build/Hash-Objectify-0.008-0/blib/arch:/home/smoker/.cpan/build/Hash-Objectify-0.008-0/blib/lib:/home/smoker/.cpan/build/Const-Fast-0.014-0/blib/arch:/home/smoker/.cpan/build/Const-Fast-0.014-0/blib/lib:/home/smoker/.cpan/build/Config-Properties-1.80-0/blib/arch:/home/smoker/.cpan/build/Config-Properties-1.80-0/blib/lib:/home/smoker/.cpan/build/Class-Std-Fast-v0.0.8-0/blib/arch:/home/smoker/.cpan/build/Class-Std-Fast-v0.0.8-0/blib/lib:/home/smoker/.cpan/build/Class-Std-0.013-0/blib/arch:/home/smoker/.cpan/build/Class-Std-0.013-0/blib/lib:/home/smoker/.cpan/build/XML-Entities-0/blib/arch:/home/smoker/.cpan/build/XML-Entities-0/blib/lib:/home/smoker/.cpan/build/CPANSA-DB-20250807.001-0/blib/arch:/home/smoker/.cpan/build/CPANSA-DB-20250807.001-0/blib/lib
PERL5OPT =
PERL5_CPANPLUS_IS_RUNNING = 24
PERL5_CPAN_IS_RUNNING = 24
PERL5_CPAN_IS_RUNNING_IN_RECURSION = 1,24
PERLBREW_HOME = /home/smoker/.perlbrew
PERLBREW_MANPATH = /home/smoker/perl5/perlbrew/perls/perl-5.38.0/man
PERLBREW_PATH = /home/smoker/perl5/perlbrew/bin:/home/smoker/perl5/perlbrew/perls/perl-5.38.0/bin
PERLBREW_PERL = perl-5.38.0
PERLBREW_ROOT = /home/smoker/perl5/perlbrew
PERLBREW_SHELLRC_VERSION = 0.97
PERLBREW_VERSION = 0.97
PERL_MM_USE_DEFAULT = 1
PERL_USE_UNSAFE_INC = 1
SHELL = /bin/bash
TERM = xterm
TMPDIR = /tmp/testwrapper.17
Perl special variables (and OS-specific diagnostics, for MSWin32):
$^X = /home/smoker/perl5/perlbrew/perls/perl-5.38.0/bin/perl5.38.0
$UID/$EUID = 1000 / 1000
$GID = 1000 1000
$EGID = 1000 1000
Perl module toolchain versions installed:
Module Have
------------------- --------
CPAN 2.36
CPAN::Meta 2.150010
Cwd 3.89
ExtUtils::CBuilder 0.280238
ExtUtils::Command 7.70
ExtUtils::Install 2.22
ExtUtils::MakeMaker 7.70
ExtUtils::Manifest 1.73
ExtUtils::ParseXS 3.51
File::Spec 3.88
JSON n/a
JSON::PP 4.16
Module::Build 0.4234
Module::Signature n/a
Parse::CPAN::Meta 2.150010
Test2 1.302195
Test::Harness 3.44
Test::More 1.302195
YAML 1.30
YAML::Syck 1.34
version 0.9929
--
Summary of my perl5 (revision 5 version 38 subversion 0) configuration:
Platform:
osname=linux
osvers=5.4.0-1102-oracle
archname=x86_64-linux
uname='linux 78023b61d5c8 5.4.0-1102-oracle #111~18.04.1-ubuntu smp thu may 18 22:00:55 utc 2023 x86_64 gnulinux '
config_args='-de -Dprefix=/home/smoker/perl5/perlbrew/perls/perl-5.38.0 -Dusedevel -Accflags=-O2 -pipe -Wall -Wextra -mtune=native -march=native -Aeval:scriptdir=/home/smoker/perl5/perlbrew/perls/perl-5.38.0/bin'
hint=recommended
useposix=true
d_sigaction=define
useithreads=undef
usemultiplicity=undef
use64bitint=define
use64bitall=define
uselongdouble=undef
usemymalloc=n
default_inc_excludes_dot=define
Compiler:
cc='cc'
ccflags ='-O2 -pipe -Wall -Wextra -mtune=native -march=native -fwrapv -fno-strict-aliasing -fstack-protector-strong -I/usr/local/include -D_LARGEFILE_SOURCE -D_FILE_OFFSET_BITS=64 -D_FORTIFY_SOURCE=2'
optimize='-O2'
cppflags='-O2 -pipe -Wall -Wextra -mtune=native -march=native -fwrapv -fno-strict-aliasing -fstack-protector-strong -I/usr/local/include'
ccversion=''
gccversion='8.3.0'
gccosandvers=''
intsize=4
longsize=8
ptrsize=8
doublesize=8
byteorder=12345678
doublekind=3
d_longlong=define
longlongsize=8
d_longdbl=define
longdblsize=16
longdblkind=3
ivtype='long'
ivsize=8
nvtype='double'
nvsize=8
Off_t='off_t'
lseeksize=8
alignbytes=8
prototype=define
Linker and Libraries:
ld='cc'
ldflags =' -fstack-protector-strong -L/usr/local/lib'
libpth=/usr/local/lib /usr/lib/x86_64-linux-gnu /usr/lib /lib/x86_64-linux-gnu /lib
libs=-lpthread -ldl -lm -lcrypt -lutil -lc
perllibs=-lpthread -ldl -lm -lcrypt -lutil -lc
libc=libc-2.28.so
so=so
useshrplib=false
libperl=libperl.a
gnulibc_version='2.28'
Dynamic Linking:
dlsrc=dl_dlopen.xs
dlext=so
d_dlsymun=undef
ccdlflags='-Wl,-E'
cccdlflags='-fPIC'
lddlflags='-shared -O2 -L/usr/local/lib -fstack-protector-strong'
Characteristics of this binary (from libperl):
Compile-time options:
HAS_LONG_DOUBLE
HAS_STRTOLD
HAS_TIMES
PERLIO_LAYERS
PERL_COPY_ON_WRITE
PERL_DONT_CREATE_GVSV
PERL_HASH_FUNC_SIPHASH13
PERL_HASH_USE_SBOX32
PERL_MALLOC_WRAP
PERL_OP_PARENT
PERL_PRESERVE_IVUV
PERL_USE_DEVEL
PERL_USE_SAFE_PUTENV
USE_64_BIT_ALL
USE_64_BIT_INT
USE_LARGE_FILES
USE_LOCALE
USE_LOCALE_COLLATE
USE_LOCALE_CTYPE
USE_LOCALE_NUMERIC
USE_LOCALE_TIME
USE_PERLIO
USE_PERL_ATOF
Built under linux
Compiled at Jul 3 2023 22:44:10
%ENV:
PERL5LIB="/home/smoker/.cpan/build/Ref-Util-0.204-0/blib/arch:/home/smoker/.cpan/build/Ref-Util-0.204-0/blib/lib:/home/smoker/.cpan/build/Ref-Util-XS-0.117-0/blib/arch:/home/smoker/.cpan/build/Ref-Util-XS-0.117-0/blib/lib:/home/smoker/.cpan/build/Hash-Objectify-0.008-0/blib/arch:/home/smoker/.cpan/build/Hash-Objectify-0.008-0/blib/lib:/home/smoker/.cpan/build/Const-Fast-0.014-0/blib/arch:/home/smoker/.cpan/build/Const-Fast-0.014-0/blib/lib:/home/smoker/.cpan/build/Config-Properties-1.80-0/blib/arch:/home/smoker/.cpan/build/Config-Properties-1.80-0/blib/lib:/home/smoker/.cpan/build/Class-Std-Fast-v0.0.8-0/blib/arch:/home/smoker/.cpan/build/Class-Std-Fast-v0.0.8-0/blib/lib:/home/smoker/.cpan/build/Class-Std-0.013-0/blib/arch:/home/smoker/.cpan/build/Class-Std-0.013-0/blib/lib:/home/smoker/.cpan/build/XML-Entities-0/blib/arch:/home/smoker/.cpan/build/XML-Entities-0/blib/lib:/home/smoker/.cpan/build/CPANSA-DB-20250807.001-0/blib/arch:/home/smoker/.cpan/build/CPANSA-DB-20250807.001-0/blib/lib"
PERL5OPT=""
PERL5_CPANPLUS_IS_RUNNING="24"
PERL5_CPAN_IS_RUNNING="24"
PERL5_CPAN_IS_RUNNING_IN_RECURSION="1,24"
PERLBREW_HOME="/home/smoker/.perlbrew"
PERLBREW_MANPATH="/home/smoker/perl5/perlbrew/perls/perl-5.38.0/man"
PERLBREW_PATH="/home/smoker/perl5/perlbrew/bin:/home/smoker/perl5/perlbrew/perls/perl-5.38.0/bin"
PERLBREW_PERL="perl-5.38.0"
PERLBREW_ROOT="/home/smoker/perl5/perlbrew"
PERLBREW_SHELLRC_VERSION="0.97"
PERLBREW_VERSION="0.97"
PERL_MM_USE_DEFAULT="1"
PERL_USE_UNSAFE_INC="1"
@INC:
/home/smoker/.cpan/build/Ref-Util-0.204-0/blib/arch
/home/smoker/.cpan/build/Ref-Util-0.204-0/blib/lib
/home/smoker/.cpan/build/Ref-Util-XS-0.117-0/blib/arch
/home/smoker/.cpan/build/Ref-Util-XS-0.117-0/blib/lib
/home/smoker/.cpan/build/Hash-Objectify-0.008-0/blib/arch
/home/smoker/.cpan/build/Hash-Objectify-0.008-0/blib/lib
/home/smoker/.cpan/build/Const-Fast-0.014-0/blib/arch
/home/smoker/.cpan/build/Const-Fast-0.014-0/blib/lib
/home/smoker/.cpan/build/Config-Properties-1.80-0/blib/arch
/home/smoker/.cpan/build/Config-Properties-1.80-0/blib/lib
/home/smoker/.cpan/build/Class-Std-Fast-v0.0.8-0/blib/arch
/home/smoker/.cpan/build/Class-Std-Fast-v0.0.8-0/blib/lib
/home/smoker/.cpan/build/Class-Std-0.013-0/blib/arch
/home/smoker/.cpan/build/Class-Std-0.013-0/blib/lib
/home/smoker/.cpan/build/XML-Entities-0/blib/arch
/home/smoker/.cpan/build/XML-Entities-0/blib/lib
/home/smoker/.cpan/build/CPANSA-DB-20250807.001-0/blib/arch
/home/smoker/.cpan/build/CPANSA-DB-20250807.001-0/blib/lib
/home/smoker/perl5/perlbrew/perls/perl-5.38.0/lib/site_perl/5.38.0/x86_64-linux
/home/smoker/perl5/perlbrew/perls/perl-5.38.0/lib/site_perl/5.38.0
/home/smoker/perl5/perlbrew/perls/perl-5.38.0/lib/5.38.0/x86_64-linux
/home/smoker/perl5/perlbrew/perls/perl-5.38.0/lib/5.38.0
.