Report for Test-File-Content-1.0.2

Back
From: metabase:user:fcf99560-6bf4-1014-86b3-1cf189224fdf
Subject: PASS Test-File-Content-1.0.2 v5.14.3 
Date: 2012-11-27T16:32:34Z

This distribution has been tested as part of the CPAN Testers
project, supporting the Perl programming language.  See
http://wiki.cpantesters.org/ for more information or email
questions to cpan-testers-discuss@perl.org


--
Dear Moritz Onken,

This is a computer-generated report for Test-File-Content-1.0.2
on perl 5.14.3, created by CPAN-Reporter-1.2006.

Thank you for uploading your work to CPAN.  Congratulations!
All tests were successful.

Sections of this report:

    * Tester comments
    * Program output
    * Prerequisites
    * Environment and other context

------------------------------
TESTER COMMENTS
------------------------------

Additional comments from tester:

this report is from an automated smoke testing program
and was not reviewed by a human for accuracy

------------------------------
PROGRAM OUTPUT
------------------------------

Output from 'C:\smoker\strawberry5143\perl\bin\perl.exe ./Build test':

t/00-compile.t ................ ok
# 
# 
# perl: v5.14.3 (wanted any version) on MSWin32 from C:\smoker\strawberry5143\perl\bin\perl.exe
# 
# Exporter                                      => 5.67       (want any version)
# File::Find                                    => 1.19       (want any version)
# File::Temp                                    => 0.22       (want any version)
# Module::Build                                 => 0.4003     (want 0.3601) 
# Path::Class::File                             => 0.26       (want 0.23)   
# Test::Harness                                 => 3.25       (want 3.22)   
# Test::More                                    => 0.98       (want 0.96)   
# strict                                        => 1.04       (want any version)
# warnings                                      => 1.12       (want any version)
# 
# Thanks for using my code.  I hope it works for you.
# If not, please try and include this output in the bug report.
# That will help me reproduce the issue and solve you problem.
# 
t/000-report-versions-tiny.t .. ok

#   Failed test 't\code\test.js'
#   at C:\smoker\strawberry5143\cpan\build\Test-File-Content-1.0.2-3LM4ma\blib\lib/Test/File/Content.pm line 100.
# console.log found in t\code\test.js line 1
# console.log found in t\code\test.js line 2

#   Failed test 't\code\test.pm'
#   at C:\smoker\strawberry5143\cpan\build\Test-File-Content-1.0.2-3LM4ma\blib\lib/Test/File/Content.pm line 100.
# make_immutable found in t\code\test.pm line 10

#   Failed test 't\code\test.js'
#   at C:\smoker\strawberry5143\cpan\build\Test-File-Content-1.0.2-3LM4ma\blib\lib/Test/File/Content.pm line 100.
# file t\code\test.js does not contain make_immutable

#   Failed test 't\code\test.js'
#   at C:\smoker\strawberry5143\cpan\build\Test-File-Content-1.0.2-3LM4ma\blib\lib/Test/File/Content.pm line 100.
# file t\code\test.js does not contain make_immutable

#   Failed test 't\code\test.tt'
#   at C:\smoker\strawberry5143\cpan\build\Test-File-Content-1.0.2-3LM4ma\blib\lib/Test/File/Content.pm line 100.
# file t\code\test.tt does not contain make_immutable
# Looks like you failed 5 tests of 15.
t/output.t .................... ok
t/release-has-version.t ....... skipped: these tests are for release candidate testing
t/release-kwalitee.t .......... skipped: these tests are for release candidate testing
t/release-minimum-version.t ... skipped: these tests are for release candidate testing
t/release-pod-coverage.t ...... skipped: these tests are for release candidate testing
t/release-pod-syntax.t ........ skipped: these tests are for release candidate testing
All tests successful.
Files=8, Tests=6,  3 wallclock secs ( 0.06 usr +  0.06 sys =  0.13 CPU)
Result: PASS

------------------------------
PREREQUISITES
------------------------------

Prerequisite modules loaded:

requires:

    Module            Need   Have  
    ----------------- ------ ------
    Exporter          0      5.67  
    File::Find        0      1.19  
    Path::Class::File 0.23   0.26  
    strict            0      1.04  
    Test::Harness     3.22   3.25  
    Test::More        0.96   0.98  
    warnings          0      1.12  

build_requires:

    Module            Need   Have  
    ----------------- ------ ------
    File::Temp        0      0.22  
    Module::Build     0.3601 0.4003
    Test::Harness     0      3.25  
    Test::More        0.88   0.98  

configure_requires:

    Module            Need   Have  
    ----------------- ------ ------
    Module::Build     0.3601 0.4003


------------------------------
ENVIRONMENT AND OTHER CONTEXT
------------------------------

Environment variables:

    AUTOMATED_TESTING = 1
    COMSPEC = C:\Windows\system32\cmd.exe
    NUMBER_OF_PROCESSORS = 2
    PATH = C:\smoker\strawberry5143\perl\site\bin;C:\smoker\strawberry5143\perl\bin;C:\smoker\strawberry5143\c\bin;c:\Program Files\Common Files\Microsoft Shared\Windows Live;c:\Windows\system32\;c:\Windows;c:\Windows\System32\Wbem;c:\Program Files\MySQL\MySQL Server 5.1\bin
    PERL5LIB = 
    PERL5OPT = 
    PERL5_CPANPLUS_IS_RUNNING = 392
    PERL5_CPAN_IS_RUNNING = 392
    PERL5_CPAN_IS_RUNNING_IN_RECURSION = 5708,392
    PERL_CR_SMOKER_CURRENT = Test-File-Content-1.0.2
    PERL_EXTUTILS_AUTOINSTALL = --defaultdeps
    PERL_JSON_BACKEND = JSON::XS
    PERL_MM_USE_DEFAULT = 1
    PERL_YAML_BACKEND = YAML::XS
    PROCESSOR_IDENTIFIER = x86 Family 6 Model 15 Stepping 13, GenuineIntel
    TEMP = C:\Users\smoker\AppData\Local\Temp
    TERM = dumb

Perl special variables (and OS-specific diagnostics, for MSWin32):

    $^X = C:\smoker\strawberry5143\perl\bin\perl.exe
    $UID/$EUID = 0 / 0
    $GID = 0
    $EGID = 0
    Win32::GetOSName = WinVista
    Win32::GetOSVersion = Service Pack 2, 6, 0, 6002, 2, 2, 0, 256, 1
    Win32::FsType = NTFS
    Win32::IsAdminUser = 0

Perl module toolchain versions installed:

    Module              Have    
    ------------------- --------
    CPAN                1.9800  
    CPAN::Meta          2.120921
    Cwd                 3.36    
    ExtUtils::CBuilder  0.280205
    ExtUtils::Command   1.17    
    ExtUtils::Install   1.56    
    ExtUtils::MakeMaker 6.63_03 
    ExtUtils::Manifest  1.61    
    ExtUtils::ParseXS   3.18    
    File::Spec          3.33    
    JSON                2.53    
    JSON::PP            2.27200 
    Module::Build       0.4003  
    Module::Signature   0.68    
    Parse::CPAN::Meta   1.4404  
    Test::Harness       3.25    
    Test::More          0.98    
    YAML                0.84    
    YAML::Syck          1.21    
    version             0.9901  


--

Summary of my perl5 (revision 5 version 14 subversion 3) configuration:
   
  Platform:
    osname=MSWin32, osvers=4.0, archname=MSWin32-x86-multi-thread
    uname='Win32 strawberry-perl 5.14.3.1 #1 Wed Oct 17 22:51:55 2012 i386'
    config_args='undef'
    hint=recommended, useposix=true, d_sigaction=undef
    useithreads=define, usemultiplicity=define
    useperlio=define, d_sfio=undef, uselargefiles=define, usesocks=undef
    use64bitint=undef, use64bitall=undef, uselongdouble=undef
    usemymalloc=n, bincompat5005=undef
  Compiler:
    cc='gcc', ccflags =' -s -O2 -DWIN32  -DPERL_TEXTMODE_SCRIPTS -DPERL_IMPLICIT_CONTEXT -DPERL_IMPLICIT_SYS -fno-strict-aliasing -mms-bitfields',
    optimize='-s -O2',
    cppflags='-DWIN32'
    ccversion='', gccversion='4.6.3', gccosandvers=''
    intsize=4, longsize=4, ptrsize=4, doublesize=8, byteorder=1234
    d_longlong=undef, longlongsize=8, d_longdbl=define, longdblsize=12
    ivtype='long', ivsize=4, nvtype='double', nvsize=8, Off_t='long long', lseeksize=8
    alignbytes=8, prototype=define
  Linker and Libraries:
    ld='g++.exe', ldflags ='-s -L"C:\smoker\strawberry5143\perl\lib\CORE" -L"C:\smoker\strawberry5143\c\lib"'
    libpth=C:\smoker\strawberry5143\c\lib C:\smoker\strawberry5143\c\i686-w64-mingw32\lib
    libs=-lmoldname -lkernel32 -luser32 -lgdi32 -lwinspool -lcomdlg32 -ladvapi32 -lshell32 -lole32 -loleaut32 -lnetapi32 -luuid -lws2_32 -lmpr -lwinmm -lversion -lodbc32 -lodbccp32 -lcomctl32
    perllibs=-lmoldname -lkernel32 -luser32 -lgdi32 -lwinspool -lcomdlg32 -ladvapi32 -lshell32 -lole32 -loleaut32 -lnetapi32 -luuid -lws2_32 -lmpr -lwinmm -lversion -lodbc32 -lodbccp32 -lcomctl32
    libc=, so=dll, useshrplib=true, libperl=libperl514.a
    gnulibc_version=''
  Dynamic Linking:
    dlsrc=dl_win32.xs, dlext=dll, d_dlsymun=undef, ccdlflags=' '
    cccdlflags=' ', lddlflags='-mdll -s -L"C:\smoker\strawberry5143\perl\lib\CORE" -L"C:\smoker\strawberry5143\c\lib"'


Characteristics of this binary (from libperl): 
  Compile-time options: MULTIPLICITY PERL_DONT_CREATE_GVSV
                        PERL_IMPLICIT_CONTEXT PERL_IMPLICIT_SYS
                        PERL_MALLOC_WRAP PERL_PRESERVE_IVUV PL_OP_SLAB_ALLOC
                        USE_ITHREADS USE_LARGE_FILES USE_PERLIO
                        USE_PERL_ATOF
  Built under MSWin32
  Compiled at Oct 17 2012 23:05:06
  %ENV:
    PERL5_CPANPLUS_IS_RUNNING="392"
    PERL5_CPAN_IS_RUNNING="392"
    PERL5_CPAN_IS_RUNNING_IN_RECURSION="5708,392"
    PERL_CR_SMOKER_CURRENT="Test-File-Content-1.0.2"
    PERL_EXTUTILS_AUTOINSTALL="--defaultdeps"
    PERL_JSON_BACKEND="JSON::XS"
    PERL_MM_USE_DEFAULT="1"
    PERL_YAML_BACKEND="YAML::XS"
  @INC:
    C:/smoker/strawberry5143/perl/site/lib
    C:/smoker/strawberry5143/perl/vendor/lib
    C:/smoker/strawberry5143/perl/lib
    .