App-Dochazka-REST v0.559 Perl 5 v5.34.1 x86_64-linux
- Status
- Pass
- From
- Slaven Rezić
- Dist
-
App-Dochazka-REST v0.559
- Platform
- Perl 5 v5.34.1 x86_64-linux
- Date
- 2022-06-29 16:02:36
- ID
- e4b7c796-f7c4-11ec-a4ce-3a7a2cbfd570
This distribution has been tested as part of the CPAN Testers
project, supporting the Perl programming language. See
http://wiki.cpantesters.org/ for more information or email
questions to cpan-testers-discuss@perl.org
--
Dear Nathan Cutler,
This is a computer-generated report for App-Dochazka-REST-0.559
on perl 5.34.1, created by CPAN-Reporter-1.2018.
Thank you for uploading your work to CPAN. Congratulations!
All tests were successful.
Sections of this report:
* Tester comments
* Program output
* Prerequisites
* Environment and other context
------------------------------
TESTER COMMENTS
------------------------------
Additional comments from tester:
none provided
------------------------------
PROGRAM OUTPUT
------------------------------
Output from './Build test':
t/001-noauto.t ................. ok
t/critic.t ..................... skipped: Author test. Set $ENV{TEST_AUTHOR} to a true value to run.
t/dispatch/001-resource.t ...... skipped: Integration testing environment not detected
t/dispatch/activity.t .......... skipped: Integration testing environment not detected
t/dispatch/component.t ......... skipped: Integration testing environment not detected
t/dispatch/employee.t .......... skipped: Integration testing environment not detected
t/dispatch/fillup.t ............ skipped: Integration testing environment not detected
t/dispatch/genreport.t ......... skipped: Integration testing environment not detected
t/dispatch/history-bug.t ....... skipped: Integration testing environment not detected
t/dispatch/history.t ........... skipped: Integration testing environment not detected
t/dispatch/holiday.t ........... skipped: Integration testing environment not detected
t/dispatch/interval_lock.t ..... skipped: Integration testing environment not detected
t/dispatch/interval_newline.t .. skipped: WIP
t/dispatch/priv.t .............. skipped: Integration testing environment not detected
t/dispatch/qualifiers.t ........ skipped: Integration testing environment not detected
t/dispatch/schedule-bug.t ...... skipped: Integration testing environment not detected
t/dispatch/schedule.t .......... skipped: Integration testing environment not detected
t/dispatch/supervisor.t ........ skipped: Integration testing environment not detected
t/dispatch/top.t ............... skipped: Integration testing environment not detected
t/fillup-bug-67.t .............. skipped: Integration testing environment not detected
t/fillup.t ..................... skipped: Integration testing environment not detected
t/ldap.t ....................... skipped: Integration testing environment not detected
t/manifest.t ................... skipped: Author tests not required for installation
t/mason.t ...................... skipped: State directory /var/lib/dochazka-rest is missing
t/model/activity.t ............. skipped: Integration testing environment not detected
t/model/canonicalize.t ......... skipped: Integration testing environment not detected
t/model/component.t ............ skipped: Integration testing environment not detected
t/model/delete_all.t ........... skipped: Integration testing environment not detected
t/model/during_range.t ......... skipped: Integration testing environment not detected
t/model/employee.t ............. skipped: Integration testing environment not detected
t/model/id.t ................... skipped: Integration testing environment not detected
t/model/interval_lock.t ........ skipped: Integration testing environment not detected
t/model/privhistory.t .......... skipped: Integration testing environment not detected
t/model/schedintvls.t .......... skipped: Integration testing environment not detected
t/model/schedule.t ............. skipped: Integration testing environment not detected
t/model/split_tsrange.t ........ skipped: Integration testing environment not detected
t/model/timestamp_delta.t ...... skipped: Integration testing environment not detected
t/sql/current_priv.t ........... skipped: Integration testing environment not detected
t/sql/disabled_to_zero.t ....... skipped: Integration testing environment not detected
t/sql/immutable_id.t ........... skipped: Integration testing environment not detected
t/sql/privhistory.t ............ skipped: Integration testing environment not detected
t/sql/root.t ................... skipped: Integration testing environment not detected
t/sql/schedhistory.t ........... skipped: Integration testing environment not detected
t/sql/schedintvl.t ............. skipped: Integration testing environment not detected
t/unit/ACL.t ................... ok
t/unit/holiday.t ............... ok
All tests successful.
Files=46, Tests=35, 20 wallclock secs ( 0.10 usr 0.05 sys + 19.05 cusr 1.53 csys = 20.73 CPU)
Result: PASS
------------------------------
PREREQUISITES
------------------------------
Prerequisite modules loaded:
requires:
Module Need Have
-------------------------------- ----- --------
App::CELL 0.215 0.231
App::Dochazka::Common 0.207 0.210
Authen::Passphrase::SaltedDigest 0.008 0.008
Date::Calc 0 6.4
Date::Holidays::CZ 0.12 0.20
DBD::Pg 0 3.15.1
DBI 0 1.643
DBIx::Connector 0.47 0.57
File::ShareDir 1 1.118
JSON 0 4.07
Mason 0 2.24
Params::Validate 1.06 1.30
Path::Router 0.12 0.15
perl 5.012 5.034001
Plack::Middleware::Session 0 0.33
Plack::Middleware::StackTrace 0 0
Plack::Runner 0 0
Pod::Simple::HTML 0 3.42
Test::Deep::NoTest 0 0
Try::Tiny 0 0.31
Web::Machine 0.15 0.17
Web::MREST 0.287 0.290
Web::MREST::CLI 0.276 0.284
build_requires:
Module Need Have
-------------------------------- ----- --------
App::CELL 0.215 0.231
App::Dochazka::Common 0.205 0.210
Authen::Passphrase::SaltedDigest 0.008 0.008
Date::Holidays::CZ 0.12 0.20
DBIx::Connector 0.47 0.57
File::ShareDir::Install 0.11 0.13
File::Slurp 0 9999.32
HTTP::Request 0 6.37
Mason 0 2.24
Plack::Test 0 0
Test::Fatal 0 0.016
Test::JSON 0 0.11
Test::Warnings 0 0.031
Web::Machine 0.15 0.17
Web::MREST 0.287 0.290
Web::MREST::CLI 0.276 0.284
configure_requires:
Module Need Have
-------------------------------- ----- --------
Module::Build 0 0.4231
------------------------------
ENVIRONMENT AND OTHER CONTEXT
------------------------------
Environment variables:
LANG = en_US.UTF-8
PATH = /usr/local/bin:/usr/bin:/bin:/usr/local/sbin:/usr/sbin:/sbin:/home/cpansand/bin/linux-gnu:/home/cpansand/bin/sh:/home/cpansand/bin:/usr/games:/home/cpansand/devel:/home/eserte/src/srezic-misc/scripts
PERL5LIB =
PERL5OPT =
PERL5_CPANPLUS_IS_RUNNING = 1591386
PERL5_CPAN_IS_RUNNING = 1591386
PERL5_CPAN_IS_RUNNING_IN_RECURSION = 1590793,1591386
PERLDOC = -MPod::Perldoc::ToTextOverstrike
PERL_BATCH = yes
PERL_CANARY_STABILITY_NOPROMPT = 1
PERL_CPAN_REPORTER_CONFIG = /var/tmp/cpansmoker-1023/2022062915/cpanreporter_000_config.ini
PERL_EXTUTILS_AUTOINSTALL = --defaultdeps
PERL_USE_UNSAFE_INC = 1
SHELL = /usr/bin/zsh
TERM = screen
TMPDIR = /var/tmp/cpansmoker-1023/2022062915
Perl special variables (and OS-specific diagnostics, for MSWin32):
$^X = /opt/perl-5.34.1/bin/perl
$UID/$EUID = 1023 / 1023
$GID = 1023 1023
$EGID = 1023 1023
Perl module toolchain versions installed:
Module Have
------------------- --------
CPAN 2.34
CPAN::Meta 2.150010
Cwd 3.80
ExtUtils::CBuilder 0.280236
ExtUtils::Command 7.64
ExtUtils::Install 2.20
ExtUtils::MakeMaker 7.64
ExtUtils::Manifest 1.73
ExtUtils::ParseXS 3.43
File::Spec 3.80
JSON 4.07
JSON::PP 4.10
Module::Build 0.4231
Module::Signature n/a
Parse::CPAN::Meta 2.150010
Test::Harness 3.44
Test::More 1.302190
YAML 1.30
YAML::Syck 1.34
version 0.9928
--
Summary of my perl5 (revision 5 version 34 subversion 1) configuration:
Platform:
osname=linux
osvers=5.10.0-10-amd64
archname=x86_64-linux
uname='linux cloud7.bbbike.org 5.10.0-10-amd64 #1 smp debian 5.10.84-1 (2021-12-08) x86_64 gnulinux '
config_args='-ds -e -Dprefix=/opt/perl-5.34.1 -Dcf_email=srezic@cpan.org'
hint=recommended
useposix=true
d_sigaction=define
useithreads=undef
usemultiplicity=undef
use64bitint=define
use64bitall=define
uselongdouble=undef
usemymalloc=n
default_inc_excludes_dot=define
Compiler:
cc='cc'
ccflags ='-fwrapv -fno-strict-aliasing -pipe -fstack-protector-strong -I/usr/local/include -D_LARGEFILE_SOURCE -D_FILE_OFFSET_BITS=64 -D_FORTIFY_SOURCE=2'
optimize='-O2'
cppflags='-fwrapv -fno-strict-aliasing -pipe -fstack-protector-strong -I/usr/local/include'
ccversion=''
gccversion='10.2.1 20210110'
gccosandvers=''
intsize=4
longsize=8
ptrsize=8
doublesize=8
byteorder=12345678
doublekind=3
d_longlong=define
longlongsize=8
d_longdbl=define
longdblsize=16
longdblkind=3
ivtype='long'
ivsize=8
nvtype='double'
nvsize=8
Off_t='off_t'
lseeksize=8
alignbytes=8
prototype=define
Linker and Libraries:
ld='cc'
ldflags =' -fstack-protector-strong -L/usr/local/lib'
libpth=/usr/local/lib /usr/lib/x86_64-linux-gnu /usr/lib /usr/lib64
libs=-lpthread -lnsl -lgdbm -ldb -ldl -lm -lcrypt -lutil -lc
perllibs=-lpthread -lnsl -ldl -lm -lcrypt -lutil -lc
libc=libc-2.31.so
so=so
useshrplib=false
libperl=libperl.a
gnulibc_version='2.31'
Dynamic Linking:
dlsrc=dl_dlopen.xs
dlext=so
d_dlsymun=undef
ccdlflags='-Wl,-E'
cccdlflags='-fPIC'
lddlflags='-shared -O2 -L/usr/local/lib -fstack-protector-strong'
Characteristics of this binary (from libperl):
Compile-time options:
HAS_TIMES
PERLIO_LAYERS
PERL_COPY_ON_WRITE
PERL_DONT_CREATE_GVSV
PERL_MALLOC_WRAP
PERL_OP_PARENT
PERL_PRESERVE_IVUV
USE_64_BIT_ALL
USE_64_BIT_INT
USE_LARGE_FILES
USE_LOCALE
USE_LOCALE_COLLATE
USE_LOCALE_CTYPE
USE_LOCALE_NUMERIC
USE_LOCALE_TIME
USE_PERLIO
USE_PERL_ATOF
Built under linux
Compiled at Mar 26 2022 07:33:57
%ENV:
PERL5LIB=""
PERL5OPT=""
PERL5_CPANPLUS_IS_RUNNING="1591386"
PERL5_CPAN_IS_RUNNING="1591386"
PERL5_CPAN_IS_RUNNING_IN_RECURSION="1590793,1591386"
PERLDOC="-MPod::Perldoc::ToTextOverstrike"
PERL_BATCH="yes"
PERL_CANARY_STABILITY_NOPROMPT="1"
PERL_CPAN_REPORTER_CONFIG="/var/tmp/cpansmoker-1023/2022062915/cpanreporter_000_config.ini"
PERL_EXTUTILS_AUTOINSTALL="--defaultdeps"
PERL_USE_UNSAFE_INC="1"
@INC:
/opt/perl-5.34.1/lib/site_perl/5.34.1/x86_64-linux
/opt/perl-5.34.1/lib/site_perl/5.34.1
/opt/perl-5.34.1/lib/5.34.1/x86_64-linux
/opt/perl-5.34.1/lib/5.34.1
.