Report for signatures-0.10

Back
From: metabase:user:320bfe00-2aae-11df-837a-5e0a49663a4f
Subject: PASS signatures-0.10 v5.12.5 GNU/Linux
Date: 2014-12-22T08:31:15Z

This distribution has been tested as part of the CPAN Testers
project, supporting the Perl programming language.  See
http://wiki.cpantesters.org/ for more information or email
questions to cpan-testers-discuss@perl.org


--
Dear Karen Etheridge,

This is a computer-generated report for signatures-0.10
on perl 5.12.5, created by CPAN-Reporter-1.2011.

Thank you for uploading your work to CPAN.  Congratulations!
All tests were successful.

Sections of this report:

    * Tester comments
    * Program output
    * Prerequisites
    * Environment and other context

------------------------------
TESTER COMMENTS
------------------------------

Additional comments from tester:

this report is from an automated smoke testing program
and was not reviewed by a human for accuracy

------------------------------
PROGRAM OUTPUT
------------------------------

Output from '/usr/bin/make test':

Running Mkbootstrap for signatures ()
chmod 644 "signatures.bs"
PERL_DL_NONLAZY=1 "/home/sand/src/perl/repoperls/installed-perls/perl/v5.12.5/165a/bin/perl" "-MExtUtils::Command::MM" "-MTest::Harness" "-e" "undef *Test::Harness::Switches; test_harness(0, 'blib/lib', 'blib/arch')" t/*.t

# Versions for all modules listed in MYMETA.json (including optional ones):
# 
# === Configure Requires ===
# 
#     Module                Want    Have
#     -------------------- ----- -------
#     B::Hooks::OP::Check   0.17    0.19
#     B::Hooks::OP::PPAddr  0.03    0.03
#     B::Hooks::Parser      0.12    0.12
#     ExtUtils::Depends    0.302   0.402
#     ExtUtils::MakeMaker    any 7.05_02
# 
# === Build Requires ===
# 
#     Module                Want  Have
#     -------------------- ----- -----
#     B::Hooks::OP::Check   0.17  0.19
#     B::Hooks::OP::PPAddr  0.03  0.03
#     B::Hooks::Parser      0.12  0.12
#     ExtUtils::Depends    0.302 0.402
# 
# === Test Requires ===
# 
#     Module              Want         Have
#     ------------------- ---- ------------
#     ExtUtils::MakeMaker  any      7.05_02
#     File::Spec           any         3.47
#     Test::More           any 1.301001_091
#     base                 any         2.18
#     vars                 any         1.01
# 
# === Test Recommends ===
# 
#     Module         Want     Have
#     ---------- -------- --------
#     CPAN::Meta 2.120900 2.143240
# 
# === Runtime Requires ===
# 
#     Module               Want Have
#     -------------------- ---- ----
#     B::Hooks::EndOfScope 0.08 0.13
#     B::Hooks::OP::Check  0.17 0.19
#     B::Hooks::OP::PPAddr 0.03 0.03
#     B::Hooks::Parser     0.12 0.12
#     XSLoader              any 0.10
#     strict                any 1.04
#     warnings              any 1.09
# 
t/00-report-prereqs.t .. ok
t/anon.t ............... ok
t/basic.t .............. ok
t/bug_junctions.t ...... ok
t/eval.t ............... ok
t/proto.t .............. ok
t/subclass.t ........... ok
t/warnings.t ........... ok
t/weird.t .............. ok
All tests successful.
Files=9, Tests=31,  2 wallclock secs ( 0.04 usr  0.00 sys +  0.69 cusr  0.07 csys =  0.80 CPU)
Result: PASS

------------------------------
PREREQUISITES
------------------------------

Prerequisite modules loaded:

requires:

    Module               Need  Have        
    -------------------- ----- ------------
    B::Hooks::EndOfScope 0.08  0.13        
    B::Hooks::OP::Check  0.17  0.19        
    B::Hooks::OP::PPAddr 0.03  0.03        
    B::Hooks::Parser     0.12  0.12        
    perl                 5.006 5.012005    
    strict               0     1.04        
    warnings             0     1.09        
    XSLoader             0     0.10        

build_requires:

    Module               Need  Have        
    -------------------- ----- ------------
    B::Hooks::OP::Check  0.17  0.19        
    B::Hooks::OP::PPAddr 0.03  0.03        
    B::Hooks::Parser     0.12  0.12        
    base                 0     2.18        
    ExtUtils::Depends    0.302 0.402       
    ExtUtils::MakeMaker  0     7.05_02     
    File::Spec           0     3.47        
    Test::More           0     1.301001_091
    vars                 0     1.01        

configure_requires:

    Module               Need  Have        
    -------------------- ----- ------------
    B::Hooks::OP::Check  0.17  0.19        
    B::Hooks::OP::PPAddr 0.03  0.03        
    B::Hooks::Parser     0.12  0.12        
    ExtUtils::Depends    0.302 0.402       
    ExtUtils::MakeMaker  0     7.05_02     
    perl                 5.006 5.012005    


------------------------------
ENVIRONMENT AND OTHER CONTEXT
------------------------------

Environment variables:

    AUTOMATED_TESTING = 1
    LANG = en_US.UTF-8
    LANGUAGE = en_US:en
    PATH = /home/sand/bin:/usr/local/bin:/usr/bin:/bin:/usr/games:/usr/local/perl/bin:/usr/X11/bin:/sbin:/usr/sbin
    PERL5LIB = 
    PERL5OPT = 
    PERL5_CPANPLUS_IS_RUNNING = 3619
    PERL5_CPAN_IS_RUNNING = 3619
    PERL_MM_USE_DEFAULT = 1
    SHELL = /usr/bin/zsh
    TERM = screen

Perl special variables (and OS-specific diagnostics, for MSWin32):

    $^X = /home/sand/src/perl/repoperls/installed-perls/perl/v5.12.5/165a/bin/perl
    $UID/$EUID = 1005 / 1005
    $GID = 1005 1005
    $EGID = 1005 1005

Perl module toolchain versions installed:

    Module              Have        
    ------------------- ------------
    CPAN                2.05        
    CPAN::Meta          2.143240    
    Cwd                 3.47        
    ExtUtils::CBuilder  0.280220    
    ExtUtils::Command   1.16        
    ExtUtils::Install   1.55        
    ExtUtils::MakeMaker 7.05_02     
    ExtUtils::Manifest  1.69        
    ExtUtils::ParseXS   3.24        
    File::Spec          3.47        
    JSON                2.90        
    JSON::PP            2.27203     
    Module::Build       0.4210      
    Module::Signature   0.73        
    Parse::CPAN::Meta   1.4414      
    Test::Harness       3.34        
    Test::More          1.301001_091
    YAML                1.13        
    YAML::Syck          1.29        
    version             0.9909      


--

Summary of my perl5 (revision 5 version 12 subversion 5) configuration:
  Commit id: 9a9cbd715960a905dcbc9166349a73a64a007e4e
  Platform:
    osname=linux, osvers=3.16.0-4-amd64, archname=x86_64-linux
    uname='linux k83 3.16.0-4-amd64 #1 smp debian 3.16.7-2 (2014-11-06) x86_64 gnulinux '
    config_args='-Dprefix=/home/sand/src/perl/repoperls/installed-perls/perl/v5.12.5/165a -Dmyhostname=k83 -Dinstallusrbinperl=n -Uversiononly -Dusedevel -des -Ui_db -Uuseithreads -Uuselongdouble -DDEBUGGING=-g'
    hint=recommended, useposix=true, d_sigaction=define
    useithreads=undef, usemultiplicity=undef
    useperlio=define, d_sfio=undef, uselargefiles=define, usesocks=undef
    use64bitint=define, use64bitall=define, uselongdouble=undef
    usemymalloc=n, bincompat5005=undef
  Compiler:
    cc='cc', ccflags ='-fno-strict-aliasing -pipe -fstack-protector -I/usr/local/include -D_LARGEFILE_SOURCE -D_FILE_OFFSET_BITS=64',
    optimize='-O2 -g',
    cppflags='-fno-strict-aliasing -pipe -fstack-protector -I/usr/local/include'
    ccversion='', gccversion='4.9.2', gccosandvers=''
    intsize=4, longsize=8, ptrsize=8, doublesize=8, byteorder=12345678
    d_longlong=define, longlongsize=8, d_longdbl=define, longdblsize=16
    ivtype='long', ivsize=8, nvtype='double', nvsize=8, Off_t='off_t', lseeksize=8
    alignbytes=8, prototype=define
  Linker and Libraries:
    ld='cc', ldflags =' -fstack-protector -L/usr/local/lib'
    libpth=/usr/local/lib /lib/x86_64-linux-gnu /lib/../lib /usr/lib/x86_64-linux-gnu /usr/lib/../lib /lib /usr/lib
    libs=-lnsl -lgdbm -ldb -ldl -lm -lcrypt -lutil -lc -lgdbm_compat
    perllibs=-lnsl -ldl -lm -lcrypt -lutil -lc
    libc=, so=so, useshrplib=false, libperl=libperl.a
    gnulibc_version='2.19'
  Dynamic Linking:
    dlsrc=dl_dlopen.xs, dlext=so, d_dlsymun=undef, ccdlflags='-Wl,-E'
    cccdlflags='-fPIC', lddlflags='-shared -O2 -g -L/usr/local/lib -fstack-protector'


Characteristics of this binary (from libperl): 
  Compile-time options: PERL_DONT_CREATE_GVSV PERL_MALLOC_WRAP PERL_USE_DEVEL
                        USE_64_BIT_ALL USE_64_BIT_INT USE_LARGE_FILES
                        USE_PERLIO USE_PERL_ATOF
  Built under linux
  Compiled at Dec  4 2014 19:27:16
  %ENV:
    PERL5LIB=""
    PERL5OPT=""
    PERL5_CPANPLUS_IS_RUNNING="3619"
    PERL5_CPAN_IS_RUNNING="3619"
    PERL_MM_USE_DEFAULT="1"
  @INC:
    /home/sand/src/perl/repoperls/installed-perls/perl/v5.12.5/165a/lib/site_perl/5.12.5/x86_64-linux
    /home/sand/src/perl/repoperls/installed-perls/perl/v5.12.5/165a/lib/site_perl/5.12.5
    /home/sand/src/perl/repoperls/installed-perls/perl/v5.12.5/165a/lib/5.12.5/x86_64-linux
    /home/sand/src/perl/repoperls/installed-perls/perl/v5.12.5/165a/lib/5.12.5
    .