Report for Yahoo-Marketing-7.03

Back
From: metabase:user:30ae4450-2aae-11df-837a-5e0a49663a4f
Subject: PASS Yahoo-Marketing-7.03 v5.18.0 
Date: 2013-08-10T10:28:00Z

This distribution has been tested as part of the CPAN Testers
project, supporting the Perl programming language.  See
http://wiki.cpantesters.org/ for more information or email
questions to cpan-testers-discuss@perl.org


--
Dear Johnny Shen,

This is a computer-generated report for Yahoo-Marketing-7.03
on perl 5.18.0, created by CPAN-Reporter-1.2010_01.

Thank you for uploading your work to CPAN.  Congratulations!
All tests were successful.

Sections of this report:

    * Tester comments
    * Program output
    * Prerequisites
    * Environment and other context

------------------------------
TESTER COMMENTS
------------------------------

Additional comments from tester:

this report is from an automated smoke testing program
and was not reviewed by a human for accuracy

------------------------------
PROGRAM OUTPUT
------------------------------

Output from 'C:\strawberry180\perl\bin\perl.exe ./Build test':


NOTE: we can run tests that will connect to Yahoo! Marketing's 
EWS, verifying your login credentials and more completely testing 
that this package is performing correctly.  If you would like to 
run these tests, please use perl Build posttest.

Use of uninitialized value in split at C:/strawberry180/perl/lib/TAP/Parser/SourceHandler/Perl.pm line 170.
# Testing Yahoo::Marketing 7.03, Perl 5.018000, C:\strawberry180\perl\bin\perl.exe
t\00-load.t .................................... ok
Use of uninitialized value in split at C:/strawberry180/perl/lib/TAP/Parser/SourceHandler/Perl.pm line 170.
t\01-instantiate_services.t .................... ok
t\02-cache.t ................................... ok
Use of uninitialized value in split at C:/strawberry180/perl/lib/TAP/Parser/SourceHandler/Perl.pm line 170.
t\account.t .................................... ok
Use of uninitialized value in split at C:/strawberry180/perl/lib/TAP/Parser/SourceHandler/Perl.pm line 170.
t\account_aggregate.t .......................... ok
Use of uninitialized value in split at C:/strawberry180/perl/lib/TAP/Parser/SourceHandler/Perl.pm line 170.
t\account_balance.t ............................ ok
Use of uninitialized value in split at C:/strawberry180/perl/lib/TAP/Parser/SourceHandler/Perl.pm line 170.
t\account_carrier_config.t ..................... ok
Use of uninitialized value in split at C:/strawberry180/perl/lib/TAP/Parser/SourceHandler/Perl.pm line 170.
t\account_carrier_setting.t .................... ok
t\account_service.t ............................ ok
Use of uninitialized value in split at C:/strawberry180/perl/lib/TAP/Parser/SourceHandler/Perl.pm line 170.
t\ad.t ......................................... ok
Use of uninitialized value in split at C:/strawberry180/perl/lib/TAP/Parser/SourceHandler/Perl.pm line 170.
t\ad_carrier_config.t .......................... ok
Use of uninitialized value in split at C:/strawberry180/perl/lib/TAP/Parser/SourceHandler/Perl.pm line 170.
t\ad_carrier_editorial_reason_info.t ........... ok
Use of uninitialized value in split at C:/strawberry180/perl/lib/TAP/Parser/SourceHandler/Perl.pm line 170.
t\ad_carrier_editorial_reasons.t ............... ok
Use of uninitialized value in split at C:/strawberry180/perl/lib/TAP/Parser/SourceHandler/Perl.pm line 170.
t\ad_carrier_setting.t ......................... ok
Use of uninitialized value in split at C:/strawberry180/perl/lib/TAP/Parser/SourceHandler/Perl.pm line 170.
t\ad_editorial_reasons.t ....................... ok
Use of uninitialized value in split at C:/strawberry180/perl/lib/TAP/Parser/SourceHandler/Perl.pm line 170.
t\ad_group.t ................................... ok
Use of uninitialized value in split at C:/strawberry180/perl/lib/TAP/Parser/SourceHandler/Perl.pm line 170.
t\ad_group_carrier_config.t .................... ok
Use of uninitialized value in split at C:/strawberry180/perl/lib/TAP/Parser/SourceHandler/Perl.pm line 170.
t\ad_group_carrier_setting.t ................... ok
Use of uninitialized value in split at C:/strawberry180/perl/lib/TAP/Parser/SourceHandler/Perl.pm line 170.
t\ad_group_forecast_request_data.t ............. ok
Use of uninitialized value in split at C:/strawberry180/perl/lib/TAP/Parser/SourceHandler/Perl.pm line 170.
t\ad_group_optimization_guidelines.t ........... ok
Use of uninitialized value in split at C:/strawberry180/perl/lib/TAP/Parser/SourceHandler/Perl.pm line 170.
t\ad_group_optimization_guidelines_response.t .. ok
Use of uninitialized value in split at C:/strawberry180/perl/lib/TAP/Parser/SourceHandler/Perl.pm line 170.
t\ad_group_response.t .......................... ok
t\ad_group_service.t ........................... ok
Use of uninitialized value in split at C:/strawberry180/perl/lib/TAP/Parser/SourceHandler/Perl.pm line 170.
t\ad_response.t ................................ ok
t\ad_service.t ................................. ok
Use of uninitialized value in split at C:/strawberry180/perl/lib/TAP/Parser/SourceHandler/Perl.pm line 170.
t\address.t .................................... ok
Use of uninitialized value in split at C:/strawberry180/perl/lib/TAP/Parser/SourceHandler/Perl.pm line 170.
t\age_range.t .................................. ok
Use of uninitialized value in split at C:/strawberry180/perl/lib/TAP/Parser/SourceHandler/Perl.pm line 170.
t\age_target.t ................................. ok
Use of uninitialized value in split at C:/strawberry180/perl/lib/TAP/Parser/SourceHandler/Perl.pm line 170.
t\ambiguous_geo_match.t ........................ ok
Use of uninitialized value in split at C:/strawberry180/perl/lib/TAP/Parser/SourceHandler/Perl.pm line 170.
t\api_fault.t .................................. ok
Use of uninitialized value in split at C:/strawberry180/perl/lib/TAP/Parser/SourceHandler/Perl.pm line 170.
t\authorization.t .............................. ok
Use of uninitialized value in split at C:/strawberry180/perl/lib/TAP/Parser/SourceHandler/Perl.pm line 170.
t\basic_report_request.t ....................... ok
t\basic_report_service.t ....................... ok
Use of uninitialized value in split at C:/strawberry180/perl/lib/TAP/Parser/SourceHandler/Perl.pm line 170.
t\basic_response.t ............................. ok
Use of uninitialized value in split at C:/strawberry180/perl/lib/TAP/Parser/SourceHandler/Perl.pm line 170.
t\bid_information.t ............................ ok
Use of uninitialized value in split at C:/strawberry180/perl/lib/TAP/Parser/SourceHandler/Perl.pm line 170.
t\bid_information_request.t .................... ok
t\bid_information_service.t .................... ok
Use of uninitialized value in split at C:/strawberry180/perl/lib/TAP/Parser/SourceHandler/Perl.pm line 170.
t\bid_update_info.t ............................ ok
Use of uninitialized value in split at C:/strawberry180/perl/lib/TAP/Parser/SourceHandler/Perl.pm line 170.
t\billing_user.t ............................... ok
Use of uninitialized value in split at C:/strawberry180/perl/lib/TAP/Parser/SourceHandler/Perl.pm line 170.
t\boilerplate.t ................................ ok
Use of uninitialized value in split at C:/strawberry180/perl/lib/TAP/Parser/SourceHandler/Perl.pm line 170.
t\bucket_type.t ................................ ok
t\budgeting_service.t .......................... ok
Use of uninitialized value in split at C:/strawberry180/perl/lib/TAP/Parser/SourceHandler/Perl.pm line 170.
t\bulk_download_status_info.t .................. ok
Use of uninitialized value in split at C:/strawberry180/perl/lib/TAP/Parser/SourceHandler/Perl.pm line 170.
t\bulk_download_status_response.t .............. ok
t\bulk_service.t ............................... ok
Use of uninitialized value in split at C:/strawberry180/perl/lib/TAP/Parser/SourceHandler/Perl.pm line 170.
t\bulk_upload_status_response.t ................ ok
Use of uninitialized value in split at C:/strawberry180/perl/lib/TAP/Parser/SourceHandler/Perl.pm line 170.
t\bulk_upload_token_url_response.t ............. ok
Use of uninitialized value in split at C:/strawberry180/perl/lib/TAP/Parser/SourceHandler/Perl.pm line 170.
t\campaign.t ................................... ok
Use of uninitialized value in split at C:/strawberry180/perl/lib/TAP/Parser/SourceHandler/Perl.pm line 170.
t\campaign_carrier_config.t .................... ok
Use of uninitialized value in split at C:/strawberry180/perl/lib/TAP/Parser/SourceHandler/Perl.pm line 170.
t\campaign_carrier_setting.t ................... ok
Use of uninitialized value in split at C:/strawberry180/perl/lib/TAP/Parser/SourceHandler/Perl.pm line 170.
t\campaign_optimization_guidelines.t ........... ok
Use of uninitialized value in split at C:/strawberry180/perl/lib/TAP/Parser/SourceHandler/Perl.pm line 170.
t\campaign_optimization_guidelines_response.t .. ok
Use of uninitialized value in split at C:/strawberry180/perl/lib/TAP/Parser/SourceHandler/Perl.pm line 170.
t\campaign_response.t .......................... ok
t\campaign_service.t ........................... ok
Use of uninitialized value in split at C:/strawberry180/perl/lib/TAP/Parser/SourceHandler/Perl.pm line 170.
t\capability.t ................................. ok
Use of uninitialized value in split at C:/strawberry180/perl/lib/TAP/Parser/SourceHandler/Perl.pm line 170.
t\carrier.t .................................... ok
Use of uninitialized value in split at C:/strawberry180/perl/lib/TAP/Parser/SourceHandler/Perl.pm line 170.
t\carrier_bid_information.t .................... ok
Use of uninitialized value in split at C:/strawberry180/perl/lib/TAP/Parser/SourceHandler/Perl.pm line 170.
t\carrier_bid_information_request.t ............ ok
Use of uninitialized value in split at C:/strawberry180/perl/lib/TAP/Parser/SourceHandler/Perl.pm line 170.
t\combined_account_status.t .................... ok
Use of uninitialized value in split at C:/strawberry180/perl/lib/TAP/Parser/SourceHandler/Perl.pm line 170.
t\company.t .................................... ok
t\company_service.t ............................ ok
Use of uninitialized value in split at C:/strawberry180/perl/lib/TAP/Parser/SourceHandler/Perl.pm line 170.
t\credit_card_info.t ........................... ok
Use of uninitialized value in split at C:/strawberry180/perl/lib/TAP/Parser/SourceHandler/Perl.pm line 170.
t\day_part.t ................................... ok
Use of uninitialized value in split at C:/strawberry180/perl/lib/TAP/Parser/SourceHandler/Perl.pm line 170.
t\day_parting_target.t ......................... ok
Use of uninitialized value in split at C:/strawberry180/perl/lib/TAP/Parser/SourceHandler/Perl.pm line 170.
t\day_parting_targeting.t ...................... ok
Use of uninitialized value in split at C:/strawberry180/perl/lib/TAP/Parser/SourceHandler/Perl.pm line 170.
t\demographic_targeting.t ...................... ok
Use of uninitialized value in split at C:/strawberry180/perl/lib/TAP/Parser/SourceHandler/Perl.pm line 170.
t\download_file.t .............................. ok
Use of uninitialized value in split at C:/strawberry180/perl/lib/TAP/Parser/SourceHandler/Perl.pm line 170.
t\error.t ...................................... ok
Use of uninitialized value in split at C:/strawberry180/perl/lib/TAP/Parser/SourceHandler/Perl.pm line 170.
t\error_type.t ................................. ok
t\example.t .................................... ok
Use of uninitialized value in split at C:/strawberry180/perl/lib/TAP/Parser/SourceHandler/Perl.pm line 170.
t\excluded_word.t .............................. ok
Use of uninitialized value in split at C:/strawberry180/perl/lib/TAP/Parser/SourceHandler/Perl.pm line 170.
t\excluded_word_response.t ..................... ok
t\excluded_words_service.t ..................... ok
Use of uninitialized value in split at C:/strawberry180/perl/lib/TAP/Parser/SourceHandler/Perl.pm line 170.
t\file_output_format.t ......................... ok
Use of uninitialized value in split at C:/strawberry180/perl/lib/TAP/Parser/SourceHandler/Perl.pm line 170.
t\forecast_click_data.t ........................ ok
Use of uninitialized value in split at C:/strawberry180/perl/lib/TAP/Parser/SourceHandler/Perl.pm line 170.
t\forecast_creative.t .......................... ok
Use of uninitialized value in split at C:/strawberry180/perl/lib/TAP/Parser/SourceHandler/Perl.pm line 170.
t\forecast_impression_data.t ................... ok
Use of uninitialized value in split at C:/strawberry180/perl/lib/TAP/Parser/SourceHandler/Perl.pm line 170.
t\forecast_keyword.t ........................... ok
t\forecast_keyword_batch.t ..................... ok
t\forecast_keyword_batch_response.t ............ ok
Use of uninitialized value in split at C:/strawberry180/perl/lib/TAP/Parser/SourceHandler/Perl.pm line 170.
t\forecast_keyword_batch_response_data.t ....... ok
Use of uninitialized value in split at C:/strawberry180/perl/lib/TAP/Parser/SourceHandler/Perl.pm line 170.
t\forecast_keyword_response.t .................. ok
Use of uninitialized value in split at C:/strawberry180/perl/lib/TAP/Parser/SourceHandler/Perl.pm line 170.
t\forecast_request_data.t ...................... ok
Use of uninitialized value in split at C:/strawberry180/perl/lib/TAP/Parser/SourceHandler/Perl.pm line 170.
t\forecast_response.t .......................... ok
Use of uninitialized value in split at C:/strawberry180/perl/lib/TAP/Parser/SourceHandler/Perl.pm line 170.
t\forecast_response_data.t ..................... ok
t\forecast_service.t ........................... ok
Use of uninitialized value in split at C:/strawberry180/perl/lib/TAP/Parser/SourceHandler/Perl.pm line 170.
t\gender_target.t .............................. ok
Use of uninitialized value in split at C:/strawberry180/perl/lib/TAP/Parser/SourceHandler/Perl.pm line 170.
t\geo_location.t ............................... ok
Use of uninitialized value in split at C:/strawberry180/perl/lib/TAP/Parser/SourceHandler/Perl.pm line 170.
t\geo_location_probability.t ................... ok
Use of uninitialized value in split at C:/strawberry180/perl/lib/TAP/Parser/SourceHandler/Perl.pm line 170.
t\geo_location_probability_set.t ............... ok
Use of uninitialized value in split at C:/strawberry180/perl/lib/TAP/Parser/SourceHandler/Perl.pm line 170.
t\geo_target.t ................................. ok
t\geographical_dictionary_service.t ............ ok
t\historical_keyword.t ......................... ok
t\historical_keyword_response.t ................ ok
Use of uninitialized value in split at C:/strawberry180/perl/lib/TAP/Parser/SourceHandler/Perl.pm line 170.
t\historical_keyword_response_data.t ........... ok
t\historical_request_data.t .................... ok
t\historical_response_data.t ................... ok
Use of uninitialized value in split at C:/strawberry180/perl/lib/TAP/Parser/SourceHandler/Perl.pm line 170.
t\keyword.t .................................... ok
Use of uninitialized value in split at C:/strawberry180/perl/lib/TAP/Parser/SourceHandler/Perl.pm line 170.
t\keyword_carrier_config.t ..................... ok
Use of uninitialized value in split at C:/strawberry180/perl/lib/TAP/Parser/SourceHandler/Perl.pm line 170.
t\keyword_carrier_editorial_reason_info.t ...... ok
Use of uninitialized value in split at C:/strawberry180/perl/lib/TAP/Parser/SourceHandler/Perl.pm line 170.
t\keyword_carrier_editorial_reasons.t .......... ok
Use of uninitialized value in split at C:/strawberry180/perl/lib/TAP/Parser/SourceHandler/Perl.pm line 170.
t\keyword_carrier_setting.t .................... ok
Use of uninitialized value in split at C:/strawberry180/perl/lib/TAP/Parser/SourceHandler/Perl.pm line 170.
t\keyword_editorial_reasons.t .................. ok
Use of uninitialized value in split at C:/strawberry180/perl/lib/TAP/Parser/SourceHandler/Perl.pm line 170.
t\keyword_forecast_request_data.t .............. ok
Use of uninitialized value in split at C:/strawberry180/perl/lib/TAP/Parser/SourceHandler/Perl.pm line 170.
t\keyword_info_request_type.t .................. ok
Use of uninitialized value in split at C:/strawberry180/perl/lib/TAP/Parser/SourceHandler/Perl.pm line 170.
t\keyword_info_response_type.t ................. ok
Use of uninitialized value in split at C:/strawberry180/perl/lib/TAP/Parser/SourceHandler/Perl.pm line 170.
t\keyword_info_type.t .......................... ok
Use of uninitialized value in split at C:/strawberry180/perl/lib/TAP/Parser/SourceHandler/Perl.pm line 170.
t\keyword_optimization_guidelines.t ............ ok
Use of uninitialized value in split at C:/strawberry180/perl/lib/TAP/Parser/SourceHandler/Perl.pm line 170.
t\keyword_optimization_guidelines_response.t ... ok
Use of uninitialized value in split at C:/strawberry180/perl/lib/TAP/Parser/SourceHandler/Perl.pm line 170.
t\keyword_participation_status.t ............... ok
Use of uninitialized value in split at C:/strawberry180/perl/lib/TAP/Parser/SourceHandler/Perl.pm line 170.
t\keyword_rejection_reasons.t .................. ok
t\keyword_research_service.t ................... ok
Use of uninitialized value in split at C:/strawberry180/perl/lib/TAP/Parser/SourceHandler/Perl.pm line 170.
t\keyword_response.t ........................... ok
t\keyword_service.t ............................ ok
Use of uninitialized value in split at C:/strawberry180/perl/lib/TAP/Parser/SourceHandler/Perl.pm line 170.
t\master_account.t ............................. ok
t\master_account_service.t ..................... ok
t\mobile_dictionary_service.t .................. ok
Use of uninitialized value in split at C:/strawberry180/perl/lib/TAP/Parser/SourceHandler/Perl.pm line 170.
t\network.t .................................... ok
Use of uninitialized value in split at C:/strawberry180/perl/lib/TAP/Parser/SourceHandler/Perl.pm line 170.
t\network_distribution.t ....................... ok
Use of uninitialized value in split at C:/strawberry180/perl/lib/TAP/Parser/SourceHandler/Perl.pm line 170.
t\network_target.t ............................. ok
Use of uninitialized value in split at C:/strawberry180/perl/lib/TAP/Parser/SourceHandler/Perl.pm line 170.
t\opt_in_ad_group_response.t ................... ok
Use of uninitialized value in split at C:/strawberry180/perl/lib/TAP/Parser/SourceHandler/Perl.pm line 170.
t\opt_in_campaign_response.t ................... ok
Use of uninitialized value in split at C:/strawberry180/perl/lib/TAP/Parser/SourceHandler/Perl.pm line 170.
t\opt_in_status.t .............................. ok
Use of uninitialized value in split at C:/strawberry180/perl/lib/TAP/Parser/SourceHandler/Perl.pm line 170.
t\page_related_keyword_request_type.t .......... ok
Use of uninitialized value in split at C:/strawberry180/perl/lib/TAP/Parser/SourceHandler/Perl.pm line 170.
t\payment_info.t ............................... ok
Use of uninitialized value in split at C:/strawberry180/perl/lib/TAP/Parser/SourceHandler/Perl.pm line 170.
t\payment_method_info.t ........................ ok
Use of uninitialized value in split at C:/strawberry180/perl/lib/TAP/Parser/SourceHandler/Perl.pm line 170.
t\pod-coverage.t ............................... ok
Use of uninitialized value in split at C:/strawberry180/perl/lib/TAP/Parser/SourceHandler/Perl.pm line 170.
t\pod.t ........................................ ok
Use of uninitialized value in split at C:/strawberry180/perl/lib/TAP/Parser/SourceHandler/Perl.pm line 170.
t\preferences.t ................................ ok
Use of uninitialized value in split at C:/strawberry180/perl/lib/TAP/Parser/SourceHandler/Perl.pm line 170.
t\process_status.t ............................. ok
Use of uninitialized value in split at C:/strawberry180/perl/lib/TAP/Parser/SourceHandler/Perl.pm line 170.
t\range_definition_request_type.t .............. ok
Use of uninitialized value in split at C:/strawberry180/perl/lib/TAP/Parser/SourceHandler/Perl.pm line 170.
t\range_definition_response_type.t ............. ok
Use of uninitialized value in split at C:/strawberry180/perl/lib/TAP/Parser/SourceHandler/Perl.pm line 170.
t\range_definition_type.t ...................... ok
Use of uninitialized value in split at C:/strawberry180/perl/lib/TAP/Parser/SourceHandler/Perl.pm line 170.
t\range_value_type.t ........................... ok
Use of uninitialized value in split at C:/strawberry180/perl/lib/TAP/Parser/SourceHandler/Perl.pm line 170.
t\related_keyword_request_type.t ............... ok
Use of uninitialized value in split at C:/strawberry180/perl/lib/TAP/Parser/SourceHandler/Perl.pm line 170.
t\related_keyword_response_type.t .............. ok
Use of uninitialized value in split at C:/strawberry180/perl/lib/TAP/Parser/SourceHandler/Perl.pm line 170.
t\related_keyword_type.t ....................... ok
Use of uninitialized value in split at C:/strawberry180/perl/lib/TAP/Parser/SourceHandler/Perl.pm line 170.
t\report_download_info.t ....................... ok
Use of uninitialized value in split at C:/strawberry180/perl/lib/TAP/Parser/SourceHandler/Perl.pm line 170.
t\report_info.t ................................ ok
Use of uninitialized value in split at C:/strawberry180/perl/lib/TAP/Parser/SourceHandler/Perl.pm line 170.
t\response.t ................................... ok
Use of uninitialized value in split at C:/strawberry180/perl/lib/TAP/Parser/SourceHandler/Perl.pm line 170.
t\response_status_type.t ....................... ok
Use of uninitialized value in split at C:/strawberry180/perl/lib/TAP/Parser/SourceHandler/Perl.pm line 170.
t\role.t ....................................... ok
Use of uninitialized value in split at C:/strawberry180/perl/lib/TAP/Parser/SourceHandler/Perl.pm line 170.
t\service.t .................................... ok
Use of uninitialized value in split at C:/strawberry180/perl/lib/TAP/Parser/SourceHandler/Perl.pm line 170.
t\set_geographic_location_response.t ........... ok
Use of uninitialized value in split at C:/strawberry180/perl/lib/TAP/Parser/SourceHandler/Perl.pm line 170.
t\spend_limit.t ................................ ok
Use of uninitialized value in split at C:/strawberry180/perl/lib/TAP/Parser/SourceHandler/Perl.pm line 170.
t\sponsored_search_min_bid_request.t ........... ok
t\sub_phrase_keyword_request_type.t ............ ok
Use of uninitialized value in split at C:/strawberry180/perl/lib/TAP/Parser/SourceHandler/Perl.pm line 170.
t\summary.t .................................... ok
Use of uninitialized value in split at C:/strawberry180/perl/lib/TAP/Parser/SourceHandler/Perl.pm line 170.
t\tactic_spend_cap.t ........................... ok
Use of uninitialized value in split at C:/strawberry180/perl/lib/TAP/Parser/SourceHandler/Perl.pm line 170.
t\targeting_attribute.t ........................ ok
Use of uninitialized value in split at C:/strawberry180/perl/lib/TAP/Parser/SourceHandler/Perl.pm line 170.
t\targeting_attribute_descriptor.t ............. ok
t\targeting_converter_service.t ................ ok
t\targeting_dictionary_service.t ............... ok
Use of uninitialized value in split at C:/strawberry180/perl/lib/TAP/Parser/SourceHandler/Perl.pm line 170.
t\targeting_premium.t .......................... ok
Use of uninitialized value in split at C:/strawberry180/perl/lib/TAP/Parser/SourceHandler/Perl.pm line 170.
t\targeting_profile.t .......................... ok
t\targeting_service.t .......................... ok
Use of uninitialized value in split at C:/strawberry180/perl/lib/TAP/Parser/SourceHandler/Perl.pm line 170.
t\targeting_type.t ............................. ok
Use of uninitialized value in split at C:/strawberry180/perl/lib/TAP/Parser/SourceHandler/Perl.pm line 170.
t\token.t ...................................... ok
Use of uninitialized value in split at C:/strawberry180/perl/lib/TAP/Parser/SourceHandler/Perl.pm line 170.
t\update_for_ad.t .............................. ok
Use of uninitialized value in split at C:/strawberry180/perl/lib/TAP/Parser/SourceHandler/Perl.pm line 170.
t\update_for_ad_carrier_config.t ............... ok
Use of uninitialized value in split at C:/strawberry180/perl/lib/TAP/Parser/SourceHandler/Perl.pm line 170.
t\update_for_ad_carrier_setting.t .............. ok
Use of uninitialized value in split at C:/strawberry180/perl/lib/TAP/Parser/SourceHandler/Perl.pm line 170.
t\update_for_keyword.t ......................... ok
Use of uninitialized value in split at C:/strawberry180/perl/lib/TAP/Parser/SourceHandler/Perl.pm line 170.
t\update_for_keyword_carrier_config.t .......... ok
Use of uninitialized value in split at C:/strawberry180/perl/lib/TAP/Parser/SourceHandler/Perl.pm line 170.
t\update_for_keyword_carrier_setting.t ......... ok
Use of uninitialized value in split at C:/strawberry180/perl/lib/TAP/Parser/SourceHandler/Perl.pm line 170.
t\user.t ....................................... ok
Use of uninitialized value in split at C:/strawberry180/perl/lib/TAP/Parser/SourceHandler/Perl.pm line 170.
t\user_authorization.t ......................... ok
t\user_management_service.t .................... ok
t\vault_service.t .............................. ok
Use of uninitialized value in split at C:/strawberry180/perl/lib/TAP/Parser/SourceHandler/Perl.pm line 170.
t\warning.t .................................... ok
t\z_cleanup.t .................................. ok
All tests successful.
Files=170, Tests=1364, 110 wallclock secs ( 0.10 usr +  0.68 sys =  0.78 CPU)
Result: PASS

------------------------------
PREREQUISITES
------------------------------

Prerequisite modules loaded:

requires:

    Module                    Need   Have    
    ------------------------- ------ --------
    Cache::Cache              1.01   1.06    
    Class::Accessor::Chained  0.01   0.01    
    Crypt::SSLeay             0.40   0.64    
    DateTime::Format::ISO8601 0      0.08    
    DateTime::Format::W3CDTF  0      0.06    
    Error                     0.15   0.17020 
    Module::Build             0.26   0.4005  
    perl                      v5.6.1 5.018000
    Scalar::Util              1.01   1.27    
    SOAP::Lite                0.66   0.716   
    Test::Class               0.10   0.39    
    Test::More                0      0.98    
    Test::Simple              0.60   0.98    
    XML::XPath                1.10   1.13    
    YAML                      0.01   0.84    

build_requires:

    Module                    Need   Have    
    ------------------------- ------ --------
    Module::Build             0.26   0.4005  
    Test::More                0      0.98    
    YAML                      0.01   0.84    


------------------------------
ENVIRONMENT AND OTHER CONTEXT
------------------------------

Environment variables:

    AUTOMATED_TESTING = 1
    COMSPEC = C:\WINDOWS\system32\cmd.exe
    NUMBER_OF_PROCESSORS = 1
    PATH = C:\Program Files\Far Manager\;C:\WINDOWS\system32;C:\WINDOWS;C:\WINDOWS\System32\Wbem;C:\strawberry180\c\bin;C:\strawberry180\perl\site\bin;C:\strawberry180\perl\bin
    PERL5LIB = 
    PERL5OPT = 
    PERL5_CPANPLUS_IS_RUNNING = 1400
    PERL5_CPAN_IS_RUNNING = 1400
    PERL5_CPAN_IS_RUNNING_IN_RECURSION = 1892,1400
    PERL_CR_SMOKER_CURRENT = Yahoo-Marketing-APT-6.01
    PERL_EXTUTILS_AUTOINSTALL = --defaultdeps
    PERL_MM_USE_DEFAULT = 1
    PROCESSOR_IDENTIFIER = x86 Family 16 Model 5 Stepping 3, AuthenticAMD
    TEMP = C:\DOCUME~1\c\LOCALS~1\Temp
    TERM = dumb

Perl special variables (and OS-specific diagnostics, for MSWin32):

    $^X = C:\strawberry180\perl\bin\perl.exe
    $UID/$EUID = 0 / 0
    $GID = 0
    $EGID = 0
    Win32::GetOSName = WinXP/.Net
    Win32::GetOSVersion = Service Pack 3, 5, 1, 2600, 2, 3, 0, 256, 1
    Win32::FsType = NTFS
    Win32::IsAdminUser = 1

Perl module toolchain versions installed:

    Module              Have    
    ------------------- --------
    CPAN                2.00    
    CPAN::Meta          2.130880
    Cwd                 3.40    
    ExtUtils::CBuilder  0.280210
    ExtUtils::Command   1.17    
    ExtUtils::Install   1.59    
    ExtUtils::MakeMaker 6.66    
    ExtUtils::Manifest  1.63    
    ExtUtils::ParseXS   3.18    
    File::Spec          3.40    
    JSON                2.57    
    JSON::PP            2.27202 
    Module::Build       0.4005  
    Module::Signature   n/a     
    Parse::CPAN::Meta   1.4404  
    Test::Harness       3.28    
    Test::More          0.98    
    YAML                0.84    
    YAML::Syck          1.27    
    version             0.9902  


--

Summary of my perl5 (revision 5 version 18 subversion 0) configuration:
   
  Platform:
    osname=MSWin32, osvers=4.0, archname=MSWin32-x86-multi-thread-64int
    uname='Win32 strawberry-perl 5.18.0.1 #1 Sat May 18 17:46:00 2013 i386'
    config_args='undef'
    hint=recommended, useposix=true, d_sigaction=undef
    useithreads=define, usemultiplicity=define
    useperlio=define, d_sfio=undef, uselargefiles=define, usesocks=undef
    use64bitint=define, use64bitall=undef, uselongdouble=undef
    usemymalloc=n, bincompat5005=undef
  Compiler:
    cc='gcc', ccflags =' -s -O2 -DWIN32  -DPERL_TEXTMODE_SCRIPTS -DPERL_IMPLICIT_CONTEXT -DPERL_IMPLICIT_SYS -DUSE_PERLIO -fno-strict-aliasing -mms-bitfields',
    optimize='-s -O2',
    cppflags='-DWIN32'
    ccversion='', gccversion='4.6.3', gccosandvers=''
    intsize=4, longsize=4, ptrsize=4, doublesize=8, byteorder=12345678
    d_longlong=define, longlongsize=8, d_longdbl=define, longdblsize=12
    ivtype='long long', ivsize=8, nvtype='double', nvsize=8, Off_t='long long', lseeksize=8
    alignbytes=8, prototype=define
  Linker and Libraries:
    ld='g++', ldflags ='-s -L"C:\strawberry180\perl\lib\CORE" -L"C:\strawberry180\c\lib"'
    libpth=C:\strawberry180\c\lib C:\strawberry180\c\i686-w64-mingw32\lib
    libs=-lmoldname -lkernel32 -luser32 -lgdi32 -lwinspool -lcomdlg32 -ladvapi32 -lshell32 -lole32 -loleaut32 -lnetapi32 -luuid -lws2_32 -lmpr -lwinmm -lversion -lodbc32 -lodbccp32 -lcomctl32
    perllibs=-lmoldname -lkernel32 -luser32 -lgdi32 -lwinspool -lcomdlg32 -ladvapi32 -lshell32 -lole32 -loleaut32 -lnetapi32 -luuid -lws2_32 -lmpr -lwinmm -lversion -lodbc32 -lodbccp32 -lcomctl32
    libc=, so=dll, useshrplib=true, libperl=libperl518.a
    gnulibc_version=''
  Dynamic Linking:
    dlsrc=dl_win32.xs, dlext=dll, d_dlsymun=undef, ccdlflags=' '
    cccdlflags=' ', lddlflags='-mdll -s -L"C:\strawberry180\perl\lib\CORE" -L"C:\strawberry180\c\lib"'


Characteristics of this binary (from libperl): 
  Compile-time options: HAS_TIMES HAVE_INTERP_INTERN MULTIPLICITY
                        PERLIO_LAYERS PERL_DONT_CREATE_GVSV
                        PERL_HASH_FUNC_ONE_AT_A_TIME_HARD
                        PERL_IMPLICIT_CONTEXT PERL_IMPLICIT_SYS
                        PERL_MALLOC_WRAP PERL_PRESERVE_IVUV PERL_SAWAMPERSAND
                        USE_64_BIT_INT USE_ITHREADS USE_LARGE_FILES
                        USE_LOCALE USE_LOCALE_COLLATE USE_LOCALE_CTYPE
                        USE_LOCALE_NUMERIC USE_PERLIO USE_PERL_ATOF
  Built under MSWin32
  Compiled at May 18 2013 17:53:14
  %ENV:
    PERL5_CPANPLUS_IS_RUNNING="1400"
    PERL5_CPAN_IS_RUNNING="1400"
    PERL5_CPAN_IS_RUNNING_IN_RECURSION="1892,1400"
    PERL_CR_SMOKER_CURRENT="Yahoo-Marketing-APT-6.01"
    PERL_EXTUTILS_AUTOINSTALL="--defaultdeps"
    PERL_MM_USE_DEFAULT="1"
  @INC:
    C:/strawberry180/perl/site/lib
    C:/strawberry180/perl/vendor/lib
    C:/strawberry180/perl/lib
    .