Report for Catalyst-Action-RenderView-ErrorHandler-0.100166

Back
From: metabase:user:314402c4-2aae-11df-837a-5e0a49663a4f
Subject: PASS Catalyst-Action-RenderView-ErrorHandler-0.100166 v5.22.3 RC2 GNU/Linux
Date: 2016-08-06T10:38:20Z

This distribution has been tested as part of the CPAN Testers
project, supporting the Perl programming language.  See
http://wiki.cpantesters.org/ for more information or email
questions to cpan-testers-discuss@perl.org


--
Dear Andreas Marienborg,

This is a computer-generated report for Catalyst-Action-RenderView-ErrorHandler-0.100166
on perl 5.22.3, created by CPAN-Reporter-1.2018.

Thank you for uploading your work to CPAN.  Congratulations!
All tests were successful.

Sections of this report:

    * Tester comments
    * Program output
    * Prerequisites
    * Environment and other context

------------------------------
TESTER COMMENTS
------------------------------

Additional comments from tester:

none provided

------------------------------
PROGRAM OUTPUT
------------------------------

Output from '/usr/bin/make test':

PERL_DL_NONLAZY=1 "/bbbike/perl-5.22.3-RC2/bin/perl" "-MExtUtils::Command::MM" "-MTest::Harness" "-e" "undef *Test::Harness::Switches; test_harness(0, 'blib/lib', 'blib/arch')" t/*.t
t/00-compile.t ................... ok
# Testing Catalyst::Action::RenderView::ErrorHandler 0.100166
t/00.load.t ...................... ok
# 
# 
# Generated by Dist::Zilla::Plugin::ReportVersions::Tiny v1.08
# perl: 5.022003 (wanted any version) on linux from /bbbike/perl-5.22.3-RC2/bin/perl
# 
# Carp                                          => 1.38       (want any version)
# Catalyst                                      => 5.90112    (want any version)
# Catalyst::Action::RenderView                  => 0.16       (want any version)
# Catalyst::Controller                          => <undef>    (want any version)
# Catalyst::Test                                => <undef>    (want any version)
# Catalyst::View                                => <undef>    (want any version)
# Catalyst::View::TT                            => 0.44       (want any version)
# Class::Inspector                              => 1.28       (want any version)
# ExtUtils::MakeMaker                           => 7.18       (want 6.30)   
# File::Find                                    => 1.29       (want any version)
# File::Temp                                    => 0.2304     (want any version)
# FindBin                                       => 1.51       (want any version)
# HTTP::Request::AsCGI                          => 1.2        (want any version)
# MRO::Compat                                   => 0.12       (want any version)
# Moose                                         => 2.1804     (want any version)
# Moose::Role                                   => 2.1804     (want any version)
# Pod::Coverage::TrustPod                       => 0.100003   (want any version)
# Test::More                                    => 1.302049   (want 0.96)   
# Test::Pod                                     => 1.51       (want 1.41)   
# Test::Pod::Coverage                           => 1.10       (want 1.08)   
# Text::Diff                                    => 1.44       (want any version)
# base                                          => 2.23       (want any version)
# lib                                           => 0.63       (want any version)
# strict                                        => 1.09       (want any version)
# version                                       => 0.9917     (want 0.9901) 
# warnings                                      => 1.34       (want any version)
# 
# Thanks for using my code.  I hope it works for you.
# If not, please try and include this output in the bug report.
# That will help me reproduce the issue and solve your problem.
# 
t/000-report-versions-tiny.t ..... ok
Name "main::SAVEERR" used only once: possible typo at t/01.usage.t line 38.
t/01.usage.t ..................... ok
Name "main::SAVEERR" used only once: possible typo at t/02.defaults.t line 38.
t/02.defaults.t .................. ok
[debug] Debug messages enabled
[debug] Statistics enabled
[debug] Loaded PSGI Middleware:
.----------------------------------------------------------------------------------------------------------------------------------------------------------------------------------------------------------------------------------------------------------------------.
| Catalyst::Middleware::Stash                                                                                                                                                                                                                                          |
| Plack::Middleware::HTTPExceptions                                                                                                                                                                                                                                    |
| Plack::Middleware::RemoveRedundantBody  0.04                                                                                                                                                                                                                         |
| Plack::Middleware::FixMissingBodyInRedirect  0.12                                                                                                                                                                                                                    |
| Plack::Middleware::ContentLength                                                                                                                                                                                                                                     |
| Plack::Middleware::MethodOverride  0.15                                                                                                                                                                                                                              |
| Plack::Middleware::Head                                                                                                                                                                                                                                              |
'----------------------------------------------------------------------------------------------------------------------------------------------------------------------------------------------------------------------------------------------------------------------'

[debug] Loaded Request Data Handlers:
.----------------------------------------------------------------------------------------------------------------------------------------------------------------------------------------------------------------------------------------------------------------------.
| application/x-www-form-urlencoded                                                                                                                                                                                                                                    |
| application/json                                                                                                                                                                                                                                                     |
'----------------------------------------------------------------------------------------------------------------------------------------------------------------------------------------------------------------------------------------------------------------------'

[debug] Loaded dispatcher "Catalyst::Dispatcher"
[debug] Loaded engine "Catalyst::Engine"
[debug] Found home "/tmpfs/.cpan-build-cpansand/2016080609/Catalyst-Action-RenderView-ErrorHandler-0.100166-0/t/lib/TestApp3"
[debug] Loaded components:
.-----------------------------------------------------------------------------------------------------------------------------------------------------------------------------------------------------------------------------------------------------------+----------.
| Class                                                                                                                                                                                                                                                     | Type     |
+-----------------------------------------------------------------------------------------------------------------------------------------------------------------------------------------------------------------------------------------------------------+----------+
| TestApp3::Controller::Root                                                                                                                                                                                                                                | instance |
| TestApp3::View::Default                                                                                                                                                                                                                                   | instance |
'-----------------------------------------------------------------------------------------------------------------------------------------------------------------------------------------------------------------------------------------------------------+----------'

[debug] Loaded Private actions:
.-----------------------------------------------------------------+---------------------------------------------------------------------------------------------------------------------------------+------------------------------------------------------------------.
| Private                                                         | Class                                                                                                                           | Method                                                           |
+-----------------------------------------------------------------+---------------------------------------------------------------------------------------------------------------------------------+------------------------------------------------------------------+
| /test_die                                                       | TestApp3::Controller::Root                                                                                                      | test_die                                                         |
| /test_ok                                                        | TestApp3::Controller::Root                                                                                                      | test_ok                                                          |
| /end                                                            | TestApp3::Controller::Root                                                                                                      | end                                                              |
'-----------------------------------------------------------------+---------------------------------------------------------------------------------------------------------------------------------+------------------------------------------------------------------'

[debug] Loaded Path actions:
.----------------------------------------------------------------------------------------------------------------------------------+-----------------------------------------------------------------------------------------------------------------------------------.
| Path                                                                                                                             | Private                                                                                                                           |
+----------------------------------------------------------------------------------------------------------------------------------+-----------------------------------------------------------------------------------------------------------------------------------+
| /test_die/...                                                                                                                    | /test_die                                                                                                                         |
| /test_ok/...                                                                                                                     | /test_ok                                                                                                                          |
'----------------------------------------------------------------------------------------------------------------------------------+-----------------------------------------------------------------------------------------------------------------------------------'

[info] TestApp powered by Catalyst 5.90112
Name "main::SAVEERR" used only once: possible typo at t/03.debug.t line 38.
t/03.debug.t ..................... ok
[debug] Debug messages enabled
[debug] Statistics enabled
[debug] Loaded PSGI Middleware:
.----------------------------------------------------------------------------------------------------------------------------------------------------------------------------------------------------------------------------------------------------------------------.
| Catalyst::Middleware::Stash                                                                                                                                                                                                                                          |
| Plack::Middleware::HTTPExceptions                                                                                                                                                                                                                                    |
| Plack::Middleware::RemoveRedundantBody  0.04                                                                                                                                                                                                                         |
| Plack::Middleware::FixMissingBodyInRedirect  0.12                                                                                                                                                                                                                    |
| Plack::Middleware::ContentLength                                                                                                                                                                                                                                     |
| Plack::Middleware::MethodOverride  0.15                                                                                                                                                                                                                              |
| Plack::Middleware::Head                                                                                                                                                                                                                                              |
'----------------------------------------------------------------------------------------------------------------------------------------------------------------------------------------------------------------------------------------------------------------------'

[debug] Loaded Request Data Handlers:
.----------------------------------------------------------------------------------------------------------------------------------------------------------------------------------------------------------------------------------------------------------------------.
| application/json                                                                                                                                                                                                                                                     |
| application/x-www-form-urlencoded                                                                                                                                                                                                                                    |
'----------------------------------------------------------------------------------------------------------------------------------------------------------------------------------------------------------------------------------------------------------------------'

[debug] Loaded dispatcher "Catalyst::Dispatcher"
[debug] Loaded engine "Catalyst::Engine"
[debug] Found home "/tmpfs/.cpan-build-cpansand/2016080609/Catalyst-Action-RenderView-ErrorHandler-0.100166-0/t/lib/TestApp4"
[debug] Loaded components:
.-----------------------------------------------------------------------------------------------------------------------------------------------------------------------------------------------------------------------------------------------------------+----------.
| Class                                                                                                                                                                                                                                                     | Type     |
+-----------------------------------------------------------------------------------------------------------------------------------------------------------------------------------------------------------------------------------------------------------+----------+
| TestApp4::Controller::Root                                                                                                                                                                                                                                | instance |
| TestApp4::View::Default                                                                                                                                                                                                                                   | instance |
'-----------------------------------------------------------------------------------------------------------------------------------------------------------------------------------------------------------------------------------------------------------+----------'

[debug] Loaded Private actions:
.-----------------------------------------------------------------+---------------------------------------------------------------------------------------------------------------------------------+------------------------------------------------------------------.
| Private                                                         | Class                                                                                                                           | Method                                                           |
+-----------------------------------------------------------------+---------------------------------------------------------------------------------------------------------------------------------+------------------------------------------------------------------+
| /end                                                            | TestApp4::Controller::Root                                                                                                      | end                                                              |
| /test_404                                                       | TestApp4::Controller::Root                                                                                                      | test_404                                                         |
| /test_ok                                                        | TestApp4::Controller::Root                                                                                                      | test_ok                                                          |
| /test_die                                                       | TestApp4::Controller::Root                                                                                                      | test_die                                                         |
'-----------------------------------------------------------------+---------------------------------------------------------------------------------------------------------------------------------+------------------------------------------------------------------'

[debug] Loaded Path actions:
.----------------------------------------------------------------------------------------------------------------------------------+-----------------------------------------------------------------------------------------------------------------------------------.
| Path                                                                                                                             | Private                                                                                                                           |
+----------------------------------------------------------------------------------------------------------------------------------+-----------------------------------------------------------------------------------------------------------------------------------+
| /test_404/...                                                                                                                    | /test_404                                                                                                                         |
| /test_die/...                                                                                                                    | /test_die                                                                                                                         |
| /test_ok/...                                                                                                                     | /test_ok                                                                                                                          |
'----------------------------------------------------------------------------------------------------------------------------------+-----------------------------------------------------------------------------------------------------------------------------------'

[info] TestApp4 powered by Catalyst 5.90112
Name "main::SAVEERR" used only once: possible typo at t/04.debug_enable.t line 30.
t/04.debug_enable.t .............. ok
t/release-changes_has_content.t .. skipped: these tests are for release candidate testing
t/release-pod-coverage.t ......... skipped: these tests are for release candidate testing
t/release-pod-syntax.t ........... skipped: these tests are for release candidate testing
All tests successful.
Files=10, Tests=91,  8 wallclock secs ( 0.04 usr  0.04 sys +  4.58 cusr  0.48 csys =  5.14 CPU)
Result: PASS

------------------------------
PREREQUISITES
------------------------------

Prerequisite modules loaded:

requires:

    Module                       Need Have    
    ---------------------------- ---- --------
    Carp                         0    1.38    
    Catalyst::Action::RenderView 0    0.16    
    Catalyst::View::TT           0    0.44    
    Class::Inspector             0    1.28    
    Moose                        0    2.1804  
    Moose::Role                  0    2.1804  
    MRO::Compat                  0    0.12    
    strict                       0    1.09    
    warnings                     0    1.34    

build_requires:

    Module                       Need Have    
    ---------------------------- ---- --------
    base                         0    2.23    
    Catalyst                     0    5.90112 
    Catalyst::Controller         0    0       
    Catalyst::Test               0    0       
    Catalyst::View               0    0       
    Catalyst::View::TT           0    0.44    
    File::Find                   0    1.29    
    File::Temp                   0    0.2304  
    FindBin                      0    1.51    
    HTTP::Request::AsCGI         0    1.2     
    lib                          0    0.63    
    Test::More                   0.96 1.302049
    Text::Diff                   0    1.44    

configure_requires:

    Module                       Need Have    
    ---------------------------- ---- --------
    ExtUtils::MakeMaker          6.30 7.18    


------------------------------
ENVIRONMENT AND OTHER CONTEXT
------------------------------

Environment variables:

    LANG = C
    LC_ALL = de_DE.UTF-8
    PATH = /usr/local/bin:/usr/bin:/bin:/usr/local/sbin:/usr/sbin:/sbin:/home/cpansand/bin/linux-gnu:/home/cpansand/bin/sh:/home/cpansand/bin:/usr/games:/home/cpansand/devel:/home/eserte/src/srezic-misc/scripts
    PERL5LIB = 
    PERL5OPT = 
    PERL5_CPANPLUS_IS_RUNNING = 14816
    PERL5_CPAN_IS_RUNNING = 14816
    PERL5_CPAN_IS_RUNNING_IN_RECURSION = 21657,14816
    PERLDOC = -MPod::Perldoc::ToTextOverstrike
    PERL_BATCH = yes
    PERL_CANARY_STABILITY_NOPROMPT = 1
    PERL_CPAN_REPORTER_CONFIG = /run/user/1023/cpansmoker/2016080606/cpanreporter_001_config.ini
    PERL_EXTUTILS_AUTOINSTALL = --defaultdeps
    PERL_PARALLEL_SMOKER = yes
    PERL_USE_UNSAFE_INC = 1
    SHELL = /bin/zsh
    TERM = screen
    TMPDIR = /run/user/1023/cpansmoker/2016080606

Perl special variables (and OS-specific diagnostics, for MSWin32):

    $^X = /bbbike/perl-5.22.3-RC2/bin/perl
    $UID/$EUID = 1023 / 1023
    $GID = 1023 1023
    $EGID = 1023 1023

Perl module toolchain versions installed:

    Module              Have    
    ------------------- --------
    CPAN                2.14    
    CPAN::Meta          2.150005
    Cwd                 3.62    
    ExtUtils::CBuilder  0.280224
    ExtUtils::Command   7.18    
    ExtUtils::Install   2.04    
    ExtUtils::MakeMaker 7.18    
    ExtUtils::Manifest  1.70    
    ExtUtils::ParseXS   3.30    
    File::Spec          3.62    
    JSON                2.90    
    JSON::PP            2.27400 
    Module::Build       0.4218  
    Module::Signature   0.80    
    Parse::CPAN::Meta   1.4422  
    Test::Harness       3.36    
    Test::More          1.302049
    YAML                1.18    
    YAML::Syck          1.29    
    version             0.9917  


--

Summary of my perl5 (revision 5 version 22 subversion 3) configuration:
   
  Platform:
    osname=linux, osvers=3.16.0-4-amd64, archname=x86_64-linux
    uname='linux eserte 3.16.0-4-amd64 #1 smp debian 3.16.7-ckt25-2 (2016-04-08) x86_64 gnulinux '
    config_args='-ds -e -Dprefix=/opt/perl-5.22.3-RC2 -Dcf_email=srezic@cpan.org'
    hint=recommended, useposix=true, d_sigaction=define
    useithreads=undef, usemultiplicity=undef
    use64bitint=define, use64bitall=define, uselongdouble=undef
    usemymalloc=n, bincompat5005=undef
  Compiler:
    cc='cc', ccflags ='-fwrapv -fno-strict-aliasing -pipe -fstack-protector-strong -I/usr/local/include -D_LARGEFILE_SOURCE -D_FILE_OFFSET_BITS=64 -D_FORTIFY_SOURCE=2',
    optimize='-O2',
    cppflags='-fwrapv -fno-strict-aliasing -pipe -fstack-protector-strong -I/usr/local/include'
    ccversion='', gccversion='4.9.2', gccosandvers=''
    intsize=4, longsize=8, ptrsize=8, doublesize=8, byteorder=12345678, doublekind=3
    d_longlong=define, longlongsize=8, d_longdbl=define, longdblsize=16, longdblkind=3
    ivtype='long', ivsize=8, nvtype='double', nvsize=8, Off_t='off_t', lseeksize=8
    alignbytes=8, prototype=define
  Linker and Libraries:
    ld='cc', ldflags =' -fstack-protector-strong -L/usr/local/lib'
    libpth=/usr/local/lib /usr/lib/gcc/x86_64-linux-gnu/4.9/include-fixed /usr/include/x86_64-linux-gnu /usr/lib /lib/x86_64-linux-gnu /lib/../lib /usr/lib/x86_64-linux-gnu /usr/lib/../lib /lib
    libs=-lpthread -lnsl -lgdbm -ldb -ldl -lm -lcrypt -lutil -lc -lgdbm_compat
    perllibs=-lpthread -lnsl -ldl -lm -lcrypt -lutil -lc
    libc=libc-2.19.so, so=so, useshrplib=false, libperl=libperl.a
    gnulibc_version='2.19'
  Dynamic Linking:
    dlsrc=dl_dlopen.xs, dlext=so, d_dlsymun=undef, ccdlflags='-Wl,-E'
    cccdlflags='-fPIC', lddlflags='-shared -O2 -L/usr/local/lib -fstack-protector-strong'


Characteristics of this binary (from libperl): 
  Compile-time options: HAS_TIMES PERLIO_LAYERS PERL_DONT_CREATE_GVSV
                        PERL_HASH_FUNC_ONE_AT_A_TIME_HARD PERL_MALLOC_WRAP
                        PERL_NEW_COPY_ON_WRITE PERL_PRESERVE_IVUV
                        USE_64_BIT_ALL USE_64_BIT_INT USE_LARGE_FILES
                        USE_LOCALE USE_LOCALE_COLLATE USE_LOCALE_CTYPE
                        USE_LOCALE_NUMERIC USE_LOCALE_TIME USE_PERLIO
                        USE_PERL_ATOF
  Locally applied patches:
	RC2
  Built under linux
  Compiled at Jul 25 2016 18:26:00
  %ENV:
    PERL5LIB=""
    PERL5OPT=""
    PERL5_CPANPLUS_IS_RUNNING="14816"
    PERL5_CPAN_IS_RUNNING="14816"
    PERL5_CPAN_IS_RUNNING_IN_RECURSION="21657,14816"
    PERLDOC="-MPod::Perldoc::ToTextOverstrike"
    PERL_BATCH="yes"
    PERL_CANARY_STABILITY_NOPROMPT="1"
    PERL_CPAN_REPORTER_CONFIG="/run/user/1023/cpansmoker/2016080606/cpanreporter_001_config.ini"
    PERL_EXTUTILS_AUTOINSTALL="--defaultdeps"
    PERL_PARALLEL_SMOKER="yes"
    PERL_USE_UNSAFE_INC="1"
  @INC:
    /opt/perl-5.22.3-RC2/lib/site_perl/5.22.3/x86_64-linux
    /opt/perl-5.22.3-RC2/lib/site_perl/5.22.3
    /opt/perl-5.22.3-RC2/lib/5.22.3/x86_64-linux
    /opt/perl-5.22.3-RC2/lib/5.22.3
    .