Back
From: metabase:user:3103e02c-2aae-11df-837a-5e0a49663a4f
Subject: PASS Catalyst-Plugin-Authorization-Roles-0.08 v5.12.2 GNU/Linux
Date: 2010-09-25T22:54:45Z
This distribution has been tested as part of the CPAN Testers
project, supporting the Perl programming language. See
http://wiki.cpantesters.org/ for more information or email
questions to cpan-testers-discuss@perl.org
--
Dear Brian Cassidy,
This is a computer-generated report for Catalyst-Plugin-Authorization-Roles-0.08
on perl 5.12.2, created by CPAN-Reporter-1.1801.
Thank you for uploading your work to CPAN. Congratulations!
All tests were successful.
Sections of this report:
* Tester comments
* Program output
* Prerequisites
* Environment and other context
------------------------------
TESTER COMMENTS
------------------------------
Additional comments from tester:
none provided
------------------------------
PROGRAM OUTPUT
------------------------------
Output from '/usr/bin/make test':
PERL_DL_NONLAZY=1 /home/doug/perl5/perlbrew/perls/perl-5.12.2/bin/perl "-MExtUtils::Command::MM" "-e" "test_harness(0, 'inc', 'blib/lib', 'blib/arch')" t/*.t
t/01use.t .......... ok
t/02pod.t .......... skipped: set TEST_POD to enable this test
t/03podcoverage.t .. skipped: set TEST_POD to enable this test
t/basic.t .......... ok
t/hash_user.t ...... ok
All tests successful.
Files=5, Tests=43, 3 wallclock secs ( 0.01 usr 0.09 sys + 1.71 cusr 0.53 csys = 2.34 CPU)
Result: PASS
------------------------------
PREREQUISITES
------------------------------
Prerequisite modules loaded:
requires:
Module Need Have
-------------------------------- ------- -------
Catalyst::Plugin::Authentication 0.10003 0.10016
Catalyst::Runtime 5.7 5.80027
ExtUtils::MakeMaker 6.42 6.56
Set::Object 1.14 1.28
Test::Exception 0 0.29
Test::More 0 0.96
UNIVERSAL::isa 0.05 1.03
configure_requires:
Module Need Have
-------------------------------- ------- -------
ExtUtils::MakeMaker 6.42 6.56
------------------------------
ENVIRONMENT AND OTHER CONTEXT
------------------------------
Environment variables:
LANG = en_US.UTF-8
PATH = /home/doug/perl5/perlbrew/bin:/home/doug/perl5/perlbrew/perls/current/bin:/usr/local/bin/Cope:/sbin:/bin:/usr/sbin:/usr/bin:/usr/games:/usr/local/sbin:/usr/local/bin:/usr/X11R6/bin:/home/doug/bin
PERL5LIB =
PERL5OPT =
PERL5_CPANPLUS_IS_RUNNING = 13965
PERL5_CPAN_IS_RUNNING = 13965
SHELL = bash
TERM = screen
Perl special variables (and OS-specific diagnostics, for MSWin32):
$^X = /home/doug/perl5/perlbrew/perls/perl-5.12.2/bin/perl
$UID/$EUID = 1000 / 1000
$GID = 1000 4 20 24 46 109 110 111 1000
$EGID = 1000 4 20 24 46 109 110 111 1000
Perl module toolchain versions installed:
Module Have
------------------- -------
CPAN 1.94_56
Cwd 3.33
ExtUtils::CBuilder 0.2703
ExtUtils::Command 1.16
ExtUtils::Install 1.55
ExtUtils::MakeMaker 6.56
ExtUtils::Manifest 1.58
ExtUtils::ParseXS 2.2206
File::Spec 3.33
Module::Build 0.3607
Module::Signature n/a
Test::Harness 3.22
Test::More 0.96
YAML 0.72
YAML::Syck n/a
version 0.82
--
Summary of my perl5 (revision 5 version 12 subversion 2) configuration:
Platform:
osname=linux, osvers=2.6.32-24-generic-pae, archname=i686-linux
uname='linux tgao 2.6.32-24-generic-pae #43-ubuntu smp thu sep 16 15:30:27 utc 2010 i686 gnulinux '
config_args='-de -Dprefix=/home/doug/perl5/perlbrew/perls/perl-5.12.2'
hint=recommended, useposix=true, d_sigaction=define
useithreads=undef, usemultiplicity=undef
useperlio=define, d_sfio=undef, uselargefiles=define, usesocks=undef
use64bitint=undef, use64bitall=undef, uselongdouble=undef
usemymalloc=n, bincompat5005=undef
Compiler:
cc='cc', ccflags ='-fno-strict-aliasing -pipe -fstack-protector -I/usr/local/include -D_LARGEFILE_SOURCE -D_FILE_OFFSET_BITS=64',
optimize='-O2',
cppflags='-fno-strict-aliasing -pipe -fstack-protector -I/usr/local/include'
ccversion='', gccversion='4.4.3', gccosandvers=''
intsize=4, longsize=4, ptrsize=4, doublesize=8, byteorder=1234
d_longlong=define, longlongsize=8, d_longdbl=define, longdblsize=12
ivtype='long', ivsize=4, nvtype='double', nvsize=8, Off_t='off_t', lseeksize=8
alignbytes=4, prototype=define
Linker and Libraries:
ld='cc', ldflags =' -fstack-protector -L/usr/local/lib'
libpth=/usr/local/lib /lib /usr/lib /usr/lib64
libs=-lnsl -ldl -lm -lcrypt -lutil -lc
perllibs=-lnsl -ldl -lm -lcrypt -lutil -lc
libc=/lib/libc-2.11.1.so, so=so, useshrplib=false, libperl=libperl.a
gnulibc_version='2.11.1'
Dynamic Linking:
dlsrc=dl_dlopen.xs, dlext=so, d_dlsymun=undef, ccdlflags='-Wl,-E'
cccdlflags='-fPIC', lddlflags='-shared -O2 -L/usr/local/lib -fstack-protector'
Characteristics of this binary (from libperl):
Compile-time options: PERL_DONT_CREATE_GVSV PERL_MALLOC_WRAP
USE_LARGE_FILES USE_PERLIO USE_PERL_ATOF
Built under linux
Compiled at Sep 23 2010 17:24:42
%ENV:
PERL5LIB=""
PERL5OPT=""
PERL5_CPANPLUS_IS_RUNNING="13965"
PERL5_CPAN_IS_RUNNING="13965"
@INC:
/home/doug/perl5/perlbrew/perls/perl-5.12.2/lib/site_perl/5.12.2/i686-linux
/home/doug/perl5/perlbrew/perls/perl-5.12.2/lib/site_perl/5.12.2
/home/doug/perl5/perlbrew/perls/perl-5.12.2/lib/5.12.2/i686-linux
/home/doug/perl5/perlbrew/perls/perl-5.12.2/lib/5.12.2
.