Module-New v0.15 Perl 5 v5.37.2 x86_64-linux

Status
Pass
From
Nedzad Hrnjica (NHRNJICA)
Dist
Module-New v0.15
Platform
Perl 5 v5.37.2 x86_64-linux
Date
2022-08-05 11:43:57
ID
e42c0768-14b3-11ed-b51c-fb0f20f29030
This distribution has been tested as part of the CPAN Testers
project, supporting the Perl programming language.  See
http://wiki.cpantesters.org/ for more information or email
questions to cpan-testers-discuss@perl.org


--
Dear ISHIGAKI,

This is a computer-generated report for Module-New-0.15
on perl 5.37.2, created by App::cpanminus::reporter 0.17 (1.7046).

Thank you for uploading your work to CPAN.  Congratulations!
All tests were successful.

Sections of this report:

    * Tester comments
    * Program output
    * Prerequisites
    * Environment and other context

------------------------------
TESTER COMMENTS
------------------------------

Additional comments from tester:

none provided

------------------------------
PROGRAM OUTPUT
------------------------------

Output from '':

Building and testing Module-New-0.15
cp lib/Module/New/Queue.pm blib/lib/Module/New/Queue.pm
cp lib/Module/New/File/Test.pm blib/lib/Module/New/File/Test.pm
cp lib/Module/New/Command/ShipIt.pm blib/lib/Module/New/Command/ShipIt.pm
cp lib/Module/New/File/XS.pm blib/lib/Module/New/File/XS.pm
cp lib/Module/New/File/ModuleBuild.pm blib/lib/Module/New/File/ModuleBuild.pm
cp lib/Module/New.pm blib/lib/Module/New.pm
cp lib/Module/New/Context.pm blib/lib/Module/New/Context.pm
cp lib/Module/New/File/PodTest.pm blib/lib/Module/New/File/PodTest.pm
cp lib/Module/New/File/Gitignore.pm blib/lib/Module/New/File/Gitignore.pm
cp lib/Module/New/File/ManifestSkip.pm blib/lib/Module/New/File/ManifestSkip.pm
cp lib/Module/New/Recipe/Dist.pm blib/lib/Module/New/Recipe/Dist.pm
cp lib/Module/New/File/ShipIt.pm blib/lib/Module/New/File/ShipIt.pm
cp lib/Module/New/Command/Readme.pm blib/lib/Module/New/Command/Readme.pm
cp lib/Module/New/File/Module.pm blib/lib/Module/New/File/Module.pm
cp lib/Module/New/Config.pm blib/lib/Module/New/Config.pm
cp lib/Module/New/Command/Test.pm blib/lib/Module/New/Command/Test.pm
cp lib/Module/New/License.pm blib/lib/Module/New/License.pm
cp lib/Module/New/File/Script.pm blib/lib/Module/New/File/Script.pm
cp lib/Module/New/File/MainModule.pm blib/lib/Module/New/File/MainModule.pm
cp lib/Module/New/Recipe.pm blib/lib/Module/New/Recipe.pm
cp lib/Module/New/File/TravisYml.pm blib/lib/Module/New/File/TravisYml.pm
cp lib/Module/New/File/MakeMaker.pm blib/lib/Module/New/File/MakeMaker.pm
cp lib/Module/New/File/Readme.pm blib/lib/Module/New/File/Readme.pm
cp lib/Module/New/File/MakeMakerCPANfile.pm blib/lib/Module/New/File/MakeMakerCPANfile.pm
cp lib/Module/New/Command/Help.pm blib/lib/Module/New/Command/Help.pm
cp lib/Module/New/Path.pm blib/lib/Module/New/Path.pm
cp lib/Module/New/File/Plain.pm blib/lib/Module/New/File/Plain.pm
cp lib/Module/New/File/Changes.pm blib/lib/Module/New/File/Changes.pm
cp lib/Module/New/File/License.pm blib/lib/Module/New/File/License.pm
cp lib/Module/New/File/PodCoverageTest.pm blib/lib/Module/New/File/PodCoverageTest.pm
cp lib/Module/New/File.pm blib/lib/Module/New/File.pm
cp lib/Module/New/Files.pm blib/lib/Module/New/Files.pm
cp lib/Module/New/Loader.pm blib/lib/Module/New/Loader.pm
cp lib/Module/New/File/LoadTest.pm blib/lib/Module/New/File/LoadTest.pm
cp lib/Module/New/Log.pm blib/lib/Module/New/Log.pm
cp lib/Module/New/Command/Version.pm blib/lib/Module/New/Command/Version.pm
cp lib/Module/New/Meta.pm blib/lib/Module/New/Meta.pm
cp lib/Module/New/Command/Basic.pm blib/lib/Module/New/Command/Basic.pm
cp lib/Module/New/Recipe/Edit.pm blib/lib/Module/New/Recipe/Edit.pm
cp lib/Module/New/Recipe/ReadmeFromPod.pm blib/lib/Module/New/Recipe/ReadmeFromPod.pm
cp lib/Module/New/Recipe/Manifest.pm blib/lib/Module/New/Recipe/Manifest.pm
cp lib/Module/New/Recipe/NextVersion.pm blib/lib/Module/New/Recipe/NextVersion.pm
cp lib/Module/New/Recipe/Gitignore.pm blib/lib/Module/New/Recipe/Gitignore.pm
cp lib/Module/New/Recipe/TravisYml.pm blib/lib/Module/New/Recipe/TravisYml.pm
cp lib/Module/New/Recipe/Prove.pm blib/lib/Module/New/Recipe/Prove.pm
cp lib/Module/New/Recipe/Help.pm blib/lib/Module/New/Recipe/Help.pm
cp lib/Module/New/Template.pm blib/lib/Module/New/Template.pm
cp lib/Module/New/Recipe/File.pm blib/lib/Module/New/Recipe/File.pm
cp lib/Module/New/Recipe/License.pm blib/lib/Module/New/Recipe/License.pm
cp module_new blib/script/module_new
"/home/liveapp/.plenv/versions/5.37.2/bin/perl5.37.2" -MExtUtils::MY -e 'MY->fixin(shift)' -- blib/script/module_new
Manifying 1 pod document
Manifying 32 pod documents
Manifying 17 pod documents
PERL_DL_NONLAZY=1 "/home/liveapp/.plenv/versions/5.37.2/bin/perl5.37.2" "-MExtUtils::Command::MM" "-MTest::Harness" "-e" "undef *Test::Harness::Switches; test_harness(0, 'blib/lib', 'blib/arch')" t/*.t
t/00_load.t ......... ok
t/10_config.t ....... ok
t/10_loader.t ....... ok
[debug] set root to /home/liveapp/.cpanm/work/1659699826.2546768/Module-New-0.15
[debug] set root to /home/liveapp/.cpanm/work/1659699826.2546768/Module-New-0.15/t/TestApp/lib/foo/../..
[debug] set root to /home/liveapp/.cpanm/work/1659699826.2546768/Module-New-0.15/t/TestApp/lib/foo/../..
[debug] set root to /home/liveapp/.cpanm/work/1659699826.2546768/Module-New-0.15/t/TestApp
t/10_path.t ......... ok
t/10_queue.t ........ ok
t/10_template.t ..... ok
t/20_license.t ...... ok
t/30_file.t ......... ok
t/40_command.t ...... ok
t/50_recipe.t ....... ok
t/99_pod.t .......... skipped: set TEST_POD to enable this test
t/99_podcoverage.t .. skipped: set TEST_POD to enable this test
All tests successful.
Files=12, Tests=81,  1 wallclock secs ( 0.05 usr  0.02 sys +  1.19 cusr  0.21 csys =  1.47 CPU)
Result: PASS

------------------------------
PREREQUISITES
------------------------------

Prerequisite modules loaded:

    No requirements found

------------------------------
ENVIRONMENT AND OTHER CONTEXT
------------------------------

Environment variables:

    LANG = C.UTF-8
    PATH = /home/liveapp/cpantesters.new/5.37.2/local/bin:/home/liveapp/.plenv/versions/5.37.2/bin:/home/liveapp/.plenv/libexec:/home/liveapp/.plenv/plugins/perl-build/bin:/home/liveapp/.plenv/shims:/home/liveapp/.plenv/bin:/usr/local/sbin:/usr/local/bin:/usr/sbin:/usr/bin:/sbin:/bin:/usr/games:/usr/local/games:/snap/bin
    PERL5LIB = /home/liveapp/cpantesters.new/5.37.2/local/lib/perl5
    SHELL = /bin/bash
    TERM = xterm-256color

Perl special variables (and OS-specific diagnostics, for MSWin32):

    EGID = 1001 27 1001
    EUID = 1001
    EXECUTABLE_NAME = /home/liveapp/.plenv/versions/5.37.2/bin/perl5.37.2
    GID = 1001 27 1001
    UID = 1001

Perl module toolchain versions installed:

    Module              Have    
    ------------------- --------
    CPAN                2.34    
    CPAN::Meta          2.150010
    Cwd                 3.86    
    ExtUtils::CBuilder  0.280237
    ExtUtils::Command   7.64    
    ExtUtils::Install   2.20    
    ExtUtils::MakeMaker 7.64    
    ExtUtils::Manifest  1.73    
    ExtUtils::ParseXS   3.45    
    File::Spec          3.86    
    JSON                4.07    
    JSON::PP            4.10    
    Module::Build       0.4231  
    Module::Signature   0.88    
    Parse::CPAN::Meta   2.150010
    Test::Harness       3.44    
    Test::More          1.302191
    YAML                1.30    
    YAML::Syck          1.34    
    version             0.9929  


--

Summary of my perl5 (revision 5 version 37 subversion 2) configuration:
   
  Platform:
    osname=linux
    osvers=5.4.0-91-generic
    archname=x86_64-linux
    uname='linux supremeadmin 5.4.0-91-generic #102-ubuntu smp fri nov 5 16:31:28 utc 2021 x86_64 x86_64 x86_64 gnulinux '
    config_args='-Dprefix=/home/liveapp/.plenv/versions/5.37.2 -de -Dversiononly -Dusedevel -A'eval:scriptdir=/home/liveapp/.plenv/versions/5.37.2/bin''
    hint=recommended
    useposix=true
    d_sigaction=define
    useithreads=undef
    usemultiplicity=undef
    use64bitint=define
    use64bitall=define
    uselongdouble=undef
    usemymalloc=n
    default_inc_excludes_dot=define
  Compiler:
    cc='cc'
    ccflags ='-fwrapv -fno-strict-aliasing -pipe -fstack-protector-strong -I/usr/local/include -D_LARGEFILE_SOURCE -D_FILE_OFFSET_BITS=64'
    optimize='-O2'
    cppflags='-fwrapv -fno-strict-aliasing -pipe -fstack-protector-strong -I/usr/local/include'
    ccversion=''
    gccversion='9.4.0'
    gccosandvers=''
    intsize=4
    longsize=8
    ptrsize=8
    doublesize=8
    byteorder=12345678
    doublekind=3
    d_longlong=define
    longlongsize=8
    d_longdbl=define
    longdblsize=16
    longdblkind=3
    ivtype='long'
    ivsize=8
    nvtype='double'
    nvsize=8
    Off_t='off_t'
    lseeksize=8
    alignbytes=8
    prototype=define
  Linker and Libraries:
    ld='cc'
    ldflags =' -fstack-protector-strong -L/usr/local/lib'
    libpth=/usr/local/lib /usr/lib/x86_64-linux-gnu /usr/lib /lib/x86_64-linux-gnu /lib
    libs=-lpthread -lnsl -ldl -lm -lcrypt -lutil -lc
    perllibs=-lpthread -lnsl -ldl -lm -lcrypt -lutil -lc
    libc=libc-2.31.so
    so=so
    useshrplib=false
    libperl=libperl.a
    gnulibc_version='2.31'
  Dynamic Linking:
    dlsrc=dl_dlopen.xs
    dlext=so
    d_dlsymun=undef
    ccdlflags='-Wl,-E'
    cccdlflags='-fPIC'
    lddlflags='-shared -O2 -L/usr/local/lib -fstack-protector-strong'


Characteristics of this binary (from libperl): 
  Compile-time options:
    HAS_TIMES
    PERLIO_LAYERS
    PERL_COPY_ON_WRITE
    PERL_DONT_CREATE_GVSV
    PERL_MALLOC_WRAP
    PERL_OP_PARENT
    PERL_PRESERVE_IVUV
    PERL_USE_DEVEL
    PERL_USE_SAFE_PUTENV
    USE_64_BIT_ALL
    USE_64_BIT_INT
    USE_LARGE_FILES
    USE_LOCALE
    USE_LOCALE_COLLATE
    USE_LOCALE_CTYPE
    USE_LOCALE_NUMERIC
    USE_LOCALE_TIME
    USE_PERLIO
    USE_PERL_ATOF
  Built under linux
  Compiled at Jul 24 2022 00:52:09
  %ENV:
    PERL5LIB="/home/liveapp/cpantesters.new/5.37.2/local/lib/perl5"
  @INC:
    /home/liveapp/cpantesters.new/5.37.2/local/lib/perl5
    /home/liveapp/.plenv/versions/5.37.2/lib/perl5/site_perl/5.37.2/x86_64-linux
    /home/liveapp/.plenv/versions/5.37.2/lib/perl5/site_perl/5.37.2
    /home/liveapp/.plenv/versions/5.37.2/lib/perl5/5.37.2/x86_64-linux
    /home/liveapp/.plenv/versions/5.37.2/lib/perl5/5.37.2