Module-Metadata v1.000038 Perl 5 v5.10.1 x86_64-linux

Status
Pass
From
Slaven Rezić
Dist
Module-Metadata v1.000038
Platform
Perl 5 v5.10.1 x86_64-linux
Date
2023-05-02 09:01:14
ID
e409315a-e8c7-11ed-b7db-782f6e8775ea
This distribution has been tested as part of the CPAN Testers
project, supporting the Perl programming language.  See
http://wiki.cpantesters.org/ for more information or email
questions to cpan-testers-discuss@perl.org


--
Dear Karen Etheridge,

This is a computer-generated report for Module-Metadata-1.000038
on perl 5.10.1, created by CPAN-Reporter-1.2018.

Thank you for uploading your work to CPAN.  Congratulations!
All tests were successful.

Sections of this report:

    * Tester comments
    * Program output
    * Prerequisites
    * Environment and other context

------------------------------
TESTER COMMENTS
------------------------------

Additional comments from tester:

none provided

------------------------------
PROGRAM OUTPUT
------------------------------

Output from '/usr/bin/make test':

PERL_DL_NONLAZY=1 "/opt/perl-5.10.1/bin/perl" "-MExtUtils::Command::MM" "-MTest::Harness" "-e" "undef *Test::Harness::Switches; test_harness(0, 'blib/lib', 'blib/arch')" t/*.t
# 
# Versions for all modules listed in MYMETA.json (including optional ones):
# 
# === Configure Requires ===
# 
#     Module               Want     Have
#     ------------------- ----- --------
#     ExtUtils::MakeMaker   any     7.64
#     perl                5.006 5.010001
# 
# === Build Requires ===
# 
#     Module              Want Have
#     ------------------- ---- ----
#     ExtUtils::MakeMaker  any 7.64
# 
# === Test Requires ===
# 
#     Module               Want     Have
#     ------------------- ----- --------
#     Cwd                   any     3.30
#     ExtUtils::MakeMaker   any     7.64
#     File::Basename        any     2.77
#     File::Path            any  2.07_03
#     File::Spec            any     3.30
#     File::Temp            any     0.22
#     IO::File              any     1.14
#     Test::More           0.88 1.302191
#     lib                   any     0.62
#     perl                5.006 5.010001
# 
# === Test Recommends ===
# 
#     Module         Want     Have
#     ---------- -------- --------
#     CPAN::Meta 2.120900 2.143240
# 
# === Runtime Requires ===
# 
#     Module      Want     Have
#     ---------- ----- --------
#     Carp         any     1.11
#     Encode       any     2.35
#     Fcntl        any     1.06
#     File::Find   any     1.14
#     File::Spec   any     3.30
#     perl       5.006 5.010001
#     strict       any     1.04
#     version     0.87   0.9929
#     warnings     any     1.06
# 
# === Other Modules ===
# 
#     Module             Have
#     --------------- -------
#     Encode             2.35
#     File::Temp         0.22
#     JSON::PP        2.27203
#     Module::Runtime missing
#     Pod::Coverage   missing
#     Sub::Name       missing
#     YAML               1.30
#     autodie         2.06_01
# 
t/00-report-prereqs.t .. ok
t/contains_pod.t ....... ok
t/encoding.t ........... ok
t/endpod.t ............. ok
t/extract-package.t .... ok
t/extract-version.t .... ok
t/metadata.t ........... ok
t/taint.t .............. ok
t/version.t ............ ok
All tests successful.
Files=9, Tests=379,  0 wallclock secs ( 0.04 usr  0.04 sys +  0.47 cusr  0.15 csys =  0.70 CPU)
Result: PASS

------------------------------
PREREQUISITES
------------------------------

Prerequisite modules loaded:

requires:

    Module              Need  Have    
    ------------------- ----- --------
    Carp                0     1.11    
    Encode              0     2.35    
    Fcntl               0     1.06    
    File::Find          0     1.14    
    File::Spec          0     3.30    
    perl                5.006 5.010001
    strict              0     1.04    
    version             0.87  0.9929  
    warnings            0     1.06    

build_requires:

    Module              Need  Have    
    ------------------- ----- --------
    Cwd                 0     3.30    
    ExtUtils::MakeMaker 0     7.64    
    File::Basename      0     2.77    
    File::Path          0     2.07_03 
    File::Spec          0     3.30    
    File::Temp          0     0.22    
    IO::File            0     1.14    
    lib                 0     0.62    
    Test::More          0.88  1.302191

configure_requires:

    Module              Need  Have    
    ------------------- ----- --------
    ExtUtils::MakeMaker 0     7.64    
    perl                5.006 5.010001


------------------------------
ENVIRONMENT AND OTHER CONTEXT
------------------------------

Environment variables:

    LANG = C
    PATH = /usr/local/bin:/usr/bin:/bin:/usr/local/sbin:/usr/sbin:/sbin:/home/cpansand/bin/linux-gnu:/home/cpansand/bin/sh:/home/cpansand/bin:/usr/games:/home/cpansand/devel:/home/eserte/src/srezic-misc/scripts
    PERL5LIB = 
    PERL5OPT = 
    PERL5_CPANPLUS_IS_RUNNING = 1383553
    PERL5_CPAN_IS_RUNNING = 1383553
    PERL5_CPAN_IS_RUNNING_IN_RECURSION = 2124535,1383553
    PERLDOC = -MPod::Perldoc::ToTextOverstrike
    PERL_BATCH = yes
    PERL_CANARY_STABILITY_NOPROMPT = 1
    PERL_CPAN_REPORTER_CONFIG = /var/tmp/cpansmoker-1023/2023043016/cpanreporter_000_config.ini
    PERL_EXTUTILS_AUTOINSTALL = --defaultdeps
    SHELL = /usr/bin/zsh
    TERM = screen
    TMPDIR = /var/tmp/cpansmoker-1023/2023043016

Perl special variables (and OS-specific diagnostics, for MSWin32):

    $^X = /opt/perl-5.10.1/bin/perl
    $UID/$EUID = 1023 / 1023
    $GID = 1023 1023
    $EGID = 1023 1023

Perl module toolchain versions installed:

    Module              Have    
    ------------------- --------
    CPAN                1.9402  
    CPAN::Meta          2.143240
    Cwd                 3.30    
    ExtUtils::CBuilder  0.2602  
    ExtUtils::Command   7.64    
    ExtUtils::Install   2.06    
    ExtUtils::MakeMaker 7.64    
    ExtUtils::Manifest  1.70    
    ExtUtils::ParseXS   2.2002  
    File::Spec          3.30    
    JSON                n/a     
    JSON::PP            2.27203 
    Module::Build       0.340201
    Module::Signature   n/a     
    Parse::CPAN::Meta   1.4414  
    Test::Harness       3.17    
    Test::More          1.302191
    YAML                1.30    
    YAML::Syck          1.34    
    version             0.9929  


--

Summary of my perl5 (revision 5 version 10 subversion 1) configuration:
   
  Platform:
    osname=linux, osvers=5.10.0-16-amd64, archname=x86_64-linux
    uname='linux eserte 5.10.0-16-amd64 #1 smp debian 5.10.127-1 (2022-06-30) x86_64 gnulinux '
    config_args='-ds -e -Dprefix=/opt/perl-5.10.1 -Dcf_email=srezic@cpan.org'
    hint=recommended, useposix=true, d_sigaction=define
    useithreads=undef, usemultiplicity=undef
    useperlio=define, d_sfio=undef, uselargefiles=define, usesocks=undef
    use64bitint=define, use64bitall=define, uselongdouble=undef
    usemymalloc=n, bincompat5005=undef
  Compiler:
    cc='cc', ccflags ='-fwrapv -fno-strict-aliasing -pipe -fstack-protector -I/usr/local/include -D_LARGEFILE_SOURCE -D_FILE_OFFSET_BITS=64',
    optimize='-O2',
    cppflags='-fwrapv -fno-strict-aliasing -pipe -fstack-protector -I/usr/local/include'
    ccversion='', gccversion='10.2.1 20210110', gccosandvers=''
    intsize=4, longsize=8, ptrsize=8, doublesize=8, byteorder=12345678
    d_longlong=define, longlongsize=8, d_longdbl=define, longdblsize=16
    ivtype='long', ivsize=8, nvtype='double', nvsize=8, Off_t='off_t', lseeksize=8
    alignbytes=8, prototype=define
  Linker and Libraries:
    ld='cc', ldflags =' -fstack-protector -L/usr/local/lib'
    libpth=/usr/local/lib /lib/x86_64-linux-gnu /lib/../lib /usr/lib/x86_64-linux-gnu /usr/lib/../lib /lib /usr/lib
    libs=-lnsl -lgdbm -ldb -ldl -lm -lcrypt -lutil -lc
    perllibs=-lnsl -ldl -lm -lcrypt -lutil -lc
    libc=libc-2.31.so, so=so, useshrplib=false, libperl=libperl.a
    gnulibc_version='2.31'
  Dynamic Linking:
    dlsrc=dl_dlopen.xs, dlext=so, d_dlsymun=undef, ccdlflags='-Wl,-E'
    cccdlflags='-fPIC', lddlflags='-shared -O2 -L/usr/local/lib -fstack-protector'


Characteristics of this binary (from libperl): 
  Compile-time options: PERL_DONT_CREATE_GVSV PERL_MALLOC_WRAP USE_64_BIT_ALL
                        USE_64_BIT_INT USE_LARGE_FILES USE_PERLIO
  Locally applied patches:
	Devel::PatchPerl 2.08
  Built under linux
  Compiled at Aug 16 2022 05:48:03
  %ENV:
    PERL5LIB=""
    PERL5OPT=""
    PERL5_CPANPLUS_IS_RUNNING="1383553"
    PERL5_CPAN_IS_RUNNING="1383553"
    PERL5_CPAN_IS_RUNNING_IN_RECURSION="2124535,1383553"
    PERLDOC="-MPod::Perldoc::ToTextOverstrike"
    PERL_BATCH="yes"
    PERL_CANARY_STABILITY_NOPROMPT="1"
    PERL_CPAN_REPORTER_CONFIG="/var/tmp/cpansmoker-1023/2023043016/cpanreporter_000_config.ini"
    PERL_EXTUTILS_AUTOINSTALL="--defaultdeps"
  @INC:
    /opt/perl-5.10.1/lib/5.10.1/x86_64-linux
    /opt/perl-5.10.1/lib/5.10.1
    /opt/perl-5.10.1/lib/site_perl/5.10.1/x86_64-linux
    /opt/perl-5.10.1/lib/site_perl/5.10.1
    .