Alien-TidyHTML5 vv0.3.5 Perl 5 v5.41.9 x86_64-linux

Status
Pass
From
Andreas J. König (ANDK)
Dist
Alien-TidyHTML5 vv0.3.5
Platform
Perl 5 v5.41.9 x86_64-linux
Date
2025-03-05 02:52:34
ID
e3dd6e78-f96c-11ef-971a-d3a6b8b772e3
This distribution has been tested as part of the CPAN Testers
project, supporting the Perl programming language.  See
http://wiki.cpantesters.org/ for more information or email
questions to cpan-testers-discuss@perl.org


--
Dear Robert Rothenberg,

This is a computer-generated report for Alien-TidyHTML5-v0.3.5
on perl 5.41.9, created by CPAN-Reporter-1.2020.

Thank you for uploading your work to CPAN.  Congratulations!
All tests were successful.

Sections of this report:

    * Tester comments
    * Program output
    * Prerequisites
    * Environment and other context

------------------------------
TESTER COMMENTS
------------------------------

Additional comments from tester:

this report is from an automated smoke testing program
and was not reviewed by a human for accuracy

------------------------------
PROGRAM OUTPUT
------------------------------

Output from '/usr/bin/make test':

"/tmp/basesmoker-reloperl-wELa/bin/perl" -MAlien::Build::MM=cmd -e test
Alien::Build::Plugin::PkgConfig::Negotiate> Using PkgConfig plugin: PkgConfig::CommandLine
PERL_DL_NONLAZY=1 "/tmp/basesmoker-reloperl-wELa/bin/perl" "-MExtUtils::Command::MM" "-MTest::Harness" "-e" "undef *Test::Harness::Switches; test_harness(0, 'blib/lib', 'blib/arch')" t/*.t
# 
# Versions for all modules listed in MYMETA.json (including optional ones):
# 
# === Configure Requires ===
# 
#     Module                             Want Have
#     ---------------------------------- ---- ----
#     Alien::Build                       1.40 2.84
#     Alien::Build::MM                   0.32 2.84
#     Alien::Build::Plugin::Build::CMake 0.99 2.84
#     ExtUtils::MakeMaker                6.52 7.70
# 
# === Build Requires ===
# 
#     Module               Want     Have
#     ------------------- ----- --------
#     Alien::Build         0.32     2.84
#     Alien::Build::MM     0.32     2.84
#     Alien::cmake3        0.02     0.08
#     Archive::Tar          any 3.02_001
#     Config                any 5.041009
#     ExtUtils::MakeMaker  6.52     7.70
#     HTTP::Tiny          0.044    0.090
#     IO::Socket::SSL      1.56    2.089
#     IO::Zlib              any     1.15
#     Mojo::DOM58          1.00    3.001
#     Mozilla::CA           any 20250202
#     Net::SSLeay          1.49     1.94
#     Sort::Versions        any     1.62
#     URI                   any     5.31
#     URI::Escape           any     5.31
# 
# === Test Requires ===
# 
#     Module           Want     Have
#     ---------------- ---- --------
#     File::Spec        any     3.93
#     Module::Metadata  any 1.000038
#     Test2::V0         any 1.302209
#     Test::Alien       any     2.84
#     Test::More        any 1.302209
# 
# === Test Recommends ===
# 
#     Module         Want     Have
#     ---------- -------- --------
#     CPAN::Meta 2.120900 2.150010
# 
# === Runtime Requires ===
# 
#     Module        Want Have
#     ------------- ---- ----
#     Alien::Base    any 2.84
#     Alien::Build  0.25 2.84
#     Alien::cmake3  any 0.08
#     base           any 2.27
#     strict         any 1.13
#     warnings       any 1.73
# 
t/00-report-prereqs.t ........ ok
t/01-tidy.t .................. ok
t/author-clean-namespaces.t .. skipped: these tests are for testing by the author
t/author-eof.t ............... skipped: these tests are for testing by the author
t/author-eol.t ............... skipped: these tests are for testing by the author
t/author-minimum-version.t ... skipped: these tests are for testing by the author
t/author-no-tabs.t ........... skipped: these tests are for testing by the author
t/author-pod-coverage.t ...... skipped: these tests are for testing by the author
t/author-pod-syntax.t ........ skipped: these tests are for testing by the author
t/author-portability.t ....... skipped: these tests are for testing by the author
t/release-check-manifest.t ... skipped: these tests are for release candidate testing
t/release-trailing-space.t ... skipped: these tests are for release candidate testing
All tests successful.
Files=12, Tests=6,  0 wallclock secs ( 0.03 usr  0.02 sys +  0.38 cusr  0.06 csys =  0.49 CPU)
Result: PASS

------------------------------
PREREQUISITES
------------------------------

Prerequisite modules loaded:

requires:

    Module                             Need     Have    
    ---------------------------------- -------- --------
    Alien::Base                        0        2.84    
    Alien::Build                       0.25     2.84    
    Alien::cmake3                      0        0.08    
    base                               0        2.27    
    perl                               5.008000 5.041009
    strict                             0        1.13    
    warnings                           0        1.73    

build_requires:

    Module                             Need     Have    
    ---------------------------------- -------- --------
    Alien::Build                       0.32     2.84    
    Alien::Build::MM                   0.32     2.84    
    Alien::cmake3                      0.02     0.08    
    Archive::Tar                       0        3.02_001
    Config                             0        5.041009
    ExtUtils::MakeMaker                6.52     7.70    
    File::Spec                         0        3.93    
    HTTP::Tiny                         0.044    0.090   
    IO::Socket::SSL                    1.56     2.089   
    IO::Zlib                           0        1.15    
    Module::Metadata                   0        1.000038
    Mojo::DOM58                        1.00     3.001   
    Mozilla::CA                        0        20250202
    Net::SSLeay                        1.49     1.94    
    Sort::Versions                     0        1.62    
    Test2::V0                          0        1.302209
    Test::Alien                        0        2.84    
    Test::More                         0        1.302209
    URI                                0        5.31    
    URI::Escape                        0        5.31    

configure_requires:

    Module                             Need     Have    
    ---------------------------------- -------- --------
    Alien::Build                       1.40     2.84    
    Alien::Build::MM                   0.32     2.84    
    Alien::Build::Plugin::Build::CMake 0.99     2.84    
    ExtUtils::MakeMaker                6.52     7.70    


------------------------------
ENVIRONMENT AND OTHER CONTEXT
------------------------------

Environment variables:

    AUTOMATED_TESTING = 1
    LANG = en_US.UTF-8
    PATH = /home/sand/bin:/usr/local/bin:/usr/local/sbin:/usr/sbin:/usr/bin:/sbin:/bin:/usr/games:/usr/local/games:/snap/bin:/usr/local/perl/bin:/usr/X11/bin
    PERL = /tmp/basesmoker-reloperl-wELa/bin/perl
    PERL5LIB = /tmp/loop_over_bdir-287296-9l_app/dta-tokwrap-0.98-0/blib/arch:/tmp/loop_over_bdir-287296-9l_app/dta-tokwrap-0.98-0/blib/lib:/tmp/loop_over_bdir-287296-9l_app/MP3-PodcastFetch-1.05-0/blib/arch:/tmp/loop_over_bdir-287296-9l_app/MP3-PodcastFetch-1.05-0/blib/lib
    PERL5OPT = 
    PERL5_CPANPLUS_IS_RUNNING = 287309
    PERL5_CPAN_IS_RUNNING = 287309
    PERL_CANARY_STABILITY_NOPROMPT = 1
    PERL_MM_USE_DEFAULT = 1
    PERL_USE_UNSAFE_INC = 1
    SHELL = /usr/bin/zsh
    TERM = screen

Perl special variables (and OS-specific diagnostics, for MSWin32):

    $^X = /tmp/basesmoker-reloperl-wELa/bin/perl
    $UID/$EUID = 1005 / 1005
    $GID = 1005 1005
    $EGID = 1005 1005

Perl module toolchain versions installed:

    Module              Have    
    ------------------- --------
    CPAN                2.38    
    CPAN::Meta          2.150010
    Cwd                 3.92    
    ExtUtils::CBuilder  0.280240
    ExtUtils::Command   7.70    
    ExtUtils::Install   2.22    
    ExtUtils::MakeMaker 7.70    
    ExtUtils::Manifest  1.75    
    ExtUtils::ParseXS   3.57    
    File::Spec          3.93    
    JSON                4.10    
    JSON::PP            4.16    
    Module::Build       0.4234  
    Module::Signature   0.89    
    Parse::CPAN::Meta   2.150010
    Test2               1.302209
    Test::Harness       3.50    
    Test::More          1.302209
    YAML                1.31    
    YAML::Syck          1.34    
    version             0.9933  


--

Summary of my perl5 (revision 5 version 41 subversion 9) configuration:
  Commit id: b6969eb9f23724dcbb888d791d31c4708dabc85c
  Platform:
    osname=linux
    osvers=5.4.0-204-generic
    archname=x86_64-linux
    uname='linux k93focal 5.4.0-204-generic #224-ubuntu smp thu dec 5 13:38:28 utc 2024 x86_64 x86_64 x86_64 gnulinux '
    config_args='-Dprefix=/home/sand/src/perl/repoperls/installed-perls/host/k93focal/v5.41.9/b254 -Dmyhostname=k93focal -Dinstallusrbinperl=n -Uversiononly -Dusedevel -des -Ui_db -Dlibswanted=cl pthread socket inet nsl gdbm dbm malloc dl ld sun m crypt sec util c cposix posix ucb BSD gdbm_compat -Uuseithreads -Uuselongdouble -DEBUGGING=both'
    hint=recommended
    useposix=true
    d_sigaction=define
    useithreads=undef
    usemultiplicity=undef
    use64bitint=define
    use64bitall=define
    uselongdouble=undef
    usemymalloc=n
    default_inc_excludes_dot=define
  Compiler:
    cc='cc'
    ccflags ='-fwrapv -DDEBUGGING -fno-strict-aliasing -pipe -fstack-protector-strong -I/usr/local/include -D_LARGEFILE_SOURCE -D_FILE_OFFSET_BITS=64'
    optimize='-O2 -g'
    cppflags='-fwrapv -DDEBUGGING -fno-strict-aliasing -pipe -fstack-protector-strong -I/usr/local/include'
    ccversion=''
    gccversion='9.4.0'
    gccosandvers=''
    intsize=4
    longsize=8
    ptrsize=8
    doublesize=8
    byteorder=12345678
    doublekind=3
    d_longlong=define
    longlongsize=8
    d_longdbl=define
    longdblsize=16
    longdblkind=3
    ivtype='long'
    ivsize=8
    nvtype='double'
    nvsize=8
    Off_t='off_t'
    lseeksize=8
    alignbytes=8
    prototype=define
  Linker and Libraries:
    ld='cc'
    ldflags =' -fstack-protector-strong -L/usr/local/lib'
    libpth=/usr/local/lib /usr/lib/x86_64-linux-gnu /usr/lib /usr/lib64
    libs=-lpthread -lnsl -ldl -lm -lcrypt -lutil -lc
    perllibs=-lpthread -lnsl -ldl -lm -lcrypt -lutil -lc
    libc=libc-2.31.so
    so=so
    useshrplib=false
    libperl=libperl.a
    gnulibc_version='2.31'
  Dynamic Linking:
    dlsrc=dl_dlopen.xs
    dlext=so
    d_dlsymun=undef
    ccdlflags='-Wl,-E'
    cccdlflags='-fPIC'
    lddlflags='-shared -O2 -g -L/usr/local/lib -fstack-protector-strong'


Characteristics of this binary (from libperl): 
  Compile-time options:
    DEBUGGING
    HAS_LONG_DOUBLE
    HAS_STRTOLD
    HAS_TIMES
    PERLIO_LAYERS
    PERL_COPY_ON_WRITE
    PERL_DONT_CREATE_GVSV
    PERL_HASH_FUNC_SIPHASH13
    PERL_HASH_USE_SBOX32
    PERL_MALLOC_WRAP
    PERL_OP_PARENT
    PERL_PRESERVE_IVUV
    PERL_USE_DEVEL
    PERL_USE_SAFE_PUTENV
    USE_64_BIT_ALL
    USE_64_BIT_INT
    USE_LARGE_FILES
    USE_LOCALE
    USE_LOCALE_COLLATE
    USE_LOCALE_CTYPE
    USE_LOCALE_NUMERIC
    USE_LOCALE_TIME
    USE_PERLIO
    USE_PERL_ATOF
  Built under linux
  Compiled at Feb 24 2025 11:24:21
  %ENV:
    PERL="/tmp/basesmoker-reloperl-wELa/bin/perl"
    PERL5LIB="/tmp/loop_over_bdir-287296-9l_app/dta-tokwrap-0.98-0/blib/arch:/tmp/loop_over_bdir-287296-9l_app/dta-tokwrap-0.98-0/blib/lib:/tmp/loop_over_bdir-287296-9l_app/MP3-PodcastFetch-1.05-0/blib/arch:/tmp/loop_over_bdir-287296-9l_app/MP3-PodcastFetch-1.05-0/blib/lib"
    PERL5OPT=""
    PERL5_CPANPLUS_IS_RUNNING="287309"
    PERL5_CPAN_IS_RUNNING="287309"
    PERL_CANARY_STABILITY_NOPROMPT="1"
    PERL_MM_USE_DEFAULT="1"
    PERL_USE_UNSAFE_INC="1"
  @INC:
    /tmp/loop_over_bdir-287296-9l_app/dta-tokwrap-0.98-0/blib/arch
    /tmp/loop_over_bdir-287296-9l_app/dta-tokwrap-0.98-0/blib/lib
    /tmp/loop_over_bdir-287296-9l_app/MP3-PodcastFetch-1.05-0/blib/arch
    /tmp/loop_over_bdir-287296-9l_app/MP3-PodcastFetch-1.05-0/blib/lib
    /home/sand/src/perl/repoperls/installed-perls/host/k93focal/v5.41.9/b254/lib/site_perl/5.41.9/x86_64-linux
    /home/sand/src/perl/repoperls/installed-perls/host/k93focal/v5.41.9/b254/lib/site_perl/5.41.9
    /home/sand/src/perl/repoperls/installed-perls/host/k93focal/v5.41.9/b254/lib/5.41.9/x86_64-linux
    /home/sand/src/perl/repoperls/installed-perls/host/k93focal/v5.41.9/b254/lib/5.41.9
    .