Alien-Build-Plugin-Fetch-CurlCommand v0.01_01 Perl 5 v5.22.3 x86_64-linux

Status
Pass
From
Slaven Rezić (SREZIC)
Dist
Alien-Build-Plugin-Fetch-CurlCommand v0.01_01
Platform
Perl 5 v5.22.3 x86_64-linux
Date
2017-09-27 18:01:30
ID
e3dcc8d2-a3ad-11e7-92c1-d70d60aa9ceb
This distribution has been tested as part of the CPAN Testers
project, supporting the Perl programming language.  See
http://wiki.cpantesters.org/ for more information or email
questions to cpan-testers-discuss@perl.org


--
Dear Graham Ollis,

This is a computer-generated report for Alien-Build-Plugin-Fetch-CurlCommand-0.01_01
on perl 5.22.3, created by CPAN-Reporter-1.2018.

Thank you for uploading your work to CPAN.  Congratulations!
All tests were successful.

Sections of this report:

    * Tester comments
    * Program output
    * Prerequisites
    * Environment and other context

------------------------------
TESTER COMMENTS
------------------------------

Additional comments from tester:

none provided

------------------------------
PROGRAM OUTPUT
------------------------------

Output from 'make test':

PERL_DL_NONLAZY=1 "/opt/perl-5.22.3/bin/perl5.22.3" "-MExtUtils::Command::MM" "-MTest::Harness" "-e" "undef *Test::Harness::Switches; test_harness(0, 'blib/lib', 'blib/arch')" t/*.t
# 
# 
# 
# HARNESS_ACTIVE=1
# HARNESS_VERSION=3.35_01
# LANG=en_US.UTF-8
# PERL5LIB=/home/cpansand/.cpan/build/2017092715/Alien-Build-Plugin-Fetch-CurlCommand-0.01_01-_r4FHf/blib/lib:/home/cpansand/.cpan/build/2017092715/Alien-Build-Plugin-Fetch-CurlCommand-0.01_01-_r4FHf/blib/arch:/home/cpansand/.cpan/build/2017092715/Locale-TextDomain-OO-1.031-xkpfy7/blib/arch:/home/cpansand/.cpan/build/2017092715/Locale-TextDomain-OO-1.031-xkpfy7/blib/lib:/home/cpansand/.cpan/build/2017092715/Tie-Sub-1.001-SPIvpD/blib/arch:/home/cpansand/.cpan/build/2017092715/Tie-Sub-1.001-SPIvpD/blib/lib:/home/cpansand/.cpan/build/2017092715/Locale-TextDomain-OO-1.031-xkpfy7/blib/arch:/home/cpansand/.cpan/build/2017092715/Locale-TextDomain-OO-1.031-xkpfy7/blib/lib:/home/cpansand/.cpan/build/2017092715/Tie-Sub-1.001-SPIvpD/blib/arch:/home/cpansand/.cpan/build/2017092715/Tie-Sub-1.001-SPIvpD/blib/lib
# PERL5OPT=
# PERL5_CPANPLUS_IS_RUNNING=12765
# PERL5_CPAN_IS_RUNNING=12765
# PERL5_CPAN_IS_RUNNING_IN_RECURSION=12724,12765
# PERLDOC=-MPod::Perldoc::ToTextOverstrike
# PERL_BATCH=yes
# PERL_CANARY_STABILITY_NOPROMPT=1
# PERL_CPAN_REPORTER_CONFIG=/var/tmp/cpansmoker-1023/2017092715/cpanreporter_000_config.ini
# PERL_DL_NONLAZY=1
# PERL_EXTUTILS_AUTOINSTALL=--defaultdeps
# SHELL=/bin/zsh
# 
# 
# 
# PERL5LIB path
# /home/cpansand/.cpan/build/2017092715/Alien-Build-Plugin-Fetch-CurlCommand-0.01_01-_r4FHf/blib/lib
# /home/cpansand/.cpan/build/2017092715/Alien-Build-Plugin-Fetch-CurlCommand-0.01_01-_r4FHf/blib/arch
# /home/cpansand/.cpan/build/2017092715/Locale-TextDomain-OO-1.031-xkpfy7/blib/arch
# /home/cpansand/.cpan/build/2017092715/Locale-TextDomain-OO-1.031-xkpfy7/blib/lib
# /home/cpansand/.cpan/build/2017092715/Tie-Sub-1.001-SPIvpD/blib/arch
# /home/cpansand/.cpan/build/2017092715/Tie-Sub-1.001-SPIvpD/blib/lib
# /home/cpansand/.cpan/build/2017092715/Locale-TextDomain-OO-1.031-xkpfy7/blib/arch
# /home/cpansand/.cpan/build/2017092715/Locale-TextDomain-OO-1.031-xkpfy7/blib/lib
# /home/cpansand/.cpan/build/2017092715/Tie-Sub-1.001-SPIvpD/blib/arch
# /home/cpansand/.cpan/build/2017092715/Tie-Sub-1.001-SPIvpD/blib/lib
# 
# 
# 
# perl                 5.022003
# Alien::Build::Plugin 1.16
# Capture::Tiny        0.46
# ExtUtils::MakeMaker  7.3
# File::Which          1.22
# File::chdir          0.1010
# Path::Tiny           0.104
# Scalar::Util         1.49
# Test2::API           1.302086
# Test2::V0            0.000072
# Test::Alien::Build   1.16
# Text::ParseWords     3.30
# YAML                 1.23
# 
# 
# 
t/00_diag.t ............................... ok
t/01_use.t ................................ ok
t/alien_build_plugin_fetch_curlcommand.t .. ok
t/alien_build_plugin_fetch_wget.t ......... ok
All tests successful.
Files=4, Tests=5,  1 wallclock secs ( 0.01 usr  0.02 sys +  0.38 cusr  0.11 csys =  0.52 CPU)
Result: PASS

------------------------------
PREREQUISITES
------------------------------

Prerequisite modules loaded:

requires:

    Module               Need     Have    
    -------------------- -------- --------
    Alien::Build::Plugin 0        1.16    
    Capture::Tiny        0        0.46    
    File::chdir          0        0.1010  
    File::Which          0        1.22    
    Path::Tiny           0        0.104   
    perl                 5.008001 5.022003

build_requires:

    Module               Need     Have    
    -------------------- -------- --------
    ExtUtils::MakeMaker  0        7.30    
    Scalar::Util         0        1.49    
    Test2::API           1.302015 1.302086
    Test2::V0            0.000060 0.000072
    Test::Alien::Build   0        1.16    
    Text::ParseWords     0        3.30    
    YAML                 0        1.23    

configure_requires:

    Module               Need     Have    
    -------------------- -------- --------
    ExtUtils::MakeMaker  0        7.30    
    perl                 5.008001 5.022003


------------------------------
ENVIRONMENT AND OTHER CONTEXT
------------------------------

Environment variables:

    LANG = en_US.UTF-8
    PATH = /usr/local/bin:/usr/bin:/bin:/usr/local/sbin:/usr/sbin:/sbin:/home/cpansand/bin/linux-gnu:/home/cpansand/bin/sh:/home/cpansand/bin:/usr/games:/home/cpansand/devel:/home/eserte/src/srezic-misc/scripts
    PERL5LIB = /home/cpansand/.cpan/build/2017092715/Locale-TextDomain-OO-1.031-xkpfy7/blib/arch:/home/cpansand/.cpan/build/2017092715/Locale-TextDomain-OO-1.031-xkpfy7/blib/lib:/home/cpansand/.cpan/build/2017092715/Tie-Sub-1.001-SPIvpD/blib/arch:/home/cpansand/.cpan/build/2017092715/Tie-Sub-1.001-SPIvpD/blib/lib
    PERL5OPT = 
    PERL5_CPANPLUS_IS_RUNNING = 12765
    PERL5_CPAN_IS_RUNNING = 12765
    PERL5_CPAN_IS_RUNNING_IN_RECURSION = 12724,12765
    PERLDOC = -MPod::Perldoc::ToTextOverstrike
    PERL_BATCH = yes
    PERL_CANARY_STABILITY_NOPROMPT = 1
    PERL_CPAN_REPORTER_CONFIG = /var/tmp/cpansmoker-1023/2017092715/cpanreporter_000_config.ini
    PERL_EXTUTILS_AUTOINSTALL = --defaultdeps
    SHELL = /bin/zsh
    TERM = screen
    TMPDIR = /var/tmp/cpansmoker-1023/2017092715

Perl special variables (and OS-specific diagnostics, for MSWin32):

    $^X = /opt/perl-5.22.3/bin/perl5.22.3
    $UID/$EUID = 1023 / 1023
    $GID = 1023 1023
    $EGID = 1023 1023

Perl module toolchain versions installed:

    Module              Have      
    ------------------- ----------
    CPAN                2.11_01   
    CPAN::Meta          2.150001  
    Cwd                 3.62      
    ExtUtils::CBuilder  0.280226  
    ExtUtils::Command   7.30      
    ExtUtils::Install   2.06      
    ExtUtils::MakeMaker 7.30      
    ExtUtils::Manifest  1.70      
    ExtUtils::ParseXS   3.35      
    File::Spec          3.62      
    JSON                2.94      
    JSON::PP            2.94      
    Module::Build       0.4224    
    Module::Signature   0.81      
    Parse::CPAN::Meta   1.4414_001
    Test::Harness       3.35_01   
    Test::More          1.302086  
    YAML                1.23      
    YAML::Syck          1.30      
    version             0.9918    


--

Summary of my perl5 (revision 5 version 22 subversion 3) configuration:
   
  Platform:
    osname=linux, osvers=2.6.32-696.3.1.el6.x86_64, archname=x86_64-linux
    uname='linux centos6 2.6.32-696.3.1.el6.x86_64 #1 smp tue may 30 19:52:55 utc 2017 x86_64 x86_64 x86_64 gnulinux '
    config_args='-ds -e -Dprefix=/opt/perl-5.22.3 -Dcf_email=srezic@cpan.org'
    hint=recommended, useposix=true, d_sigaction=define
    useithreads=undef, usemultiplicity=undef
    use64bitint=define, use64bitall=define, uselongdouble=undef
    usemymalloc=n, bincompat5005=undef
  Compiler:
    cc='cc', ccflags ='-fwrapv -fno-strict-aliasing -pipe -fstack-protector -I/usr/local/include -D_LARGEFILE_SOURCE -D_FILE_OFFSET_BITS=64 -D_FORTIFY_SOURCE=2',
    optimize='-O2',
    cppflags='-fwrapv -fno-strict-aliasing -pipe -fstack-protector -I/usr/local/include'
    ccversion='', gccversion='4.4.7 20120313 (Red Hat 4.4.7-18)', gccosandvers=''
    intsize=4, longsize=8, ptrsize=8, doublesize=8, byteorder=12345678, doublekind=3
    d_longlong=define, longlongsize=8, d_longdbl=define, longdblsize=16, longdblkind=3
    ivtype='long', ivsize=8, nvtype='double', nvsize=8, Off_t='off_t', lseeksize=8
    alignbytes=8, prototype=define
  Linker and Libraries:
    ld='cc', ldflags =' -fstack-protector -L/usr/local/lib'
    libpth=/usr/local/lib /usr/lib /lib/../lib64 /usr/lib/../lib64 /lib /lib64 /usr/lib64 /usr/local/lib64
    libs=-lpthread -lnsl -lgdbm -ldb -ldl -lm -lcrypt -lutil -lc
    perllibs=-lpthread -lnsl -ldl -lm -lcrypt -lutil -lc
    libc=libc-2.12.so, so=so, useshrplib=false, libperl=libperl.a
    gnulibc_version='2.12'
  Dynamic Linking:
    dlsrc=dl_dlopen.xs, dlext=so, d_dlsymun=undef, ccdlflags='-Wl,-E'
    cccdlflags='-fPIC', lddlflags='-shared -O2 -L/usr/local/lib -fstack-protector'


Characteristics of this binary (from libperl): 
  Compile-time options: HAS_TIMES PERLIO_LAYERS PERL_DONT_CREATE_GVSV
                        PERL_HASH_FUNC_ONE_AT_A_TIME_HARD PERL_MALLOC_WRAP
                        PERL_NEW_COPY_ON_WRITE PERL_PRESERVE_IVUV
                        USE_64_BIT_ALL USE_64_BIT_INT USE_LARGE_FILES
                        USE_LOCALE USE_LOCALE_COLLATE USE_LOCALE_CTYPE
                        USE_LOCALE_NUMERIC USE_LOCALE_TIME USE_PERLIO
                        USE_PERL_ATOF
  Built under linux
  Compiled at Jun 21 2017 19:22:49
  %ENV:
    PERL5LIB="/home/cpansand/.cpan/build/2017092715/Locale-TextDomain-OO-1.031-xkpfy7/blib/arch:/home/cpansand/.cpan/build/2017092715/Locale-TextDomain-OO-1.031-xkpfy7/blib/lib:/home/cpansand/.cpan/build/2017092715/Tie-Sub-1.001-SPIvpD/blib/arch:/home/cpansand/.cpan/build/2017092715/Tie-Sub-1.001-SPIvpD/blib/lib"
    PERL5OPT=""
    PERL5_CPANPLUS_IS_RUNNING="12765"
    PERL5_CPAN_IS_RUNNING="12765"
    PERL5_CPAN_IS_RUNNING_IN_RECURSION="12724,12765"
    PERLDOC="-MPod::Perldoc::ToTextOverstrike"
    PERL_BATCH="yes"
    PERL_CANARY_STABILITY_NOPROMPT="1"
    PERL_CPAN_REPORTER_CONFIG="/var/tmp/cpansmoker-1023/2017092715/cpanreporter_000_config.ini"
    PERL_EXTUTILS_AUTOINSTALL="--defaultdeps"
  @INC:
    /home/cpansand/.cpan/build/2017092715/Locale-TextDomain-OO-1.031-xkpfy7/blib/arch
    /home/cpansand/.cpan/build/2017092715/Locale-TextDomain-OO-1.031-xkpfy7/blib/lib
    /home/cpansand/.cpan/build/2017092715/Tie-Sub-1.001-SPIvpD/blib/arch
    /home/cpansand/.cpan/build/2017092715/Tie-Sub-1.001-SPIvpD/blib/lib
    /opt/perl-5.22.3/lib/site_perl/5.22.3/x86_64-linux
    /opt/perl-5.22.3/lib/site_perl/5.22.3
    /opt/perl-5.22.3/lib/5.22.3/x86_64-linux
    /opt/perl-5.22.3/lib/5.22.3
    .