Test-Reporter-Transport-Metabase-Fallback v1.001 Perl 5 v5.29.10 i686-linux-multi
- Status
- Pass
- From
- Serguei Trouchelle (STRO)
- Dist
-
Test-Reporter-Transport-Metabase-Fallback v1.001
- Platform
- Perl 5 v5.29.10 i686-linux-multi
- Date
- 2019-04-26 17:29:47
- ID
- e3bd2be2-6848-11e9-b4db-1a35c10df68b
This distribution has been tested as part of the CPAN Testers
project, supporting the Perl programming language. See
http://wiki.cpantesters.org/ for more information or email
questions to cpan-testers-discuss@perl.org
--
Dear Serguei Trouchelle,
This is a computer-generated report for Test-Reporter-Transport-Metabase-Fallback-1.001
on perl 5.29.10, created by CPAN-Reporter-1.2018.
Thank you for uploading your work to CPAN. Congratulations!
All tests were successful.
Sections of this report:
* Tester comments
* Program output
* Prerequisites
* Environment and other context
------------------------------
TESTER COMMENTS
------------------------------
Additional comments from tester:
this report is from an automated smoke testing program
and was not reviewed by a human for accuracy
------------------------------
PROGRAM OUTPUT
------------------------------
Output from '/usr/bin/make test':
PERL_DL_NONLAZY=1 "/home/cpantester/perl/5.29.10m/bin/perl" "-MExtUtils::Command::MM" "-MTest::Harness" "-e" "undef *Test::Harness::Switches; test_harness(0, 'blib/lib', 'blib/arch')" t/*.t
Test::Reporter::Transport::Metabase::Fallback Metabase error: fact submission failed: Not Found at /home/cpantester/perl/5.29.10m/lib/site_perl/5.29.10/Metabase/Client/Simple.pm line 129.
Metabase::Client::Simple::submit_fact(Metabase::Client::Simple=HASH(0x2bbce50), CPAN::Testers::Report=HASH(0x2e10f00)) called at /home/cpantester/perl/5.29.10m/lib/site_perl/5.29.10/Test/Reporter/Transport/Metabase.pm line 122
Test::Reporter::Transport::Metabase::send(Test::Reporter::Transport::Metabase=HASH(0x2b66138), Test::Reporter=HASH(0x2b66258)) called at /home/cpantester/cpan/build/5.29.10m/build/Test-Reporter-Transport-Metabase-Fallback-1.001-0/blib/lib/Test/Reporter/Transport/Metabase/Fallback.pm line 60
eval {...} called at /home/cpantester/cpan/build/5.29.10m/build/Test-Reporter-Transport-Metabase-Fallback-1.001-0/blib/lib/Test/Reporter/Transport/Metabase/Fallback.pm line 60
Test::Reporter::Transport::Metabase::Fallback::send(Test::Reporter::Transport::Metabase::Fallback=HASH(0x261ef60), Test::Reporter=HASH(0x2b66258)) called at /home/cpantester/perl/5.29.10m/lib/site_perl/5.29.10/Test/Reporter.pm line 272
eval {...} called at /home/cpantester/perl/5.29.10m/lib/site_perl/5.29.10/Test/Reporter.pm line 272
Test::Reporter::send(Test::Reporter=HASH(0x2b66258)) called at t/00-use.t line 33
Test::Reporter::Transport::Metabase::Fallback Saving report in the queue.
at /home/cpantester/perl/5.29.10m/lib/site_perl/5.29.10/Test/Reporter.pm line 272.
t/00-use.t ............. ok
t/author-critic.t ...... skipped: these tests are for testing by the author
t/author-pod-syntax.t .. skipped: these tests are for testing by the author
All tests successful.
Files=3, Tests=7, 0 wallclock secs ( 0.05 usr 0.01 sys + 0.40 cusr 0.05 csys = 0.51 CPU)
Result: PASS
------------------------------
PREREQUISITES
------------------------------
Prerequisite modules loaded:
requires:
Module Need Have
----------------------------------- ---- --------
Carp 0 1.50
Test::Reporter::Transport::File 0 1.62
Test::Reporter::Transport::Metabase 0 1.999010
build_requires:
Module Need Have
----------------------------------- ---- --------
Cwd 0 3.78
ExtUtils::MakeMaker 0 7.34
File::Spec 0 3.78
strict 0 1.11
Test::More 0 1.302162
Test::Reporter 0 1.62
configure_requires:
Module Need Have
----------------------------------- ---- --------
ExtUtils::MakeMaker 0 7.34
------------------------------
ENVIRONMENT AND OTHER CONTEXT
------------------------------
Environment variables:
AUTOMATED_TESTING = 1
LANG = en_US.UTF-8
NONINTERACTIVE_TESTING = 1
PATH = /home/cpantester/perl/5.28.0/bin:/usr/local/bin:/usr/bin:/bin:/usr/local/games:/usr/games
PERL5LIB =
PERL5OPT =
PERL5_CPANPLUS_IS_RUNNING = 28751
PERL5_CPAN_IS_RUNNING = 28751
PERL_MM_USE_DEFAULT = 1
PERL_USE_UNSAFE_INC = 1
SHELL = /bin/bash
TERM = xterm
Perl special variables (and OS-specific diagnostics, for MSWin32):
$^X = /home/cpantester/perl/5.29.10m/bin/perl
$UID/$EUID = 1006 / 1006
$GID = 1006 1006
$EGID = 1006 1006
Perl module toolchain versions installed:
Module Have
------------------- --------
CPAN 2.26
CPAN::Meta 2.150010
Cwd 3.78
ExtUtils::CBuilder 0.280231
ExtUtils::Command 7.34
ExtUtils::Install 2.14
ExtUtils::MakeMaker 7.34
ExtUtils::Manifest 1.72
ExtUtils::ParseXS 3.40
File::Spec 3.78
JSON n/a
JSON::PP 4.02
Module::Build 0.4229
Module::Signature n/a
Parse::CPAN::Meta 2.150010
Test::Harness 3.42
Test::More 1.302162
YAML 1.27
YAML::Syck 1.31
version 0.9924
--
Summary of my perl5 (revision 5 version 29 subversion 10) configuration:
Platform:
osname=linux
osvers=4.9.0-7-686-pae
archname=i686-linux-multi
uname='linux cthugha 4.9.0-7-686-pae #1 smp debian 4.9.110-3+deb9u2 (2018-08-13) i686 gnulinux '
config_args=''
hint=recommended
useposix=true
d_sigaction=define
useithreads=undef
usemultiplicity=define
use64bitint=undef
use64bitall=undef
uselongdouble=undef
usemymalloc=n
default_inc_excludes_dot=define
bincompat5005=undef
Compiler:
cc='cc'
ccflags ='-fwrapv -fno-strict-aliasing -pipe -fstack-protector-strong -I/usr/local/include -D_LARGEFILE_SOURCE -D_FILE_OFFSET_BITS=64 -D_FORTIFY_SOURCE=2'
optimize='-O2'
cppflags='-fwrapv -fno-strict-aliasing -pipe -fstack-protector-strong -I/usr/local/include'
ccversion=''
gccversion='6.3.0 20170516'
gccosandvers=''
intsize=4
longsize=4
ptrsize=4
doublesize=8
byteorder=1234
doublekind=3
d_longlong=define
longlongsize=8
d_longdbl=define
longdblsize=12
longdblkind=3
ivtype='long'
ivsize=4
nvtype='double'
nvsize=8
Off_t='off_t'
lseeksize=8
alignbytes=4
prototype=define
Linker and Libraries:
ld='cc'
ldflags =' -fstack-protector-strong -L/usr/local/lib'
libpth=/usr/local/lib /usr/lib/gcc/i686-linux-gnu/6/include-fixed /usr/include/i386-linux-gnu /usr/lib /lib/i386-linux-gnu /lib/../lib /usr/lib/i386-linux-gnu /usr/lib/../lib /lib
libs=-lpthread -lnsl -ldl -lm -lcrypt -lutil -lc
perllibs=-lpthread -lnsl -ldl -lm -lcrypt -lutil -lc
libc=libc-2.24.so
so=so
useshrplib=false
libperl=libperl.a
gnulibc_version='2.24'
Dynamic Linking:
dlsrc=dl_dlopen.xs
dlext=so
d_dlsymun=undef
ccdlflags='-Wl,-E'
cccdlflags='-fPIC'
lddlflags='-shared -O2 -L/usr/local/lib -fstack-protector-strong'
Characteristics of this binary (from libperl):
Compile-time options:
HAS_TIMES
MULTIPLICITY
PERLIO_LAYERS
PERL_COPY_ON_WRITE
PERL_DONT_CREATE_GVSV
PERL_IMPLICIT_CONTEXT
PERL_MALLOC_WRAP
PERL_OP_PARENT
PERL_PRESERVE_IVUV
USE_LARGE_FILES
USE_LOCALE
USE_LOCALE_COLLATE
USE_LOCALE_CTYPE
USE_LOCALE_NUMERIC
USE_LOCALE_TIME
USE_PERLIO
USE_PERL_ATOF
Built under linux
Compiled at Apr 22 2019 11:35:17
%ENV:
PERL5LIB=""
PERL5OPT=""
PERL5_CPANPLUS_IS_RUNNING="28751"
PERL5_CPAN_IS_RUNNING="28751"
PERL_MM_USE_DEFAULT="1"
PERL_USE_UNSAFE_INC="1"
@INC:
/home/cpantester/perl/5.29.10m/lib/site_perl/5.29.10/i686-linux-multi
/home/cpantester/perl/5.29.10m/lib/site_perl/5.29.10
/home/cpantester/perl/5.29.10m/lib/5.29.10/i686-linux-multi
/home/cpantester/perl/5.29.10m/lib/5.29.10
.