Net-Statsd-Server v0.20 Perl 5 v5.37.11 x86_64-linux-thread-multi

Status
Pass
From
Andreas J. König (ANDK)
Dist
Net-Statsd-Server v0.20
Platform
Perl 5 v5.37.11 x86_64-linux-thread-multi
Date
2023-04-27 13:24:51
ID
e3bce40c-e4fe-11ed-9779-5d901b637507
This distribution has been tested as part of the CPAN Testers
project, supporting the Perl programming language.  See
http://wiki.cpantesters.org/ for more information or email
questions to cpan-testers-discuss@perl.org


--
Dear Cosimo Streppone,

This is a computer-generated report for Net-Statsd-Server-0.20
on perl 5.37.11, created by CPAN-Reporter-1.2018.

Thank you for uploading your work to CPAN.  Congratulations!
All tests were successful.

Sections of this report:

    * Tester comments
    * Program output
    * Prerequisites
    * Environment and other context

------------------------------
TESTER COMMENTS
------------------------------

Additional comments from tester:

this report is from an automated smoke testing program
and was not reviewed by a human for accuracy

------------------------------
PROGRAM OUTPUT
------------------------------

Output from '/usr/bin/make test':

PERL_DL_NONLAZY=1 "/tmp/basesmoker-reloperl-IEkk/bin/perl" "-MExtUtils::Command::MM" "-MTest::Harness" "-e" "undef *Test::Harness::Switches; test_harness(0, 'blib/lib', 'blib/arch')" t/*.t t/integration-tests/*.t
t/000-sanity.t ............................. ok
t/config.t ................................. ok
t/graphite.t ............................... ok
2023-04-27 13:24:26.000000 +0000 note  Net::Statsd::Server: Initializing Net::Statsd::Server::Backend::Console backend
2023-04-27 13:24:26.000000 +0000 note  Net::Statsd::Server: Initializing Net::Statsd::Server::Backend::Graphite backend
2023-04-27 13:24:26.000000 +0000 info  AnyEvent: Autoloaded model 'AnyEvent::Impl::EV', using it.
2023-04-27 13:24:26.715936 +0000 note  Net::Statsd::Server: statsd server started on 0.0.0.0:40001 (v0.17)
2023-04-27 13:24:26.715982 +0000 note  Net::Statsd::Server: manager interface started on 0.0.0.0:40002
2023-04-27 13:24:26.716017 +0000 note  Net::Statsd::Server: metrics flush will happen every 1s
2023-04-27 13:24:27.124608 +0000 warn  Net::Statsd::Server: Bad line: 1 in msg "a_bad_test_value|z"
2023-04-27 13:24:27.717772 +0000 note  Net::Statsd::Server: flushing metrics
Flushing stats at Thu Apr 27 13:24:27 2023
{"timer_data":{},"pctThreshold":[90],"gauges":{},"sets":null,"timers":{},"counter_rates":{"statsd.packets_received":1,"statsd.bad_lines_seen":1},"counters":{"statsd.bad_lines_seen":1,"statsd.packets_received":1}}
t/integration-tests/bad-message.t .......... ok
2023-04-27 13:24:27.000000 +0000 note  Net::Statsd::Server: Initializing Net::Statsd::Server::Backend::Console backend
2023-04-27 13:24:27.000000 +0000 note  Net::Statsd::Server: Initializing Net::Statsd::Server::Backend::Graphite backend
2023-04-27 13:24:27.000000 +0000 info  AnyEvent: Autoloaded model 'AnyEvent::Impl::EV', using it.
2023-04-27 13:24:27.945806 +0000 note  Net::Statsd::Server: statsd server started on 0.0.0.0:40001 (v0.17)
2023-04-27 13:24:27.945853 +0000 note  Net::Statsd::Server: manager interface started on 0.0.0.0:40002
2023-04-27 13:24:27.945888 +0000 note  Net::Statsd::Server: metrics flush will happen every 1s
2023-04-27 13:24:28.948179 +0000 note  Net::Statsd::Server: flushing metrics
Flushing stats at Thu Apr 27 13:24:28 2023
{"counters":{"statsd.bad_lines_seen":0,"statsd.packets_received":1,"a_test_value":100},"counter_rates":{"a_test_value":100,"statsd.packets_received":1,"statsd.bad_lines_seen":0},"gauges":{},"timers":{},"pctThreshold":[90],"sets":null,"timer_data":{}}
# stats.counters.statsd.bad_lines_seen.rate 0.000000 1682601868
# stats.counters.statsd.bad_lines_seen.count 0 1682601868
# stats.counters.statsd.packets_received.rate 1.000000 1682601868
# stats.counters.statsd.packets_received.count 1 1682601868
# stats.counters.a_test_value.rate 100.000000 1682601868
# stats.counters.a_test_value.count 100 1682601868
# stats.statsd.numStats 3 1682601868
# stats.statsd.graphiteStats.calculationtime 0.044000 1682601868
# stats.statsd.processing_time 0.021 1682601868
# stats.statsd.graphiteStats.last_exception 94344731176384 1682601868
# stats.statsd.graphiteStats.last_flush 94344731176384 1682601868
t/integration-tests/counts-are-valid.t ..... ok
2023-04-27 13:24:29.000000 +0000 note  Net::Statsd::Server: Initializing Net::Statsd::Server::Backend::Graphite backend
2023-04-27 13:24:29.000000 +0000 info  AnyEvent: Autoloaded model 'AnyEvent::Impl::EV', using it.
2023-04-27 13:24:29.186651 +0000 note  Net::Statsd::Server: statsd server started on 0.0.0.0:40001 (v0.17)
2023-04-27 13:24:29.186691 +0000 note  Net::Statsd::Server: manager interface started on 0.0.0.0:40002
2023-04-27 13:24:29.186723 +0000 note  Net::Statsd::Server: metrics flush will happen every 1s
2023-04-27 13:24:30.188406 +0000 note  Net::Statsd::Server: flushing metrics
# First flush. Test gauge should be there.
2023-04-27 13:24:31.191402 +0000 note  Net::Statsd::Server: flushing metrics
# Second flush. deleteGauges=false should keep the test gauge.
t/integration-tests/delete-gauges-false.t .. ok
2023-04-27 13:24:31.000000 +0000 note  Net::Statsd::Server: Initializing Net::Statsd::Server::Backend::Graphite backend
2023-04-27 13:24:31.000000 +0000 info  AnyEvent: Autoloaded model 'AnyEvent::Impl::EV', using it.
2023-04-27 13:24:31.445746 +0000 note  Net::Statsd::Server: statsd server started on 0.0.0.0:40001 (v0.17)
2023-04-27 13:24:31.445781 +0000 note  Net::Statsd::Server: manager interface started on 0.0.0.0:40002
2023-04-27 13:24:31.445812 +0000 note  Net::Statsd::Server: metrics flush will happen every 1s
2023-04-27 13:24:32.446293 +0000 note  Net::Statsd::Server: flushing metrics
# First flush. Test gauge should be there.
2023-04-27 13:24:33.449774 +0000 note  Net::Statsd::Server: flushing metrics
# Second flush. deleteIdleStats should have cleared the test gauge.
t/integration-tests/delete-idle-stats.t .... ok
2023-04-27 13:24:33.000000 +0000 note  Net::Statsd::Server: Initializing Net::Statsd::Server::Backend::Console backend
2023-04-27 13:24:33.000000 +0000 note  Net::Statsd::Server: Initializing Net::Statsd::Server::Backend::Graphite backend
2023-04-27 13:24:33.000000 +0000 info  AnyEvent: Autoloaded model 'AnyEvent::Impl::EV', using it.
2023-04-27 13:24:33.676773 +0000 note  Net::Statsd::Server: statsd server started on 0.0.0.0:40001 (v0.17)
2023-04-27 13:24:33.676985 +0000 note  Net::Statsd::Server: manager interface started on 0.0.0.0:40002
2023-04-27 13:24:33.678009 +0000 note  Net::Statsd::Server: metrics flush will happen every 1s
2023-04-27 13:24:34.678297 +0000 note  Net::Statsd::Server: flushing metrics
Flushing stats at Thu Apr 27 13:24:34 2023
{"pctThreshold":[90],"counters":{"statsd.packets_received":1,"statsd.bad_lines_seen":0,"a_test_value,category=web,severity=high":100},"counter_rates":{"statsd.packets_received":1,"a_test_value,category=web,severity=high":100,"statsd.bad_lines_seen":0},"gauges":{},"timers":{},"sets":null,"timer_data":{}}
# stats.counters.statsd.packets_received.rate 1.000000 1682601874
# stats.counters.statsd.packets_received.count 1 1682601874
# stats.counters.statsd.bad_lines_seen.rate 0.000000 1682601874
# stats.counters.statsd.bad_lines_seen.count 0 1682601874
# stats.counters.a_test_value,category=web,severity=high.rate 100.000000 1682601874
# stats.counters.a_test_value,category=web,severity=high.count 100 1682601874
# stats.statsd.numStats 3 1682601874
# stats.statsd.graphiteStats.calculationtime 0.046000 1682601874
# stats.statsd.processing_time 0.023 1682601874
# stats.statsd.graphiteStats.last_exception 94358036950464 1682601874
# stats.statsd.graphiteStats.last_flush 94358036950464 1682601874
t/integration-tests/keys-with-tags.t ....... ok
2023-04-27 13:24:34.000000 +0000 note  Net::Statsd::Server: Initializing Net::Statsd::Server::Backend::Graphite backend
2023-04-27 13:24:34.000000 +0000 info  AnyEvent: Autoloaded model 'AnyEvent::Impl::EV', using it.
2023-04-27 13:24:34.911621 +0000 note  Net::Statsd::Server: statsd server started on 0.0.0.0:40001 (v0.17)
2023-04-27 13:24:34.911653 +0000 note  Net::Statsd::Server: manager interface started on 0.0.0.0:40002
2023-04-27 13:24:34.911684 +0000 note  Net::Statsd::Server: metrics flush will happen every 1s
# Expected mean value is 2037.86
2023-04-27 13:24:35.914323 +0000 note  Net::Statsd::Server: flushing metrics
# stats.counters.statsd.bad_lines_seen.rate 0.000000 1682601875
# stats.counters.statsd.bad_lines_seen.count 0 1682601875
# stats.counters.statsd.packets_received.rate 100.000000 1682601875
# stats.counters.statsd.packets_received.count 100 1682601875
# stats.timers.read_latency.sum_squares_99 433456585.000000 1682601875
# stats.timers.read_latency.upper_98 2906.000000 1682601875
# stats.timers.read_latency.median 2139.500000 1682601875
# stats.timers.read_latency.count_99 99.000000 1682601875
# stats.timers.read_latency.count_95 95.000000 1682601875
# stats.timers.read_latency.sum 203786.000000 1682601875
# stats.timers.read_latency.mean 2037.860000 1682601875
# stats.timers.read_latency.sum_95 189240.000000 1682601875
# stats.timers.read_latency.mean_99 2028.353535 1682601875
# stats.timers.read_latency.sum_98 197847.000000 1682601875
# stats.timers.read_latency.sum_squares 442331026.000000 1682601875
# stats.timers.read_latency.sum_squares_95 399999084.000000 1682601875
# stats.timers.read_latency.lower 1007.000000 1682601875
# stats.timers.read_latency.upper 2979.000000 1682601875
# stats.timers.read_latency.count_98 98.000000 1682601875
# stats.timers.read_latency.upper_99 2960.000000 1682601875
# stats.timers.read_latency.mean_98 2018.846939 1682601875
# stats.timers.read_latency.upper_95 2835.000000 1682601875
# stats.timers.read_latency.count_ps 100.000000 1682601875
# stats.timers.read_latency.std 520.035461 1682601875
# stats.timers.read_latency.sum_squares_98 424694985.000000 1682601875
# stats.timers.read_latency.mean_95 1992.000000 1682601875
# stats.timers.read_latency.sum_99 200807.000000 1682601875
# stats.timers.read_latency.count 100.000000 1682601875
# stats.statsd.numStats 3 1682601875
# stats.statsd.graphiteStats.calculationtime 0.097000 1682601875
# stats.statsd.processing_time 0.302 1682601875
# stats.statsd.graphiteStats.last_exception 94268768673216 1682601875
# stats.statsd.graphiteStats.last_flush 94268768673216 1682601875
t/integration-tests/percent-threshold.t .... ok
2023-04-27 13:24:36.000000 +0000 note  Net::Statsd::Server: Initializing Net::Statsd::Server::Backend::Console backend
2023-04-27 13:24:36.000000 +0000 note  Net::Statsd::Server: Initializing Net::Statsd::Server::Backend::Graphite backend
2023-04-27 13:24:36.000000 +0000 info  AnyEvent: Autoloaded model 'AnyEvent::Impl::EV', using it.
2023-04-27 13:24:36.161767 +0000 note  Net::Statsd::Server: statsd server started on 0.0.0.0:40001 (v0.17)
2023-04-27 13:24:36.161799 +0000 note  Net::Statsd::Server: manager interface started on 0.0.0.0:40002
2023-04-27 13:24:36.161832 +0000 note  Net::Statsd::Server: metrics flush will happen every 1s
2023-04-27 13:24:37.162271 +0000 note  Net::Statsd::Server: flushing metrics
Flushing stats at Thu Apr 27 13:24:37 2023
{"pctThreshold":["90"],"counters":{"statsd.bad_lines_seen":0,"statsd.packets_received":1},"timers":{"a_test_value":["100"]},"sets":null,"timer_data":{"a_test_value":{"count":1,"sum_squares_90":10000,"std":0,"upper":"100","sum_90":"100","mean_90":"100","sum_squares":10000,"count_ps":1,"mean":100,"sum":"100","lower":"100","median":"100","upper_90":"100","count_90":1}},"gauges":{},"counter_rates":{"statsd.packets_received":1,"statsd.bad_lines_seen":0}}
# stats.counters.statsd.bad_lines_seen.rate 0.000000 1682601877
# stats.counters.statsd.bad_lines_seen.count 0 1682601877
# stats.counters.statsd.packets_received.rate 1.000000 1682601877
# stats.counters.statsd.packets_received.count 1 1682601877
# stats.timers.a_test_value.count 1.000000 1682601877
# stats.timers.a_test_value.sum_squares_90 10000.000000 1682601877
# stats.timers.a_test_value.std 0.000000 1682601877
# stats.timers.a_test_value.upper 100.000000 1682601877
# stats.timers.a_test_value.sum_90 100.000000 1682601877
# stats.timers.a_test_value.mean_90 100.000000 1682601877
# stats.timers.a_test_value.sum_squares 10000.000000 1682601877
# stats.timers.a_test_value.count_ps 1.000000 1682601877
# stats.timers.a_test_value.mean 100.000000 1682601877
# stats.timers.a_test_value.sum 100.000000 1682601877
# stats.timers.a_test_value.lower 100.000000 1682601877
# stats.timers.a_test_value.median 100.000000 1682601877
# stats.timers.a_test_value.upper_90 100.000000 1682601877
# stats.timers.a_test_value.count_90 1.000000 1682601877
# stats.statsd.numStats 3 1682601877
# stats.statsd.graphiteStats.calculationtime 0.075000 1682601877
# stats.statsd.processing_time 0.057 1682601877
# stats.statsd.graphiteStats.last_exception 94289215565248 1682601877
# stats.statsd.graphiteStats.last_flush 94289215565248 1682601877
t/integration-tests/timers-are-valid.t ..... ok
t/process-metrics.t ........................ ok
t/trim.t ................................... ok
All tests successful.
Files=12, Tests=92, 11 wallclock secs ( 0.07 usr  0.01 sys +  1.37 cusr  0.30 csys =  1.75 CPU)
Result: PASS

------------------------------
PREREQUISITES
------------------------------

Prerequisite modules loaded:

requires:

    Module                Need Have    
    --------------------- ---- --------
    AnyEvent::Handle::UDP 0    0.050   
    IO::Socket::INET      0    1.51    
    JSON::XS              0    4.03    

build_requires:

    Module                Need Have    
    --------------------- ---- --------
    ExtUtils::MakeMaker   0    7.70    
    Test::More            0    1.302194

configure_requires:

    Module                Need Have    
    --------------------- ---- --------
    ExtUtils::MakeMaker   0    7.70    


------------------------------
ENVIRONMENT AND OTHER CONTEXT
------------------------------

Environment variables:

    AUTOMATED_TESTING = 1
    LANG = en_US.UTF-8
    PATH = /home/sand/bin:/usr/local/bin:/usr/local/sbin:/usr/sbin:/usr/bin:/sbin:/bin:/usr/games:/usr/local/games:/snap/bin:/usr/local/perl/bin:/usr/X11/bin
    PERL = /tmp/basesmoker-reloperl-IEkk/bin/perl
    PERL5LIB = /tmp/loop_over_bdir-168724-BYJVd6/RDF-NLP-SPARQLQuery-0.1-0/blib/arch:/tmp/loop_over_bdir-168724-BYJVd6/RDF-NLP-SPARQLQuery-0.1-0/blib/lib:/tmp/loop_over_bdir-168724-BYJVd6/Captive-Portal-4.10-0/blib/arch:/tmp/loop_over_bdir-168724-BYJVd6/Captive-Portal-4.10-0/blib/lib:/tmp/loop_over_bdir-168724-BYJVd6/dta-tokwrap-0.98-0/blib/arch:/tmp/loop_over_bdir-168724-BYJVd6/dta-tokwrap-0.98-0/blib/lib:/tmp/loop_over_bdir-168724-BYJVd6/Dpkg-1.21.19-0/blib/arch:/tmp/loop_over_bdir-168724-BYJVd6/Dpkg-1.21.19-0/blib/lib:/tmp/loop_over_bdir-168724-BYJVd6/MP3-PodcastFetch-1.05-0/blib/arch:/tmp/loop_over_bdir-168724-BYJVd6/MP3-PodcastFetch-1.05-0/blib/lib:/tmp/loop_over_bdir-168724-BYJVd6/Net-Async-DigitalOcean-0.04-0/blib/arch:/tmp/loop_over_bdir-168724-BYJVd6/Net-Async-DigitalOcean-0.04-0/blib/lib:/tmp/loop_over_bdir-168724-BYJVd6/Linux-InitFS-0.2-0/blib/arch:/tmp/loop_over_bdir-168724-BYJVd6/Linux-InitFS-0.2-0/blib/lib:/tmp/loop_over_bdir-168724-BYJVd6/triceps-2.1.0-0/blib/arch:/tmp/loop_over_bdir-168724-BYJVd6/triceps-2.1.0-0/blib/lib:/tmp/loop_over_bdir-168724-BYJVd6/Business-Shipping-DataFiles-1.02-0/blib/arch:/tmp/loop_over_bdir-168724-BYJVd6/Business-Shipping-DataFiles-1.02-0/blib/lib:/tmp/loop_over_bdir-168724-BYJVd6/mmds-1.902-0/blib/arch:/tmp/loop_over_bdir-168724-BYJVd6/mmds-1.902-0/blib/lib:/tmp/loop_over_bdir-168724-BYJVd6/Devel-Required-0.16-0/blib/arch:/tmp/loop_over_bdir-168724-BYJVd6/Devel-Required-0.16-0/blib/lib:/tmp/loop_over_bdir-168724-BYJVd6/Lingua-YaTeA-0.626-0/blib/arch:/tmp/loop_over_bdir-168724-BYJVd6/Lingua-YaTeA-0.626-0/blib/lib
    PERL5OPT = 
    PERL5_CPANPLUS_IS_RUNNING = 168734
    PERL5_CPAN_IS_RUNNING = 168734
    PERL_CANARY_STABILITY_NOPROMPT = 1
    PERL_MM_USE_DEFAULT = 1
    PERL_USE_UNSAFE_INC = 1
    SHELL = /usr/bin/zsh
    TERM = screen

Perl special variables (and OS-specific diagnostics, for MSWin32):

    $^X = /tmp/basesmoker-reloperl-IEkk/bin/perl
    $UID/$EUID = 1005 / 1005
    $GID = 1005 1005
    $EGID = 1005 1005

Perl module toolchain versions installed:

    Module              Have    
    ------------------- --------
    CPAN                2.34    
    CPAN::Meta          2.150010
    Cwd                 3.89    
    ExtUtils::CBuilder  0.280238
    ExtUtils::Command   7.70    
    ExtUtils::Install   2.22    
    ExtUtils::MakeMaker 7.70    
    ExtUtils::Manifest  1.73    
    ExtUtils::ParseXS   3.50    
    File::Spec          3.88    
    JSON                4.10    
    JSON::PP            4.16    
    Module::Build       0.4232  
    Module::Signature   0.88    
    Parse::CPAN::Meta   2.150010
    Test::Harness       3.44    
    Test::More          1.302194
    YAML                1.30    
    YAML::Syck          1.34    
    version             0.9929  


--

Summary of my perl5 (revision 5 version 37 subversion 11) configuration:
  Commit id: f94aafcf7b0649f7058ce2679b1be428d0b1bca8
  Platform:
    osname=linux
    osvers=5.4.0-146-generic
    archname=x86_64-linux-thread-multi
    uname='linux k93focal 5.4.0-146-generic #163-ubuntu smp fri mar 17 18:26:02 utc 2023 x86_64 x86_64 x86_64 gnulinux '
    config_args='-Dprefix=/home/sand/src/perl/repoperls/installed-perls/host/k93focal/v5.37.11/d119 -Dmyhostname=k93focal -Dinstallusrbinperl=n -Uversiononly -Dusedevel -des -Ui_db -Dlibswanted=cl pthread socket inet nsl gdbm dbm malloc dl ld sun m crypt sec util c cposix posix ucb BSD gdbm_compat -Duseithreads -Uuselongdouble -DEBUGGING=both'
    hint=recommended
    useposix=true
    d_sigaction=define
    useithreads=define
    usemultiplicity=define
    use64bitint=define
    use64bitall=define
    uselongdouble=undef
    usemymalloc=n
    default_inc_excludes_dot=define
  Compiler:
    cc='cc'
    ccflags ='-D_REENTRANT -D_GNU_SOURCE -fwrapv -DDEBUGGING -fno-strict-aliasing -pipe -fstack-protector-strong -I/usr/local/include -D_LARGEFILE_SOURCE -D_FILE_OFFSET_BITS=64'
    optimize='-O2 -g'
    cppflags='-D_REENTRANT -D_GNU_SOURCE -fwrapv -DDEBUGGING -fno-strict-aliasing -pipe -fstack-protector-strong -I/usr/local/include'
    ccversion=''
    gccversion='9.4.0'
    gccosandvers=''
    intsize=4
    longsize=8
    ptrsize=8
    doublesize=8
    byteorder=12345678
    doublekind=3
    d_longlong=define
    longlongsize=8
    d_longdbl=define
    longdblsize=16
    longdblkind=3
    ivtype='long'
    ivsize=8
    nvtype='double'
    nvsize=8
    Off_t='off_t'
    lseeksize=8
    alignbytes=8
    prototype=define
  Linker and Libraries:
    ld='cc'
    ldflags =' -fstack-protector-strong -L/usr/local/lib'
    libpth=/usr/local/lib /usr/lib/x86_64-linux-gnu /usr/lib /usr/lib64
    libs=-lpthread -lnsl -ldl -lm -lcrypt -lutil -lc
    perllibs=-lpthread -lnsl -ldl -lm -lcrypt -lutil -lc
    libc=libc-2.31.so
    so=so
    useshrplib=false
    libperl=libperl.a
    gnulibc_version='2.31'
  Dynamic Linking:
    dlsrc=dl_dlopen.xs
    dlext=so
    d_dlsymun=undef
    ccdlflags='-Wl,-E'
    cccdlflags='-fPIC'
    lddlflags='-shared -O2 -g -L/usr/local/lib -fstack-protector-strong'


Characteristics of this binary (from libperl): 
  Compile-time options:
    DEBUGGING
    HAS_LONG_DOUBLE
    HAS_STRTOLD
    HAS_TIMES
    MULTIPLICITY
    PERLIO_LAYERS
    PERL_COPY_ON_WRITE
    PERL_DONT_CREATE_GVSV
    PERL_HASH_FUNC_SIPHASH13
    PERL_HASH_USE_SBOX32
    PERL_MALLOC_WRAP
    PERL_OP_PARENT
    PERL_PRESERVE_IVUV
    PERL_TRACK_MEMPOOL
    PERL_USE_DEVEL
    PERL_USE_SAFE_PUTENV
    USE_64_BIT_ALL
    USE_64_BIT_INT
    USE_ITHREADS
    USE_LARGE_FILES
    USE_LOCALE
    USE_LOCALE_COLLATE
    USE_LOCALE_CTYPE
    USE_LOCALE_NUMERIC
    USE_LOCALE_TIME
    USE_PERLIO
    USE_PERL_ATOF
    USE_REENTRANT_API
    USE_THREAD_SAFE_LOCALE
  Built under linux
  Compiled at Apr 23 2023 19:32:15
  %ENV:
    PERL="/tmp/basesmoker-reloperl-IEkk/bin/perl"
    PERL5LIB="/tmp/loop_over_bdir-168724-BYJVd6/RDF-NLP-SPARQLQuery-0.1-0/blib/arch:/tmp/loop_over_bdir-168724-BYJVd6/RDF-NLP-SPARQLQuery-0.1-0/blib/lib:/tmp/loop_over_bdir-168724-BYJVd6/Captive-Portal-4.10-0/blib/arch:/tmp/loop_over_bdir-168724-BYJVd6/Captive-Portal-4.10-0/blib/lib:/tmp/loop_over_bdir-168724-BYJVd6/dta-tokwrap-0.98-0/blib/arch:/tmp/loop_over_bdir-168724-BYJVd6/dta-tokwrap-0.98-0/blib/lib:/tmp/loop_over_bdir-168724-BYJVd6/Dpkg-1.21.19-0/blib/arch:/tmp/loop_over_bdir-168724-BYJVd6/Dpkg-1.21.19-0/blib/lib:/tmp/loop_over_bdir-168724-BYJVd6/MP3-PodcastFetch-1.05-0/blib/arch:/tmp/loop_over_bdir-168724-BYJVd6/MP3-PodcastFetch-1.05-0/blib/lib:/tmp/loop_over_bdir-168724-BYJVd6/Net-Async-DigitalOcean-0.04-0/blib/arch:/tmp/loop_over_bdir-168724-BYJVd6/Net-Async-DigitalOcean-0.04-0/blib/lib:/tmp/loop_over_bdir-168724-BYJVd6/Linux-InitFS-0.2-0/blib/arch:/tmp/loop_over_bdir-168724-BYJVd6/Linux-InitFS-0.2-0/blib/lib:/tmp/loop_over_bdir-168724-BYJVd6/triceps-2.1.0-0/blib/arch:/tmp/loop_over_bdir-168724-BYJVd6/triceps-2.1.0-0/blib/lib:/tmp/loop_over_bdir-168724-BYJVd6/Business-Shipping-DataFiles-1.02-0/blib/arch:/tmp/loop_over_bdir-168724-BYJVd6/Business-Shipping-DataFiles-1.02-0/blib/lib:/tmp/loop_over_bdir-168724-BYJVd6/mmds-1.902-0/blib/arch:/tmp/loop_over_bdir-168724-BYJVd6/mmds-1.902-0/blib/lib:/tmp/loop_over_bdir-168724-BYJVd6/Devel-Required-0.16-0/blib/arch:/tmp/loop_over_bdir-168724-BYJVd6/Devel-Required-0.16-0/blib/lib:/tmp/loop_over_bdir-168724-BYJVd6/Lingua-YaTeA-0.626-0/blib/arch:/tmp/loop_over_bdir-168724-BYJVd6/Lingua-YaTeA-0.626-0/blib/lib"
    PERL5OPT=""
    PERL5_CPANPLUS_IS_RUNNING="168734"
    PERL5_CPAN_IS_RUNNING="168734"
    PERL_CANARY_STABILITY_NOPROMPT="1"
    PERL_MM_USE_DEFAULT="1"
    PERL_USE_UNSAFE_INC="1"
  @INC:
    /tmp/loop_over_bdir-168724-BYJVd6/RDF-NLP-SPARQLQuery-0.1-0/blib/arch
    /tmp/loop_over_bdir-168724-BYJVd6/RDF-NLP-SPARQLQuery-0.1-0/blib/lib
    /tmp/loop_over_bdir-168724-BYJVd6/Captive-Portal-4.10-0/blib/arch
    /tmp/loop_over_bdir-168724-BYJVd6/Captive-Portal-4.10-0/blib/lib
    /tmp/loop_over_bdir-168724-BYJVd6/dta-tokwrap-0.98-0/blib/arch
    /tmp/loop_over_bdir-168724-BYJVd6/dta-tokwrap-0.98-0/blib/lib
    /tmp/loop_over_bdir-168724-BYJVd6/Dpkg-1.21.19-0/blib/arch
    /tmp/loop_over_bdir-168724-BYJVd6/Dpkg-1.21.19-0/blib/lib
    /tmp/loop_over_bdir-168724-BYJVd6/MP3-PodcastFetch-1.05-0/blib/arch
    /tmp/loop_over_bdir-168724-BYJVd6/MP3-PodcastFetch-1.05-0/blib/lib
    /tmp/loop_over_bdir-168724-BYJVd6/Net-Async-DigitalOcean-0.04-0/blib/arch
    /tmp/loop_over_bdir-168724-BYJVd6/Net-Async-DigitalOcean-0.04-0/blib/lib
    /tmp/loop_over_bdir-168724-BYJVd6/Linux-InitFS-0.2-0/blib/arch
    /tmp/loop_over_bdir-168724-BYJVd6/Linux-InitFS-0.2-0/blib/lib
    /tmp/loop_over_bdir-168724-BYJVd6/triceps-2.1.0-0/blib/arch
    /tmp/loop_over_bdir-168724-BYJVd6/triceps-2.1.0-0/blib/lib
    /tmp/loop_over_bdir-168724-BYJVd6/Business-Shipping-DataFiles-1.02-0/blib/arch
    /tmp/loop_over_bdir-168724-BYJVd6/Business-Shipping-DataFiles-1.02-0/blib/lib
    /tmp/loop_over_bdir-168724-BYJVd6/mmds-1.902-0/blib/arch
    /tmp/loop_over_bdir-168724-BYJVd6/mmds-1.902-0/blib/lib
    /tmp/loop_over_bdir-168724-BYJVd6/Devel-Required-0.16-0/blib/arch
    /tmp/loop_over_bdir-168724-BYJVd6/Devel-Required-0.16-0/blib/lib
    /tmp/loop_over_bdir-168724-BYJVd6/Lingua-YaTeA-0.626-0/blib/arch
    /tmp/loop_over_bdir-168724-BYJVd6/Lingua-YaTeA-0.626-0/blib/lib
    /home/sand/src/perl/repoperls/installed-perls/host/k93focal/v5.37.11/d119/lib/site_perl/5.37.11/x86_64-linux-thread-multi
    /home/sand/src/perl/repoperls/installed-perls/host/k93focal/v5.37.11/d119/lib/site_perl/5.37.11
    /home/sand/src/perl/repoperls/installed-perls/host/k93focal/v5.37.11/d119/lib/5.37.11/x86_64-linux-thread-multi
    /home/sand/src/perl/repoperls/installed-perls/host/k93focal/v5.37.11/d119/lib/5.37.11
    .