Report for POE-Component-SmokeBox-0.50

Back
From: metabase:user:314402c4-2aae-11df-837a-5e0a49663a4f
Subject: PASS POE-Component-SmokeBox-0.50 v5.24.0 GNU/Linux
Date: 2017-02-17T12:16:19Z

This distribution has been tested as part of the CPAN Testers
project, supporting the Perl programming language.  See
http://wiki.cpantesters.org/ for more information or email
questions to cpan-testers-discuss@perl.org


--
Dear Chris Williams,

This is a computer-generated report for POE-Component-SmokeBox-0.50
on perl 5.24.0, created by CPAN-Reporter-1.2018.

Thank you for uploading your work to CPAN.  Congratulations!
All tests were successful.

Sections of this report:

    * Tester comments
    * Program output
    * Prerequisites
    * Environment and other context

------------------------------
TESTER COMMENTS
------------------------------

Additional comments from tester:

none provided

------------------------------
PROGRAM OUTPUT
------------------------------

Output from '/usr/bin/make test':

PERL_DL_NONLAZY=1 "/opt/perl-5.24.0/bin/perl5.24.0" "-MExtUtils::Command::MM" "-MTest::Harness" "-e" "undef *Test::Harness::Switches; test_harness(0, 'inc', 'blib/lib', 'blib/arch')" t/*.t t/*/*.t
# 
# 
# Testing POE::Component::SmokeBox-0.50
# 
# 
# 
# Code borrowed from XML::Twig by MIROD
# 
# Configuration:
# 
# perl: 5.024000
# OS: linux - x86_64-linux
# 
# POE                      :            1.367 (required)
# Module::Pluggable        :              5.2 (required)
# Object::Accessor         :             0.48 (required)
# Params::Check            :             0.38 (required)
# Digest::MD5              :             2.54 (required)
# IO::Pty                  :             1.12 (strongly recommended)
# 
# Test::More               :         1.302052 (required for build)
# File::Spec               :             3.63 (required for build)
# 
t/00_dump_stuff.t .................. ok
t/00_use_objs.t .................... ok
t/01_objects.t ..................... ok
t/backend/00_compile.t ............. ok
t/backend/01_cpan_yac.t ............ ok
t/backend/01_cpanp_yac.t ........... ok
t/backend/01_crsmoker.t ............ ok
t/backend/01_reporter.t ............ ok
t/backend/02_check.t ............... ok
t/backend/02_index.t ............... ok
t/backend/02_smoke.t ............... ok
t/backend/03_check_cpyac.t ......... ok
t/backend/03_check_cyac.t .......... ok
t/backend/03_index_cpyac.t ......... ok
t/backend/03_index_cyac.t .......... ok
t/backend/03_smoke_cpyac.t ......... ok
t/backend/03_smoke_cyac.t .......... ok
t/backend/04_check_rep.t ........... ok
t/backend/04_check_reps.t .......... ok
t/backend/04_index_rep.t ........... ok
t/backend/04_index_reps.t .......... ok
t/backend/04_smoke_rep.t ........... ok
t/backend/04_smoke_reps.t .......... ok
t/backend/05_env.t ................. ok
No such backend 'CORE::Badger'
 at t/backend/06_false_backend.t line 23.
t/backend/06_false_backend.t ....... ok
# Waiting for the idle kill - should be 10 seconds or so
t/backend/07_test_idle.t ........... ok
# Waiting for the excessive run kill - should be 15 seconds or so
t/backend/08_test_excess.t ......... ok
# Waiting for the loop detection kill - could be anytime really.
t/backend/09_test_loop.t ........... ok
t/backend/10_test_normal.t ......... ok
t/backend/11_test_nolog.t .......... ok
t/backend/12_test_callback.t ....... ok
t/backend/13_test_callback_deny.t .. ok
t/jobqueue/00_compile.t ............ ok
t/jobqueue/01_jobqueue.t ........... ok
t/jobqueue/02_smokers.t ............ ok
# Waiting five seconds for the dust to settle
t/jobqueue/03_paused.t ............. ok
t/jobqueue/03_paused_between.t ..... ok
t/jobqueue/03_paused_now.t ......... ok
Required option 'smokers' is not provided for POE::Component::SmokeBox::JobQueue::_submit by POE::Session::_invoke_state at /opt/perl-5.24.0/lib/site_perl/5.24.0/POE/Session.pm line 483.
t/jobqueue/04_no_smokers.t ......... ok
t/jobqueue/05_delay.t .............. ok
t/smokebox/00_compile.t ............ ok
t/smokebox/01_usage.t .............. ok
t/smokebox/02_smokers.t ............ ok
t/smokebox/03_multiplicity.t ....... ok
t/smokebox/04_smokers_more.t ....... ok
t/smokebox/05_multi_smoke.t ........ ok
t/smokebox/06_many_jobs.t .......... ok
# Starting 25 jobs, this can take a while
t/smokebox/07_stress.t ............. ok
t/smokebox/08_delay.t .............. ok
t/smokebox/09_delay_delay.t ........ ok
t/zauth/99_pod.t ................... ok
t/zauth/99_pod_coverage.t .......... ok
All tests successful.
Files=52, Tests=1580, 148 wallclock secs ( 0.12 usr  0.05 sys + 10.45 cusr  1.12 csys = 11.74 CPU)
Result: PASS

------------------------------
PREREQUISITES
------------------------------

Prerequisite modules loaded:

requires:

    Module                 Need   Have    
    ---------------------- ------ --------
    Digest::SHA            0      5.96    
    Env::Sanctify          0.04   1.12    
    File::Path             0      2.12_01 
    File::Spec             0      3.63    
    File::Temp             0      0.2304  
    Module::Pluggable      0      5.2     
    Object::Accessor       0      0.48    
    Params::Check          0      0.38    
    perl                   5.006  5.024000
    POE                    1.0001 1.367   
    SDBM_File              0      1.14    
    String::Perl::Warnings 0.04   1.16    

build_requires:

    Module                 Need   Have    
    ---------------------- ------ --------
    ExtUtils::MakeMaker    6.59   7.24    
    Test::Harness          3.14   3.36    
    Test::More             0.47   1.302052

configure_requires:

    Module                 Need   Have    
    ---------------------- ------ --------
    ExtUtils::MakeMaker    6.59   7.24    


------------------------------
ENVIRONMENT AND OTHER CONTEXT
------------------------------

Environment variables:

    LANG = en_US.UTF-8
    LANGUAGE = en_US:en
    LC_ALL = en_US.UTF-8
    PATH = /usr/local/bin:/usr/bin:/bin:/usr/local/sbin:/usr/sbin:/sbin:/home/cpansand/bin/linux-gnu:/home/cpansand/bin/sh:/home/cpansand/bin:/usr/games:/home/cpansand/devel:/home/eserte/src/srezic-misc/scripts
    PERL5LIB = /home/cpansand/.cpan/build/2017021712/String-Perl-Warnings-1.16-5/blib/arch:/home/cpansand/.cpan/build/2017021712/String-Perl-Warnings-1.16-5/blib/lib:/home/cpansand/.cpan/build/2017021712/Object-Accessor-0.48-3/blib/arch:/home/cpansand/.cpan/build/2017021712/Object-Accessor-0.48-3/blib/lib
    PERL5OPT = 
    PERL5_CPANPLUS_IS_RUNNING = 5096
    PERL5_CPAN_IS_RUNNING = 5096
    PERL5_CPAN_IS_RUNNING_IN_RECURSION = 4981,5096
    PERLDOC = -MPod::Perldoc::ToTextOverstrike
    PERL_BATCH = yes
    PERL_CANARY_STABILITY_NOPROMPT = 1
    PERL_CPAN_REPORTER_CONFIG = /var/tmp/cpansmoker-1023/2017021712/cpanreporter_000_config.ini
    PERL_EXTUTILS_AUTOINSTALL = --defaultdeps
    PERL_PARALLEL_SMOKER = yes
    PERL_USE_UNSAFE_INC = 1
    SHELL = /bin/zsh
    TERM = screen
    TMPDIR = /var/tmp/cpansmoker-1023/2017021712

Perl special variables (and OS-specific diagnostics, for MSWin32):

    $^X = /opt/perl-5.24.0/bin/perl5.24.0
    $UID/$EUID = 1023 / 1023
    $GID = 1023 1023
    $EGID = 1023 1023

Perl module toolchain versions installed:

    Module              Have    
    ------------------- --------
    CPAN                2.14    
    CPAN::Meta          2.150010
    Cwd                 3.63    
    ExtUtils::CBuilder  0.280225
    ExtUtils::Command   7.24    
    ExtUtils::Install   2.04    
    ExtUtils::MakeMaker 7.24    
    ExtUtils::Manifest  1.70    
    ExtUtils::ParseXS   3.31    
    File::Spec          3.63    
    JSON                2.90    
    JSON::PP            2.27300 
    Module::Build       0.4220  
    Module::Signature   0.80    
    Parse::CPAN::Meta   2.150010
    Test::Harness       3.36    
    Test::More          1.302052
    YAML                1.17    
    YAML::Syck          1.29    
    version             0.9916  


--

Summary of my perl5 (revision 5 version 24 subversion 0) configuration:
   
  Platform:
    osname=linux, osvers=3.2.0-4-amd64, archname=x86_64-linux
    uname='linux cvrsnica-wheezy 3.2.0-4-amd64 #1 smp debian 3.2.54-2 x86_64 gnulinux '
    config_args='-ds -e -Dprefix=/opt/perl-5.24.0 -Dcf_email=srezic@cpan.org'
    hint=recommended, useposix=true, d_sigaction=define
    useithreads=undef, usemultiplicity=undef
    use64bitint=define, use64bitall=define, uselongdouble=undef
    usemymalloc=n, bincompat5005=undef
  Compiler:
    cc='cc', ccflags ='-fwrapv -fno-strict-aliasing -pipe -fstack-protector -I/usr/local/include -D_LARGEFILE_SOURCE -D_FILE_OFFSET_BITS=64 -D_FORTIFY_SOURCE=2',
    optimize='-O2',
    cppflags='-fwrapv -fno-strict-aliasing -pipe -fstack-protector -I/usr/local/include'
    ccversion='', gccversion='4.7.2', gccosandvers=''
    intsize=4, longsize=8, ptrsize=8, doublesize=8, byteorder=12345678, doublekind=3
    d_longlong=define, longlongsize=8, d_longdbl=define, longdblsize=16, longdblkind=3
    ivtype='long', ivsize=8, nvtype='double', nvsize=8, Off_t='off_t', lseeksize=8
    alignbytes=8, prototype=define
  Linker and Libraries:
    ld='cc', ldflags =' -fstack-protector -L/usr/local/lib'
    libpth=/usr/local/lib /usr/lib/gcc/x86_64-linux-gnu/4.7/include-fixed /usr/include/x86_64-linux-gnu /usr/lib /lib/x86_64-linux-gnu /lib/../lib /usr/lib/x86_64-linux-gnu /usr/lib/../lib /lib
    libs=-lpthread -lnsl -ldb -ldl -lm -lcrypt -lutil -lc
    perllibs=-lpthread -lnsl -ldl -lm -lcrypt -lutil -lc
    libc=libc-2.13.so, so=so, useshrplib=false, libperl=libperl.a
    gnulibc_version='2.13'
  Dynamic Linking:
    dlsrc=dl_dlopen.xs, dlext=so, d_dlsymun=undef, ccdlflags='-Wl,-E'
    cccdlflags='-fPIC', lddlflags='-shared -O2 -L/usr/local/lib -fstack-protector'


Characteristics of this binary (from libperl): 
  Compile-time options: HAS_TIMES PERLIO_LAYERS PERL_COPY_ON_WRITE
                        PERL_DONT_CREATE_GVSV
                        PERL_HASH_FUNC_ONE_AT_A_TIME_HARD PERL_MALLOC_WRAP
                        PERL_PRESERVE_IVUV USE_64_BIT_ALL USE_64_BIT_INT
                        USE_LARGE_FILES USE_LOCALE USE_LOCALE_COLLATE
                        USE_LOCALE_CTYPE USE_LOCALE_NUMERIC USE_LOCALE_TIME
                        USE_PERLIO USE_PERL_ATOF
  Built under linux
  Compiled at May 30 2016 08:43:25
  %ENV:
    PERL5LIB="/home/cpansand/.cpan/build/2017021712/String-Perl-Warnings-1.16-5/blib/arch:/home/cpansand/.cpan/build/2017021712/String-Perl-Warnings-1.16-5/blib/lib:/home/cpansand/.cpan/build/2017021712/Object-Accessor-0.48-3/blib/arch:/home/cpansand/.cpan/build/2017021712/Object-Accessor-0.48-3/blib/lib"
    PERL5OPT=""
    PERL5_CPANPLUS_IS_RUNNING="5096"
    PERL5_CPAN_IS_RUNNING="5096"
    PERL5_CPAN_IS_RUNNING_IN_RECURSION="4981,5096"
    PERLDOC="-MPod::Perldoc::ToTextOverstrike"
    PERL_BATCH="yes"
    PERL_CANARY_STABILITY_NOPROMPT="1"
    PERL_CPAN_REPORTER_CONFIG="/var/tmp/cpansmoker-1023/2017021712/cpanreporter_000_config.ini"
    PERL_EXTUTILS_AUTOINSTALL="--defaultdeps"
    PERL_PARALLEL_SMOKER="yes"
    PERL_USE_UNSAFE_INC="1"
  @INC:
    /home/cpansand/.cpan/build/2017021712/String-Perl-Warnings-1.16-5/blib/arch
    /home/cpansand/.cpan/build/2017021712/String-Perl-Warnings-1.16-5/blib/lib
    /home/cpansand/.cpan/build/2017021712/Object-Accessor-0.48-3/blib/arch
    /home/cpansand/.cpan/build/2017021712/Object-Accessor-0.48-3/blib/lib
    /opt/perl-5.24.0/lib/site_perl/5.24.0/x86_64-linux
    /opt/perl-5.24.0/lib/site_perl/5.24.0
    /opt/perl-5.24.0/lib/5.24.0/x86_64-linux
    /opt/perl-5.24.0/lib/5.24.0
    .