Report for IO-Iron-0.11

Back
From: metabase:user:9820532a-708b-1014-9a05-b18a96298da1
Subject: PASS IO-Iron-0.11 v5.23.8 GNU/Linux
Date: 2016-03-05T12:36:31Z

This distribution has been tested as part of the CPAN Testers
project, supporting the Perl programming language.  See
http://wiki.cpantesters.org/ for more information or email
questions to cpan-testers-discuss@perl.org


--
Dear Mikko Koivunalho,

This is a computer-generated report for IO-Iron-0.11
on perl 5.23.8, created by CPAN-Reporter-1.2016.

Thank you for uploading your work to CPAN.  Congratulations!
All tests were successful.

Sections of this report:

    * Tester comments
    * Program output
    * Prerequisites
    * Environment and other context

------------------------------
TESTER COMMENTS
------------------------------

Additional comments from tester:

this report is from an automated smoke testing program
and was not reviewed by a human for accuracy

------------------------------
PROGRAM OUTPUT
------------------------------

Output from '/usr/bin/make test':

PERL_DL_NONLAZY=1 "/opt/perlbrew/perls/perl-5.23.8-thread-multi-ld/bin/perl5.23.8" "-MExtUtils::Command::MM" "-MTest::Harness" "-e" "undef *Test::Harness::Switches; test_harness(0, 'blib/lib', 'blib/arch')" t/Iron/*.t t/IronCache/*.t t/IronMQ/*.t t/IronWorker/*.t
# Testing IO::Iron::IronMQ 0.11, Perl 5.023008, /opt/perlbrew/perls/perl-5.23.8-thread-multi-ld/bin/perl5.23.8
# test ReadIronMQConfig
# Current dir config filename: ./iron.json
# Extra config filename: t/.IronMQTestConfig.json
t/Iron/client_readconfig.t ... ok
# Testing IO::Iron 0.11, Perl 5.023008, /opt/perlbrew/perls/perl-5.23.8-thread-multi-ld/bin/perl5.23.8
t/Iron/load.t ................ ok
# Testing IO::Iron::IronCache::Client with policies, Perl 5.023008, /opt/perlbrew/perls/perl-5.23.8-thread-multi-ld/bin/perl5.23.8
Redundant argument in sprintf at /opt/perlbrew/perls/perl-5.23.8-thread-multi-ld/lib/site_perl/5.23.8/Log/Any/Proxy.pm line 21.
t/IronCache/cache_policy.t ... ok
# Testing IO::Iron::IronCache::Client with policies, Perl 5.023008, /opt/perlbrew/perls/perl-5.23.8-thread-multi-ld/bin/perl5.23.8
Redundant argument in sprintf at /opt/perlbrew/perls/perl-5.23.8-thread-multi-ld/lib/site_perl/5.23.8/Log/Any/Proxy.pm line 21.
Redundant argument in sprintf at /opt/perlbrew/perls/perl-5.23.8-thread-multi-ld/lib/site_perl/5.23.8/Log/Any/Proxy.pm line 21.
Redundant argument in sprintf at /opt/perlbrew/perls/perl-5.23.8-thread-multi-ld/lib/site_perl/5.23.8/Log/Any/Proxy.pm line 21.
Redundant argument in sprintf at /opt/perlbrew/perls/perl-5.23.8-thread-multi-ld/lib/site_perl/5.23.8/Log/Any/Proxy.pm line 21.
Redundant argument in sprintf at /opt/perlbrew/perls/perl-5.23.8-thread-multi-ld/lib/site_perl/5.23.8/Log/Any/Proxy.pm line 21.
Redundant argument in sprintf at /opt/perlbrew/perls/perl-5.23.8-thread-multi-ld/lib/site_perl/5.23.8/Log/Any/Proxy.pm line 21.
Redundant argument in sprintf at /opt/perlbrew/perls/perl-5.23.8-thread-multi-ld/lib/site_perl/5.23.8/Log/Any/Proxy.pm line 21.
Redundant argument in sprintf at /opt/perlbrew/perls/perl-5.23.8-thread-multi-ld/lib/site_perl/5.23.8/Log/Any/Proxy.pm line 21.
Redundant argument in sprintf at /opt/perlbrew/perls/perl-5.23.8-thread-multi-ld/lib/site_perl/5.23.8/Log/Any/Proxy.pm line 21.
Redundant argument in sprintf at /opt/perlbrew/perls/perl-5.23.8-thread-multi-ld/lib/site_perl/5.23.8/Log/Any/Proxy.pm line 21.
Redundant argument in sprintf at /opt/perlbrew/perls/perl-5.23.8-thread-multi-ld/lib/site_perl/5.23.8/Log/Any/Proxy.pm line 21.
Redundant argument in sprintf at /opt/perlbrew/perls/perl-5.23.8-thread-multi-ld/lib/site_perl/5.23.8/Log/Any/Proxy.pm line 21.
Redundant argument in sprintf at /opt/perlbrew/perls/perl-5.23.8-thread-multi-ld/lib/site_perl/5.23.8/Log/Any/Proxy.pm line 21.
Redundant argument in sprintf at /opt/perlbrew/perls/perl-5.23.8-thread-multi-ld/lib/site_perl/5.23.8/Log/Any/Proxy.pm line 21.
Redundant argument in sprintf at /opt/perlbrew/perls/perl-5.23.8-thread-multi-ld/lib/site_perl/5.23.8/Log/Any/Proxy.pm line 21.
Redundant argument in sprintf at /opt/perlbrew/perls/perl-5.23.8-thread-multi-ld/lib/site_perl/5.23.8/Log/Any/Proxy.pm line 21.
Redundant argument in sprintf at /opt/perlbrew/perls/perl-5.23.8-thread-multi-ld/lib/site_perl/5.23.8/Log/Any/Proxy.pm line 21.
Redundant argument in sprintf at /opt/perlbrew/perls/perl-5.23.8-thread-multi-ld/lib/site_perl/5.23.8/Log/Any/Proxy.pm line 21.
Redundant argument in sprintf at /opt/perlbrew/perls/perl-5.23.8-thread-multi-ld/lib/site_perl/5.23.8/Log/Any/Proxy.pm line 21.
Redundant argument in sprintf at /opt/perlbrew/perls/perl-5.23.8-thread-multi-ld/lib/site_perl/5.23.8/Log/Any/Proxy.pm line 21.
Redundant argument in sprintf at /opt/perlbrew/perls/perl-5.23.8-thread-multi-ld/lib/site_perl/5.23.8/Log/Any/Proxy.pm line 21.
Redundant argument in sprintf at /opt/perlbrew/perls/perl-5.23.8-thread-multi-ld/lib/site_perl/5.23.8/Log/Any/Proxy.pm line 21.
Redundant argument in sprintf at /opt/perlbrew/perls/perl-5.23.8-thread-multi-ld/lib/site_perl/5.23.8/Log/Any/Proxy.pm line 21.
Redundant argument in sprintf at /opt/perlbrew/perls/perl-5.23.8-thread-multi-ld/lib/site_perl/5.23.8/Log/Any/Proxy.pm line 21.
Redundant argument in sprintf at /opt/perlbrew/perls/perl-5.23.8-thread-multi-ld/lib/site_perl/5.23.8/Log/Any/Proxy.pm line 21.
Redundant argument in sprintf at /opt/perlbrew/perls/perl-5.23.8-thread-multi-ld/lib/site_perl/5.23.8/Log/Any/Proxy.pm line 21.
Redundant argument in sprintf at /opt/perlbrew/perls/perl-5.23.8-thread-multi-ld/lib/site_perl/5.23.8/Log/Any/Proxy.pm line 21.
Redundant argument in sprintf at /opt/perlbrew/perls/perl-5.23.8-thread-multi-ld/lib/site_perl/5.23.8/Log/Any/Proxy.pm line 21.
Redundant argument in sprintf at /opt/perlbrew/perls/perl-5.23.8-thread-multi-ld/lib/site_perl/5.23.8/Log/Any/Proxy.pm line 21.
Redundant argument in sprintf at /opt/perlbrew/perls/perl-5.23.8-thread-multi-ld/lib/site_perl/5.23.8/Log/Any/Proxy.pm line 21.
Redundant argument in sprintf at /opt/perlbrew/perls/perl-5.23.8-thread-multi-ld/lib/site_perl/5.23.8/Log/Any/Proxy.pm line 21.
Redundant argument in sprintf at /opt/perlbrew/perls/perl-5.23.8-thread-multi-ld/lib/site_perl/5.23.8/Log/Any/Proxy.pm line 21.
Redundant argument in sprintf at /opt/perlbrew/perls/perl-5.23.8-thread-multi-ld/lib/site_perl/5.23.8/Log/Any/Proxy.pm line 21.
Redundant argument in sprintf at /opt/perlbrew/perls/perl-5.23.8-thread-multi-ld/lib/site_perl/5.23.8/Log/Any/Proxy.pm line 21.
Redundant argument in sprintf at /opt/perlbrew/perls/perl-5.23.8-thread-multi-ld/lib/site_perl/5.23.8/Log/Any/Proxy.pm line 21.
Redundant argument in sprintf at /opt/perlbrew/perls/perl-5.23.8-thread-multi-ld/lib/site_perl/5.23.8/Log/Any/Proxy.pm line 21.
Redundant argument in sprintf at /opt/perlbrew/perls/perl-5.23.8-thread-multi-ld/lib/site_perl/5.23.8/Log/Any/Proxy.pm line 21.
Redundant argument in sprintf at /opt/perlbrew/perls/perl-5.23.8-thread-multi-ld/lib/site_perl/5.23.8/Log/Any/Proxy.pm line 21.
Redundant argument in sprintf at /opt/perlbrew/perls/perl-5.23.8-thread-multi-ld/lib/site_perl/5.23.8/Log/Any/Proxy.pm line 21.
Redundant argument in sprintf at /opt/perlbrew/perls/perl-5.23.8-thread-multi-ld/lib/site_perl/5.23.8/Log/Any/Proxy.pm line 21.
Redundant argument in sprintf at /opt/perlbrew/perls/perl-5.23.8-thread-multi-ld/lib/site_perl/5.23.8/Log/Any/Proxy.pm line 21.
Redundant argument in sprintf at /opt/perlbrew/perls/perl-5.23.8-thread-multi-ld/lib/site_perl/5.23.8/Log/Any/Proxy.pm line 21.
Redundant argument in sprintf at /opt/perlbrew/perls/perl-5.23.8-thread-multi-ld/lib/site_perl/5.23.8/Log/Any/Proxy.pm line 21.
Redundant argument in sprintf at /opt/perlbrew/perls/perl-5.23.8-thread-multi-ld/lib/site_perl/5.23.8/Log/Any/Proxy.pm line 21.
Redundant argument in sprintf at /opt/perlbrew/perls/perl-5.23.8-thread-multi-ld/lib/site_perl/5.23.8/Log/Any/Proxy.pm line 21.
Redundant argument in sprintf at /opt/perlbrew/perls/perl-5.23.8-thread-multi-ld/lib/site_perl/5.23.8/Log/Any/Proxy.pm line 21.
Redundant argument in sprintf at /opt/perlbrew/perls/perl-5.23.8-thread-multi-ld/lib/site_perl/5.23.8/Log/Any/Proxy.pm line 21.
Redundant argument in sprintf at /opt/perlbrew/perls/perl-5.23.8-thread-multi-ld/lib/site_perl/5.23.8/Log/Any/Proxy.pm line 21.
Redundant argument in sprintf at /opt/perlbrew/perls/perl-5.23.8-thread-multi-ld/lib/site_perl/5.23.8/Log/Any/Proxy.pm line 21.
Redundant argument in sprintf at /opt/perlbrew/perls/perl-5.23.8-thread-multi-ld/lib/site_perl/5.23.8/Log/Any/Proxy.pm line 21.
Redundant argument in sprintf at /opt/perlbrew/perls/perl-5.23.8-thread-multi-ld/lib/site_perl/5.23.8/Log/Any/Proxy.pm line 21.
Redundant argument in sprintf at /opt/perlbrew/perls/perl-5.23.8-thread-multi-ld/lib/site_perl/5.23.8/Log/Any/Proxy.pm line 21.
Redundant argument in sprintf at /opt/perlbrew/perls/perl-5.23.8-thread-multi-ld/lib/site_perl/5.23.8/Log/Any/Proxy.pm line 21.
Redundant argument in sprintf at /opt/perlbrew/perls/perl-5.23.8-thread-multi-ld/lib/site_perl/5.23.8/Log/Any/Proxy.pm line 21.
Redundant argument in sprintf at /opt/perlbrew/perls/perl-5.23.8-thread-multi-ld/lib/site_perl/5.23.8/Log/Any/Proxy.pm line 21.
Redundant argument in sprintf at /opt/perlbrew/perls/perl-5.23.8-thread-multi-ld/lib/site_perl/5.23.8/Log/Any/Proxy.pm line 21.
Redundant argument in sprintf at /opt/perlbrew/perls/perl-5.23.8-thread-multi-ld/lib/site_perl/5.23.8/Log/Any/Proxy.pm line 21.
Redundant argument in sprintf at /opt/perlbrew/perls/perl-5.23.8-thread-multi-ld/lib/site_perl/5.23.8/Log/Any/Proxy.pm line 21.
Redundant argument in sprintf at /opt/perlbrew/perls/perl-5.23.8-thread-multi-ld/lib/site_perl/5.23.8/Log/Any/Proxy.pm line 21.
Redundant argument in sprintf at /opt/perlbrew/perls/perl-5.23.8-thread-multi-ld/lib/site_perl/5.23.8/Log/Any/Proxy.pm line 21.
Redundant argument in sprintf at /opt/perlbrew/perls/perl-5.23.8-thread-multi-ld/lib/site_perl/5.23.8/Log/Any/Proxy.pm line 21.
Redundant argument in sprintf at /opt/perlbrew/perls/perl-5.23.8-thread-multi-ld/lib/site_perl/5.23.8/Log/Any/Proxy.pm line 21.
Redundant argument in sprintf at /opt/perlbrew/perls/perl-5.23.8-thread-multi-ld/lib/site_perl/5.23.8/Log/Any/Proxy.pm line 21.
Redundant argument in sprintf at /opt/perlbrew/perls/perl-5.23.8-thread-multi-ld/lib/site_perl/5.23.8/Log/Any/Proxy.pm line 21.
Redundant argument in sprintf at /opt/perlbrew/perls/perl-5.23.8-thread-multi-ld/lib/site_perl/5.23.8/Log/Any/Proxy.pm line 21.
Redundant argument in sprintf at /opt/perlbrew/perls/perl-5.23.8-thread-multi-ld/lib/site_perl/5.23.8/Log/Any/Proxy.pm line 21.
Redundant argument in sprintf at /opt/perlbrew/perls/perl-5.23.8-thread-multi-ld/lib/site_perl/5.23.8/Log/Any/Proxy.pm line 21.
Redundant argument in sprintf at /opt/perlbrew/perls/perl-5.23.8-thread-multi-ld/lib/site_perl/5.23.8/Log/Any/Proxy.pm line 21.
Redundant argument in sprintf at /opt/perlbrew/perls/perl-5.23.8-thread-multi-ld/lib/site_perl/5.23.8/Log/Any/Proxy.pm line 21.
Redundant argument in sprintf at /opt/perlbrew/perls/perl-5.23.8-thread-multi-ld/lib/site_perl/5.23.8/Log/Any/Proxy.pm line 21.
Redundant argument in sprintf at /opt/perlbrew/perls/perl-5.23.8-thread-multi-ld/lib/site_perl/5.23.8/Log/Any/Proxy.pm line 21.
Redundant argument in sprintf at /opt/perlbrew/perls/perl-5.23.8-thread-multi-ld/lib/site_perl/5.23.8/Log/Any/Proxy.pm line 21.
Redundant argument in sprintf at /opt/perlbrew/perls/perl-5.23.8-thread-multi-ld/lib/site_perl/5.23.8/Log/Any/Proxy.pm line 21.
Redundant argument in sprintf at /opt/perlbrew/perls/perl-5.23.8-thread-multi-ld/lib/site_perl/5.23.8/Log/Any/Proxy.pm line 21.
Redundant argument in sprintf at /opt/perlbrew/perls/perl-5.23.8-thread-multi-ld/lib/site_perl/5.23.8/Log/Any/Proxy.pm line 21.
Redundant argument in sprintf at /opt/perlbrew/perls/perl-5.23.8-thread-multi-ld/lib/site_perl/5.23.8/Log/Any/Proxy.pm line 21.
Redundant argument in sprintf at /opt/perlbrew/perls/perl-5.23.8-thread-multi-ld/lib/site_perl/5.23.8/Log/Any/Proxy.pm line 21.
Redundant argument in sprintf at /opt/perlbrew/perls/perl-5.23.8-thread-multi-ld/lib/site_perl/5.23.8/Log/Any/Proxy.pm line 21.
Redundant argument in sprintf at /opt/perlbrew/perls/perl-5.23.8-thread-multi-ld/lib/site_perl/5.23.8/Log/Any/Proxy.pm line 21.
Redundant argument in sprintf at /opt/perlbrew/perls/perl-5.23.8-thread-multi-ld/lib/site_perl/5.23.8/Log/Any/Proxy.pm line 21.
Redundant argument in sprintf at /opt/perlbrew/perls/perl-5.23.8-thread-multi-ld/lib/site_perl/5.23.8/Log/Any/Proxy.pm line 21.
Redundant argument in sprintf at /opt/perlbrew/perls/perl-5.23.8-thread-multi-ld/lib/site_perl/5.23.8/Log/Any/Proxy.pm line 21.
Redundant argument in sprintf at /opt/perlbrew/perls/perl-5.23.8-thread-multi-ld/lib/site_perl/5.23.8/Log/Any/Proxy.pm line 21.
Redundant argument in sprintf at /opt/perlbrew/perls/perl-5.23.8-thread-multi-ld/lib/site_perl/5.23.8/Log/Any/Proxy.pm line 21.
Redundant argument in sprintf at /opt/perlbrew/perls/perl-5.23.8-thread-multi-ld/lib/site_perl/5.23.8/Log/Any/Proxy.pm line 21.
Redundant argument in sprintf at /opt/perlbrew/perls/perl-5.23.8-thread-multi-ld/lib/site_perl/5.23.8/Log/Any/Proxy.pm line 21.
Redundant argument in sprintf at /opt/perlbrew/perls/perl-5.23.8-thread-multi-ld/lib/site_perl/5.23.8/Log/Any/Proxy.pm line 21.
Redundant argument in sprintf at /opt/perlbrew/perls/perl-5.23.8-thread-multi-ld/lib/site_perl/5.23.8/Log/Any/Proxy.pm line 21.
Redundant argument in sprintf at /opt/perlbrew/perls/perl-5.23.8-thread-multi-ld/lib/site_perl/5.23.8/Log/Any/Proxy.pm line 21.
Redundant argument in sprintf at /opt/perlbrew/perls/perl-5.23.8-thread-multi-ld/lib/site_perl/5.23.8/Log/Any/Proxy.pm line 21.
Redundant argument in sprintf at /opt/perlbrew/perls/perl-5.23.8-thread-multi-ld/lib/site_perl/5.23.8/Log/Any/Proxy.pm line 21.
Redundant argument in sprintf at /opt/perlbrew/perls/perl-5.23.8-thread-multi-ld/lib/site_perl/5.23.8/Log/Any/Proxy.pm line 21.
Redundant argument in sprintf at /opt/perlbrew/perls/perl-5.23.8-thread-multi-ld/lib/site_perl/5.23.8/Log/Any/Proxy.pm line 21.
Redundant argument in sprintf at /opt/perlbrew/perls/perl-5.23.8-thread-multi-ld/lib/site_perl/5.23.8/Log/Any/Proxy.pm line 21.
Redundant argument in sprintf at /opt/perlbrew/perls/perl-5.23.8-thread-multi-ld/lib/site_perl/5.23.8/Log/Any/Proxy.pm line 21.
Redundant argument in sprintf at /opt/perlbrew/perls/perl-5.23.8-thread-multi-ld/lib/site_perl/5.23.8/Log/Any/Proxy.pm line 21.
Redundant argument in sprintf at /opt/perlbrew/perls/perl-5.23.8-thread-multi-ld/lib/site_perl/5.23.8/Log/Any/Proxy.pm line 21.
Redundant argument in sprintf at /opt/perlbrew/perls/perl-5.23.8-thread-multi-ld/lib/site_perl/5.23.8/Log/Any/Proxy.pm line 21.
Redundant argument in sprintf at /opt/perlbrew/perls/perl-5.23.8-thread-multi-ld/lib/site_perl/5.23.8/Log/Any/Proxy.pm line 21.
Redundant argument in sprintf at /opt/perlbrew/perls/perl-5.23.8-thread-multi-ld/lib/site_perl/5.23.8/Log/Any/Proxy.pm line 21.
Redundant argument in sprintf at /opt/perlbrew/perls/perl-5.23.8-thread-multi-ld/lib/site_perl/5.23.8/Log/Any/Proxy.pm line 21.
Redundant argument in sprintf at /opt/perlbrew/perls/perl-5.23.8-thread-multi-ld/lib/site_perl/5.23.8/Log/Any/Proxy.pm line 21.
Redundant argument in sprintf at /opt/perlbrew/perls/perl-5.23.8-thread-multi-ld/lib/site_perl/5.23.8/Log/Any/Proxy.pm line 21.
Redundant argument in sprintf at /opt/perlbrew/perls/perl-5.23.8-thread-multi-ld/lib/site_perl/5.23.8/Log/Any/Proxy.pm line 21.
Redundant argument in sprintf at /opt/perlbrew/perls/perl-5.23.8-thread-multi-ld/lib/site_perl/5.23.8/Log/Any/Proxy.pm line 21.
Redundant argument in sprintf at /opt/perlbrew/perls/perl-5.23.8-thread-multi-ld/lib/site_perl/5.23.8/Log/Any/Proxy.pm line 21.
Redundant argument in sprintf at /opt/perlbrew/perls/perl-5.23.8-thread-multi-ld/lib/site_perl/5.23.8/Log/Any/Proxy.pm line 21.
Redundant argument in sprintf at /opt/perlbrew/perls/perl-5.23.8-thread-multi-ld/lib/site_perl/5.23.8/Log/Any/Proxy.pm line 21.
Redundant argument in sprintf at /opt/perlbrew/perls/perl-5.23.8-thread-multi-ld/lib/site_perl/5.23.8/Log/Any/Proxy.pm line 21.
Redundant argument in sprintf at /opt/perlbrew/perls/perl-5.23.8-thread-multi-ld/lib/site_perl/5.23.8/Log/Any/Proxy.pm line 21.
Redundant argument in sprintf at /opt/perlbrew/perls/perl-5.23.8-thread-multi-ld/lib/site_perl/5.23.8/Log/Any/Proxy.pm line 21.
Redundant argument in sprintf at /opt/perlbrew/perls/perl-5.23.8-thread-multi-ld/lib/site_perl/5.23.8/Log/Any/Proxy.pm line 21.
Redundant argument in sprintf at /opt/perlbrew/perls/perl-5.23.8-thread-multi-ld/lib/site_perl/5.23.8/Log/Any/Proxy.pm line 21.
Redundant argument in sprintf at /opt/perlbrew/perls/perl-5.23.8-thread-multi-ld/lib/site_perl/5.23.8/Log/Any/Proxy.pm line 21.
Redundant argument in sprintf at /opt/perlbrew/perls/perl-5.23.8-thread-multi-ld/lib/site_perl/5.23.8/Log/Any/Proxy.pm line 21.
Redundant argument in sprintf at /opt/perlbrew/perls/perl-5.23.8-thread-multi-ld/lib/site_perl/5.23.8/Log/Any/Proxy.pm line 21.
Redundant argument in sprintf at /opt/perlbrew/perls/perl-5.23.8-thread-multi-ld/lib/site_perl/5.23.8/Log/Any/Proxy.pm line 21.
Redundant argument in sprintf at /opt/perlbrew/perls/perl-5.23.8-thread-multi-ld/lib/site_perl/5.23.8/Log/Any/Proxy.pm line 21.
Redundant argument in sprintf at /opt/perlbrew/perls/perl-5.23.8-thread-multi-ld/lib/site_perl/5.23.8/Log/Any/Proxy.pm line 21.
Redundant argument in sprintf at /opt/perlbrew/perls/perl-5.23.8-thread-multi-ld/lib/site_perl/5.23.8/Log/Any/Proxy.pm line 21.
Redundant argument in sprintf at /opt/perlbrew/perls/perl-5.23.8-thread-multi-ld/lib/site_perl/5.23.8/Log/Any/Proxy.pm line 21.
Redundant argument in sprintf at /opt/perlbrew/perls/perl-5.23.8-thread-multi-ld/lib/site_perl/5.23.8/Log/Any/Proxy.pm line 21.
Redundant argument in sprintf at /opt/perlbrew/perls/perl-5.23.8-thread-multi-ld/lib/site_perl/5.23.8/Log/Any/Proxy.pm line 21.
Redundant argument in sprintf at /opt/perlbrew/perls/perl-5.23.8-thread-multi-ld/lib/site_perl/5.23.8/Log/Any/Proxy.pm line 21.
Redundant argument in sprintf at /opt/perlbrew/perls/perl-5.23.8-thread-multi-ld/lib/site_perl/5.23.8/Log/Any/Proxy.pm line 21.
Redundant argument in sprintf at /opt/perlbrew/perls/perl-5.23.8-thread-multi-ld/lib/site_perl/5.23.8/Log/Any/Proxy.pm line 21.
Redundant argument in sprintf at /opt/perlbrew/perls/perl-5.23.8-thread-multi-ld/lib/site_perl/5.23.8/Log/Any/Proxy.pm line 21.
Redundant argument in sprintf at /opt/perlbrew/perls/perl-5.23.8-thread-multi-ld/lib/site_perl/5.23.8/Log/Any/Proxy.pm line 21.
Redundant argument in sprintf at /opt/perlbrew/perls/perl-5.23.8-thread-multi-ld/lib/site_perl/5.23.8/Log/Any/Proxy.pm line 21.
Redundant argument in sprintf at /opt/perlbrew/perls/perl-5.23.8-thread-multi-ld/lib/site_perl/5.23.8/Log/Any/Proxy.pm line 21.
Redundant argument in sprintf at /opt/perlbrew/perls/perl-5.23.8-thread-multi-ld/lib/site_perl/5.23.8/Log/Any/Proxy.pm line 21.
Redundant argument in sprintf at /opt/perlbrew/perls/perl-5.23.8-thread-multi-ld/lib/site_perl/5.23.8/Log/Any/Proxy.pm line 21.
Redundant argument in sprintf at /opt/perlbrew/perls/perl-5.23.8-thread-multi-ld/lib/site_perl/5.23.8/Log/Any/Proxy.pm line 21.
Redundant argument in sprintf at /opt/perlbrew/perls/perl-5.23.8-thread-multi-ld/lib/site_perl/5.23.8/Log/Any/Proxy.pm line 21.
Redundant argument in sprintf at /opt/perlbrew/perls/perl-5.23.8-thread-multi-ld/lib/site_perl/5.23.8/Log/Any/Proxy.pm line 21.
Redundant argument in sprintf at /opt/perlbrew/perls/perl-5.23.8-thread-multi-ld/lib/site_perl/5.23.8/Log/Any/Proxy.pm line 21.
Redundant argument in sprintf at /opt/perlbrew/perls/perl-5.23.8-thread-multi-ld/lib/site_perl/5.23.8/Log/Any/Proxy.pm line 21.
Redundant argument in sprintf at /opt/perlbrew/perls/perl-5.23.8-thread-multi-ld/lib/site_perl/5.23.8/Log/Any/Proxy.pm line 21.
Redundant argument in sprintf at /opt/perlbrew/perls/perl-5.23.8-thread-multi-ld/lib/site_perl/5.23.8/Log/Any/Proxy.pm line 21.
Redundant argument in sprintf at /opt/perlbrew/perls/perl-5.23.8-thread-multi-ld/lib/site_perl/5.23.8/Log/Any/Proxy.pm line 21.
Redundant argument in sprintf at /opt/perlbrew/perls/perl-5.23.8-thread-multi-ld/lib/site_perl/5.23.8/Log/Any/Proxy.pm line 21.
Redundant argument in sprintf at /opt/perlbrew/perls/perl-5.23.8-thread-multi-ld/lib/site_perl/5.23.8/Log/Any/Proxy.pm line 21.
Redundant argument in sprintf at /opt/perlbrew/perls/perl-5.23.8-thread-multi-ld/lib/site_perl/5.23.8/Log/Any/Proxy.pm line 21.
Redundant argument in sprintf at /opt/perlbrew/perls/perl-5.23.8-thread-multi-ld/lib/site_perl/5.23.8/Log/Any/Proxy.pm line 21.
Redundant argument in sprintf at /opt/perlbrew/perls/perl-5.23.8-thread-multi-ld/lib/site_perl/5.23.8/Log/Any/Proxy.pm line 21.
Redundant argument in sprintf at /opt/perlbrew/perls/perl-5.23.8-thread-multi-ld/lib/site_perl/5.23.8/Log/Any/Proxy.pm line 21.
Redundant argument in sprintf at /opt/perlbrew/perls/perl-5.23.8-thread-multi-ld/lib/site_perl/5.23.8/Log/Any/Proxy.pm line 21.
Redundant argument in sprintf at /opt/perlbrew/perls/perl-5.23.8-thread-multi-ld/lib/site_perl/5.23.8/Log/Any/Proxy.pm line 21.
Redundant argument in sprintf at /opt/perlbrew/perls/perl-5.23.8-thread-multi-ld/lib/site_perl/5.23.8/Log/Any/Proxy.pm line 21.
Redundant argument in sprintf at /opt/perlbrew/perls/perl-5.23.8-thread-multi-ld/lib/site_perl/5.23.8/Log/Any/Proxy.pm line 21.
Redundant argument in sprintf at /opt/perlbrew/perls/perl-5.23.8-thread-multi-ld/lib/site_perl/5.23.8/Log/Any/Proxy.pm line 21.
Redundant argument in sprintf at /opt/perlbrew/perls/perl-5.23.8-thread-multi-ld/lib/site_perl/5.23.8/Log/Any/Proxy.pm line 21.
Redundant argument in sprintf at /opt/perlbrew/perls/perl-5.23.8-thread-multi-ld/lib/site_perl/5.23.8/Log/Any/Proxy.pm line 21.
Redundant argument in sprintf at /opt/perlbrew/perls/perl-5.23.8-thread-multi-ld/lib/site_perl/5.23.8/Log/Any/Proxy.pm line 21.
Redundant argument in sprintf at /opt/perlbrew/perls/perl-5.23.8-thread-multi-ld/lib/site_perl/5.23.8/Log/Any/Proxy.pm line 21.
Redundant argument in sprintf at /opt/perlbrew/perls/perl-5.23.8-thread-multi-ld/lib/site_perl/5.23.8/Log/Any/Proxy.pm line 21.
Redundant argument in sprintf at /opt/perlbrew/perls/perl-5.23.8-thread-multi-ld/lib/site_perl/5.23.8/Log/Any/Proxy.pm line 21.
Redundant argument in sprintf at /opt/perlbrew/perls/perl-5.23.8-thread-multi-ld/lib/site_perl/5.23.8/Log/Any/Proxy.pm line 21.
Redundant argument in sprintf at /opt/perlbrew/perls/perl-5.23.8-thread-multi-ld/lib/site_perl/5.23.8/Log/Any/Proxy.pm line 21.
Redundant argument in sprintf at /opt/perlbrew/perls/perl-5.23.8-thread-multi-ld/lib/site_perl/5.23.8/Log/Any/Proxy.pm line 21.
Redundant argument in sprintf at /opt/perlbrew/perls/perl-5.23.8-thread-multi-ld/lib/site_perl/5.23.8/Log/Any/Proxy.pm line 21.
Redundant argument in sprintf at /opt/perlbrew/perls/perl-5.23.8-thread-multi-ld/lib/site_perl/5.23.8/Log/Any/Proxy.pm line 21.
Redundant argument in sprintf at /opt/perlbrew/perls/perl-5.23.8-thread-multi-ld/lib/site_perl/5.23.8/Log/Any/Proxy.pm line 21.
Redundant argument in sprintf at /opt/perlbrew/perls/perl-5.23.8-thread-multi-ld/lib/site_perl/5.23.8/Log/Any/Proxy.pm line 21.
Redundant argument in sprintf at /opt/perlbrew/perls/perl-5.23.8-thread-multi-ld/lib/site_perl/5.23.8/Log/Any/Proxy.pm line 21.
Redundant argument in sprintf at /opt/perlbrew/perls/perl-5.23.8-thread-multi-ld/lib/site_perl/5.23.8/Log/Any/Proxy.pm line 21.
Redundant argument in sprintf at /opt/perlbrew/perls/perl-5.23.8-thread-multi-ld/lib/site_perl/5.23.8/Log/Any/Proxy.pm line 21.
Redundant argument in sprintf at /opt/perlbrew/perls/perl-5.23.8-thread-multi-ld/lib/site_perl/5.23.8/Log/Any/Proxy.pm line 21.
Redundant argument in sprintf at /opt/perlbrew/perls/perl-5.23.8-thread-multi-ld/lib/site_perl/5.23.8/Log/Any/Proxy.pm line 21.
Redundant argument in sprintf at /opt/perlbrew/perls/perl-5.23.8-thread-multi-ld/lib/site_perl/5.23.8/Log/Any/Proxy.pm line 21.
Redundant argument in sprintf at /opt/perlbrew/perls/perl-5.23.8-thread-multi-ld/lib/site_perl/5.23.8/Log/Any/Proxy.pm line 21.
Redundant argument in sprintf at /opt/perlbrew/perls/perl-5.23.8-thread-multi-ld/lib/site_perl/5.23.8/Log/Any/Proxy.pm line 21.
Redundant argument in sprintf at /opt/perlbrew/perls/perl-5.23.8-thread-multi-ld/lib/site_perl/5.23.8/Log/Any/Proxy.pm line 21.
Redundant argument in sprintf at /opt/perlbrew/perls/perl-5.23.8-thread-multi-ld/lib/site_perl/5.23.8/Log/Any/Proxy.pm line 21.
Redundant argument in sprintf at /opt/perlbrew/perls/perl-5.23.8-thread-multi-ld/lib/site_perl/5.23.8/Log/Any/Proxy.pm line 21.
Redundant argument in sprintf at /opt/perlbrew/perls/perl-5.23.8-thread-multi-ld/lib/site_perl/5.23.8/Log/Any/Proxy.pm line 21.
Redundant argument in sprintf at /opt/perlbrew/perls/perl-5.23.8-thread-multi-ld/lib/site_perl/5.23.8/Log/Any/Proxy.pm line 21.
Redundant argument in sprintf at /opt/perlbrew/perls/perl-5.23.8-thread-multi-ld/lib/site_perl/5.23.8/Log/Any/Proxy.pm line 21.
Redundant argument in sprintf at /opt/perlbrew/perls/perl-5.23.8-thread-multi-ld/lib/site_perl/5.23.8/Log/Any/Proxy.pm line 21.
Redundant argument in sprintf at /opt/perlbrew/perls/perl-5.23.8-thread-multi-ld/lib/site_perl/5.23.8/Log/Any/Proxy.pm line 21.
Redundant argument in sprintf at /opt/perlbrew/perls/perl-5.23.8-thread-multi-ld/lib/site_perl/5.23.8/Log/Any/Proxy.pm line 21.
Redundant argument in sprintf at /opt/perlbrew/perls/perl-5.23.8-thread-multi-ld/lib/site_perl/5.23.8/Log/Any/Proxy.pm line 21.
Redundant argument in sprintf at /opt/perlbrew/perls/perl-5.23.8-thread-multi-ld/lib/site_perl/5.23.8/Log/Any/Proxy.pm line 21.
Redundant argument in sprintf at /opt/perlbrew/perls/perl-5.23.8-thread-multi-ld/lib/site_perl/5.23.8/Log/Any/Proxy.pm line 21.
Redundant argument in sprintf at /opt/perlbrew/perls/perl-5.23.8-thread-multi-ld/lib/site_perl/5.23.8/Log/Any/Proxy.pm line 21.
Redundant argument in sprintf at /opt/perlbrew/perls/perl-5.23.8-thread-multi-ld/lib/site_perl/5.23.8/Log/Any/Proxy.pm line 21.
Redundant argument in sprintf at /opt/perlbrew/perls/perl-5.23.8-thread-multi-ld/lib/site_perl/5.23.8/Log/Any/Proxy.pm line 21.
Redundant argument in sprintf at /opt/perlbrew/perls/perl-5.23.8-thread-multi-ld/lib/site_perl/5.23.8/Log/Any/Proxy.pm line 21.
Redundant argument in sprintf at /opt/perlbrew/perls/perl-5.23.8-thread-multi-ld/lib/site_perl/5.23.8/Log/Any/Proxy.pm line 21.
Redundant argument in sprintf at /opt/perlbrew/perls/perl-5.23.8-thread-multi-ld/lib/site_perl/5.23.8/Log/Any/Proxy.pm line 21.
Redundant argument in sprintf at /opt/perlbrew/perls/perl-5.23.8-thread-multi-ld/lib/site_perl/5.23.8/Log/Any/Proxy.pm line 21.
Redundant argument in sprintf at /opt/perlbrew/perls/perl-5.23.8-thread-multi-ld/lib/site_perl/5.23.8/Log/Any/Proxy.pm line 21.
Redundant argument in sprintf at /opt/perlbrew/perls/perl-5.23.8-thread-multi-ld/lib/site_perl/5.23.8/Log/Any/Proxy.pm line 21.
Redundant argument in sprintf at /opt/perlbrew/perls/perl-5.23.8-thread-multi-ld/lib/site_perl/5.23.8/Log/Any/Proxy.pm line 21.
Redundant argument in sprintf at /opt/perlbrew/perls/perl-5.23.8-thread-multi-ld/lib/site_perl/5.23.8/Log/Any/Proxy.pm line 21.
Redundant argument in sprintf at /opt/perlbrew/perls/perl-5.23.8-thread-multi-ld/lib/site_perl/5.23.8/Log/Any/Proxy.pm line 21.
Redundant argument in sprintf at /opt/perlbrew/perls/perl-5.23.8-thread-multi-ld/lib/site_perl/5.23.8/Log/Any/Proxy.pm line 21.
Redundant argument in sprintf at /opt/perlbrew/perls/perl-5.23.8-thread-multi-ld/lib/site_perl/5.23.8/Log/Any/Proxy.pm line 21.
Redundant argument in sprintf at /opt/perlbrew/perls/perl-5.23.8-thread-multi-ld/lib/site_perl/5.23.8/Log/Any/Proxy.pm line 21.
Redundant argument in sprintf at /opt/perlbrew/perls/perl-5.23.8-thread-multi-ld/lib/site_perl/5.23.8/Log/Any/Proxy.pm line 21.
Redundant argument in sprintf at /opt/perlbrew/perls/perl-5.23.8-thread-multi-ld/lib/site_perl/5.23.8/Log/Any/Proxy.pm line 21.
Redundant argument in sprintf at /opt/perlbrew/perls/perl-5.23.8-thread-multi-ld/lib/site_perl/5.23.8/Log/Any/Proxy.pm line 21.
Redundant argument in sprintf at /opt/perlbrew/perls/perl-5.23.8-thread-multi-ld/lib/site_perl/5.23.8/Log/Any/Proxy.pm line 21.
Redundant argument in sprintf at /opt/perlbrew/perls/perl-5.23.8-thread-multi-ld/lib/site_perl/5.23.8/Log/Any/Proxy.pm line 21.
Redundant argument in sprintf at /opt/perlbrew/perls/perl-5.23.8-thread-multi-ld/lib/site_perl/5.23.8/Log/Any/Proxy.pm line 21.
Redundant argument in sprintf at /opt/perlbrew/perls/perl-5.23.8-thread-multi-ld/lib/site_perl/5.23.8/Log/Any/Proxy.pm line 21.
Redundant argument in sprintf at /opt/perlbrew/perls/perl-5.23.8-thread-multi-ld/lib/site_perl/5.23.8/Log/Any/Proxy.pm line 21.
Redundant argument in sprintf at /opt/perlbrew/perls/perl-5.23.8-thread-multi-ld/lib/site_perl/5.23.8/Log/Any/Proxy.pm line 21.
Redundant argument in sprintf at /opt/perlbrew/perls/perl-5.23.8-thread-multi-ld/lib/site_perl/5.23.8/Log/Any/Proxy.pm line 21.
Redundant argument in sprintf at /opt/perlbrew/perls/perl-5.23.8-thread-multi-ld/lib/site_perl/5.23.8/Log/Any/Proxy.pm line 21.
Redundant argument in sprintf at /opt/perlbrew/perls/perl-5.23.8-thread-multi-ld/lib/site_perl/5.23.8/Log/Any/Proxy.pm line 21.
Redundant argument in sprintf at /opt/perlbrew/perls/perl-5.23.8-thread-multi-ld/lib/site_perl/5.23.8/Log/Any/Proxy.pm line 21.
Redundant argument in sprintf at /opt/perlbrew/perls/perl-5.23.8-thread-multi-ld/lib/site_perl/5.23.8/Log/Any/Proxy.pm line 21.
Redundant argument in sprintf at /opt/perlbrew/perls/perl-5.23.8-thread-multi-ld/lib/site_perl/5.23.8/Log/Any/Proxy.pm line 21.
Redundant argument in sprintf at /opt/perlbrew/perls/perl-5.23.8-thread-multi-ld/lib/site_perl/5.23.8/Log/Any/Proxy.pm line 21.
Redundant argument in sprintf at /opt/perlbrew/perls/perl-5.23.8-thread-multi-ld/lib/site_perl/5.23.8/Log/Any/Proxy.pm line 21.
Redundant argument in sprintf at /opt/perlbrew/perls/perl-5.23.8-thread-multi-ld/lib/site_perl/5.23.8/Log/Any/Proxy.pm line 21.
Redundant argument in sprintf at /opt/perlbrew/perls/perl-5.23.8-thread-multi-ld/lib/site_perl/5.23.8/Log/Any/Proxy.pm line 21.
Redundant argument in sprintf at /opt/perlbrew/perls/perl-5.23.8-thread-multi-ld/lib/site_perl/5.23.8/Log/Any/Proxy.pm line 21.
Redundant argument in sprintf at /opt/perlbrew/perls/perl-5.23.8-thread-multi-ld/lib/site_perl/5.23.8/Log/Any/Proxy.pm line 21.
Redundant argument in sprintf at /opt/perlbrew/perls/perl-5.23.8-thread-multi-ld/lib/site_perl/5.23.8/Log/Any/Proxy.pm line 21.
Redundant argument in sprintf at /opt/perlbrew/perls/perl-5.23.8-thread-multi-ld/lib/site_perl/5.23.8/Log/Any/Proxy.pm line 21.
Redundant argument in sprintf at /opt/perlbrew/perls/perl-5.23.8-thread-multi-ld/lib/site_perl/5.23.8/Log/Any/Proxy.pm line 21.
Redundant argument in sprintf at /opt/perlbrew/perls/perl-5.23.8-thread-multi-ld/lib/site_perl/5.23.8/Log/Any/Proxy.pm line 21.
Redundant argument in sprintf at /opt/perlbrew/perls/perl-5.23.8-thread-multi-ld/lib/site_perl/5.23.8/Log/Any/Proxy.pm line 21.
Redundant argument in sprintf at /opt/perlbrew/perls/perl-5.23.8-thread-multi-ld/lib/site_perl/5.23.8/Log/Any/Proxy.pm line 21.
Redundant argument in sprintf at /opt/perlbrew/perls/perl-5.23.8-thread-multi-ld/lib/site_perl/5.23.8/Log/Any/Proxy.pm line 21.
Redundant argument in sprintf at /opt/perlbrew/perls/perl-5.23.8-thread-multi-ld/lib/site_perl/5.23.8/Log/Any/Proxy.pm line 21.
Redundant argument in sprintf at /opt/perlbrew/perls/perl-5.23.8-thread-multi-ld/lib/site_perl/5.23.8/Log/Any/Proxy.pm line 21.
Redundant argument in sprintf at /opt/perlbrew/perls/perl-5.23.8-thread-multi-ld/lib/site_perl/5.23.8/Log/Any/Proxy.pm line 21.
Redundant argument in sprintf at /opt/perlbrew/perls/perl-5.23.8-thread-multi-ld/lib/site_perl/5.23.8/Log/Any/Proxy.pm line 21.
Redundant argument in sprintf at /opt/perlbrew/perls/perl-5.23.8-thread-multi-ld/lib/site_perl/5.23.8/Log/Any/Proxy.pm line 21.
Redundant argument in sprintf at /opt/perlbrew/perls/perl-5.23.8-thread-multi-ld/lib/site_perl/5.23.8/Log/Any/Proxy.pm line 21.
Redundant argument in sprintf at /opt/perlbrew/perls/perl-5.23.8-thread-multi-ld/lib/site_perl/5.23.8/Log/Any/Proxy.pm line 21.
Redundant argument in sprintf at /opt/perlbrew/perls/perl-5.23.8-thread-multi-ld/lib/site_perl/5.23.8/Log/Any/Proxy.pm line 21.
Redundant argument in sprintf at /opt/perlbrew/perls/perl-5.23.8-thread-multi-ld/lib/site_perl/5.23.8/Log/Any/Proxy.pm line 21.
Redundant argument in sprintf at /opt/perlbrew/perls/perl-5.23.8-thread-multi-ld/lib/site_perl/5.23.8/Log/Any/Proxy.pm line 21.
Redundant argument in sprintf at /opt/perlbrew/perls/perl-5.23.8-thread-multi-ld/lib/site_perl/5.23.8/Log/Any/Proxy.pm line 21.
Redundant argument in sprintf at /opt/perlbrew/perls/perl-5.23.8-thread-multi-ld/lib/site_perl/5.23.8/Log/Any/Proxy.pm line 21.
Redundant argument in sprintf at /opt/perlbrew/perls/perl-5.23.8-thread-multi-ld/lib/site_perl/5.23.8/Log/Any/Proxy.pm line 21.
Redundant argument in sprintf at /opt/perlbrew/perls/perl-5.23.8-thread-multi-ld/lib/site_perl/5.23.8/Log/Any/Proxy.pm line 21.
Redundant argument in sprintf at /opt/perlbrew/perls/perl-5.23.8-thread-multi-ld/lib/site_perl/5.23.8/Log/Any/Proxy.pm line 21.
Redundant argument in sprintf at /opt/perlbrew/perls/perl-5.23.8-thread-multi-ld/lib/site_perl/5.23.8/Log/Any/Proxy.pm line 21.
Redundant argument in sprintf at /opt/perlbrew/perls/perl-5.23.8-thread-multi-ld/lib/site_perl/5.23.8/Log/Any/Proxy.pm line 21.
Redundant argument in sprintf at /opt/perlbrew/perls/perl-5.23.8-thread-multi-ld/lib/site_perl/5.23.8/Log/Any/Proxy.pm line 21.
Redundant argument in sprintf at /opt/perlbrew/perls/perl-5.23.8-thread-multi-ld/lib/site_perl/5.23.8/Log/Any/Proxy.pm line 21.
Redundant argument in sprintf at /opt/perlbrew/perls/perl-5.23.8-thread-multi-ld/lib/site_perl/5.23.8/Log/Any/Proxy.pm line 21.
Redundant argument in sprintf at /opt/perlbrew/perls/perl-5.23.8-thread-multi-ld/lib/site_perl/5.23.8/Log/Any/Proxy.pm line 21.
Redundant argument in sprintf at /opt/perlbrew/perls/perl-5.23.8-thread-multi-ld/lib/site_perl/5.23.8/Log/Any/Proxy.pm line 21.
Redundant argument in sprintf at /opt/perlbrew/perls/perl-5.23.8-thread-multi-ld/lib/site_perl/5.23.8/Log/Any/Proxy.pm line 21.
Redundant argument in sprintf at /opt/perlbrew/perls/perl-5.23.8-thread-multi-ld/lib/site_perl/5.23.8/Log/Any/Proxy.pm line 21.
Redundant argument in sprintf at /opt/perlbrew/perls/perl-5.23.8-thread-multi-ld/lib/site_perl/5.23.8/Log/Any/Proxy.pm line 21.
Redundant argument in sprintf at /opt/perlbrew/perls/perl-5.23.8-thread-multi-ld/lib/site_perl/5.23.8/Log/Any/Proxy.pm line 21.
Redundant argument in sprintf at /opt/perlbrew/perls/perl-5.23.8-thread-multi-ld/lib/site_perl/5.23.8/Log/Any/Proxy.pm line 21.
Redundant argument in sprintf at /opt/perlbrew/perls/perl-5.23.8-thread-multi-ld/lib/site_perl/5.23.8/Log/Any/Proxy.pm line 21.
Redundant argument in sprintf at /opt/perlbrew/perls/perl-5.23.8-thread-multi-ld/lib/site_perl/5.23.8/Log/Any/Proxy.pm line 21.
Redundant argument in sprintf at /opt/perlbrew/perls/perl-5.23.8-thread-multi-ld/lib/site_perl/5.23.8/Log/Any/Proxy.pm line 21.
Redundant argument in sprintf at /opt/perlbrew/perls/perl-5.23.8-thread-multi-ld/lib/site_perl/5.23.8/Log/Any/Proxy.pm line 21.
Redundant argument in sprintf at /opt/perlbrew/perls/perl-5.23.8-thread-multi-ld/lib/site_perl/5.23.8/Log/Any/Proxy.pm line 21.
Redundant argument in sprintf at /opt/perlbrew/perls/perl-5.23.8-thread-multi-ld/lib/site_perl/5.23.8/Log/Any/Proxy.pm line 21.
Redundant argument in sprintf at /opt/perlbrew/perls/perl-5.23.8-thread-multi-ld/lib/site_perl/5.23.8/Log/Any/Proxy.pm line 21.
Redundant argument in sprintf at /opt/perlbrew/perls/perl-5.23.8-thread-multi-ld/lib/site_perl/5.23.8/Log/Any/Proxy.pm line 21.
Redundant argument in sprintf at /opt/perlbrew/perls/perl-5.23.8-thread-multi-ld/lib/site_perl/5.23.8/Log/Any/Proxy.pm line 21.
Redundant argument in sprintf at /opt/perlbrew/perls/perl-5.23.8-thread-multi-ld/lib/site_perl/5.23.8/Log/Any/Proxy.pm line 21.
Redundant argument in sprintf at /opt/perlbrew/perls/perl-5.23.8-thread-multi-ld/lib/site_perl/5.23.8/Log/Any/Proxy.pm line 21.
Redundant argument in sprintf at /opt/perlbrew/perls/perl-5.23.8-thread-multi-ld/lib/site_perl/5.23.8/Log/Any/Proxy.pm line 21.
Redundant argument in sprintf at /opt/perlbrew/perls/perl-5.23.8-thread-multi-ld/lib/site_perl/5.23.8/Log/Any/Proxy.pm line 21.
Redundant argument in sprintf at /opt/perlbrew/perls/perl-5.23.8-thread-multi-ld/lib/site_perl/5.23.8/Log/Any/Proxy.pm line 21.
Redundant argument in sprintf at /opt/perlbrew/perls/perl-5.23.8-thread-multi-ld/lib/site_perl/5.23.8/Log/Any/Proxy.pm line 21.
Redundant argument in sprintf at /opt/perlbrew/perls/perl-5.23.8-thread-multi-ld/lib/site_perl/5.23.8/Log/Any/Proxy.pm line 21.
Redundant argument in sprintf at /opt/perlbrew/perls/perl-5.23.8-thread-multi-ld/lib/site_perl/5.23.8/Log/Any/Proxy.pm line 21.
Redundant argument in sprintf at /opt/perlbrew/perls/perl-5.23.8-thread-multi-ld/lib/site_perl/5.23.8/Log/Any/Proxy.pm line 21.
Redundant argument in sprintf at /opt/perlbrew/perls/perl-5.23.8-thread-multi-ld/lib/site_perl/5.23.8/Log/Any/Proxy.pm line 21.
Redundant argument in sprintf at /opt/perlbrew/perls/perl-5.23.8-thread-multi-ld/lib/site_perl/5.23.8/Log/Any/Proxy.pm line 21.
Redundant argument in sprintf at /opt/perlbrew/perls/perl-5.23.8-thread-multi-ld/lib/site_perl/5.23.8/Log/Any/Proxy.pm line 21.
Redundant argument in sprintf at /opt/perlbrew/perls/perl-5.23.8-thread-multi-ld/lib/site_perl/5.23.8/Log/Any/Proxy.pm line 21.
Redundant argument in sprintf at /opt/perlbrew/perls/perl-5.23.8-thread-multi-ld/lib/site_perl/5.23.8/Log/Any/Proxy.pm line 21.
Redundant argument in sprintf at /opt/perlbrew/perls/perl-5.23.8-thread-multi-ld/lib/site_perl/5.23.8/Log/Any/Proxy.pm line 21.
Redundant argument in sprintf at /opt/perlbrew/perls/perl-5.23.8-thread-multi-ld/lib/site_perl/5.23.8/Log/Any/Proxy.pm line 21.
Redundant argument in sprintf at /opt/perlbrew/perls/perl-5.23.8-thread-multi-ld/lib/site_perl/5.23.8/Log/Any/Proxy.pm line 21.
Redundant argument in sprintf at /opt/perlbrew/perls/perl-5.23.8-thread-multi-ld/lib/site_perl/5.23.8/Log/Any/Proxy.pm line 21.
Redundant argument in sprintf at /opt/perlbrew/perls/perl-5.23.8-thread-multi-ld/lib/site_perl/5.23.8/Log/Any/Proxy.pm line 21.
Redundant argument in sprintf at /opt/perlbrew/perls/perl-5.23.8-thread-multi-ld/lib/site_perl/5.23.8/Log/Any/Proxy.pm line 21.
Redundant argument in sprintf at /opt/perlbrew/perls/perl-5.23.8-thread-multi-ld/lib/site_perl/5.23.8/Log/Any/Proxy.pm line 21.
Redundant argument in sprintf at /opt/perlbrew/perls/perl-5.23.8-thread-multi-ld/lib/site_perl/5.23.8/Log/Any/Proxy.pm line 21.
Redundant argument in sprintf at /opt/perlbrew/perls/perl-5.23.8-thread-multi-ld/lib/site_perl/5.23.8/Log/Any/Proxy.pm line 21.
Redundant argument in sprintf at /opt/perlbrew/perls/perl-5.23.8-thread-multi-ld/lib/site_perl/5.23.8/Log/Any/Proxy.pm line 21.
Redundant argument in sprintf at /opt/perlbrew/perls/perl-5.23.8-thread-multi-ld/lib/site_perl/5.23.8/Log/Any/Proxy.pm line 21.
Redundant argument in sprintf at /opt/perlbrew/perls/perl-5.23.8-thread-multi-ld/lib/site_perl/5.23.8/Log/Any/Proxy.pm line 21.
Redundant argument in sprintf at /opt/perlbrew/perls/perl-5.23.8-thread-multi-ld/lib/site_perl/5.23.8/Log/Any/Proxy.pm line 21.
Redundant argument in sprintf at /opt/perlbrew/perls/perl-5.23.8-thread-multi-ld/lib/site_perl/5.23.8/Log/Any/Proxy.pm line 21.
Redundant argument in sprintf at /opt/perlbrew/perls/perl-5.23.8-thread-multi-ld/lib/site_perl/5.23.8/Log/Any/Proxy.pm line 21.
Redundant argument in sprintf at /opt/perlbrew/perls/perl-5.23.8-thread-multi-ld/lib/site_perl/5.23.8/Log/Any/Proxy.pm line 21.
Redundant argument in sprintf at /opt/perlbrew/perls/perl-5.23.8-thread-multi-ld/lib/site_perl/5.23.8/Log/Any/Proxy.pm line 21.
Redundant argument in sprintf at /opt/perlbrew/perls/perl-5.23.8-thread-multi-ld/lib/site_perl/5.23.8/Log/Any/Proxy.pm line 21.
Redundant argument in sprintf at /opt/perlbrew/perls/perl-5.23.8-thread-multi-ld/lib/site_perl/5.23.8/Log/Any/Proxy.pm line 21.
Redundant argument in sprintf at /opt/perlbrew/perls/perl-5.23.8-thread-multi-ld/lib/site_perl/5.23.8/Log/Any/Proxy.pm line 21.
Redundant argument in sprintf at /opt/perlbrew/perls/perl-5.23.8-thread-multi-ld/lib/site_perl/5.23.8/Log/Any/Proxy.pm line 21.
Redundant argument in sprintf at /opt/perlbrew/perls/perl-5.23.8-thread-multi-ld/lib/site_perl/5.23.8/Log/Any/Proxy.pm line 21.
Redundant argument in sprintf at /opt/perlbrew/perls/perl-5.23.8-thread-multi-ld/lib/site_perl/5.23.8/Log/Any/Proxy.pm line 21.
Redundant argument in sprintf at /opt/perlbrew/perls/perl-5.23.8-thread-multi-ld/lib/site_perl/5.23.8/Log/Any/Proxy.pm line 21.
Redundant argument in sprintf at /opt/perlbrew/perls/perl-5.23.8-thread-multi-ld/lib/site_perl/5.23.8/Log/Any/Proxy.pm line 21.
Redundant argument in sprintf at /opt/perlbrew/perls/perl-5.23.8-thread-multi-ld/lib/site_perl/5.23.8/Log/Any/Proxy.pm line 21.
Redundant argument in sprintf at /opt/perlbrew/perls/perl-5.23.8-thread-multi-ld/lib/site_perl/5.23.8/Log/Any/Proxy.pm line 21.
Redundant argument in sprintf at /opt/perlbrew/perls/perl-5.23.8-thread-multi-ld/lib/site_perl/5.23.8/Log/Any/Proxy.pm line 21.
Redundant argument in sprintf at /opt/perlbrew/perls/perl-5.23.8-thread-multi-ld/lib/site_perl/5.23.8/Log/Any/Proxy.pm line 21.
Redundant argument in sprintf at /opt/perlbrew/perls/perl-5.23.8-thread-multi-ld/lib/site_perl/5.23.8/Log/Any/Proxy.pm line 21.
Redundant argument in sprintf at /opt/perlbrew/perls/perl-5.23.8-thread-multi-ld/lib/site_perl/5.23.8/Log/Any/Proxy.pm line 21.
Redundant argument in sprintf at /opt/perlbrew/perls/perl-5.23.8-thread-multi-ld/lib/site_perl/5.23.8/Log/Any/Proxy.pm line 21.
Redundant argument in sprintf at /opt/perlbrew/perls/perl-5.23.8-thread-multi-ld/lib/site_perl/5.23.8/Log/Any/Proxy.pm line 21.
Redundant argument in sprintf at /opt/perlbrew/perls/perl-5.23.8-thread-multi-ld/lib/site_perl/5.23.8/Log/Any/Proxy.pm line 21.
Redundant argument in sprintf at /opt/perlbrew/perls/perl-5.23.8-thread-multi-ld/lib/site_perl/5.23.8/Log/Any/Proxy.pm line 21.
Redundant argument in sprintf at /opt/perlbrew/perls/perl-5.23.8-thread-multi-ld/lib/site_perl/5.23.8/Log/Any/Proxy.pm line 21.
Redundant argument in sprintf at /opt/perlbrew/perls/perl-5.23.8-thread-multi-ld/lib/site_perl/5.23.8/Log/Any/Proxy.pm line 21.
Redundant argument in sprintf at /opt/perlbrew/perls/perl-5.23.8-thread-multi-ld/lib/site_perl/5.23.8/Log/Any/Proxy.pm line 21.
Redundant argument in sprintf at /opt/perlbrew/perls/perl-5.23.8-thread-multi-ld/lib/site_perl/5.23.8/Log/Any/Proxy.pm line 21.
Redundant argument in sprintf at /opt/perlbrew/perls/perl-5.23.8-thread-multi-ld/lib/site_perl/5.23.8/Log/Any/Proxy.pm line 21.
Redundant argument in sprintf at /opt/perlbrew/perls/perl-5.23.8-thread-multi-ld/lib/site_perl/5.23.8/Log/Any/Proxy.pm line 21.
Redundant argument in sprintf at /opt/perlbrew/perls/perl-5.23.8-thread-multi-ld/lib/site_perl/5.23.8/Log/Any/Proxy.pm line 21.
Redundant argument in sprintf at /opt/perlbrew/perls/perl-5.23.8-thread-multi-ld/lib/site_perl/5.23.8/Log/Any/Proxy.pm line 21.
Redundant argument in sprintf at /opt/perlbrew/perls/perl-5.23.8-thread-multi-ld/lib/site_perl/5.23.8/Log/Any/Proxy.pm line 21.
Redundant argument in sprintf at /opt/perlbrew/perls/perl-5.23.8-thread-multi-ld/lib/site_perl/5.23.8/Log/Any/Proxy.pm line 21.
Redundant argument in sprintf at /opt/perlbrew/perls/perl-5.23.8-thread-multi-ld/lib/site_perl/5.23.8/Log/Any/Proxy.pm line 21.
Redundant argument in sprintf at /opt/perlbrew/perls/perl-5.23.8-thread-multi-ld/lib/site_perl/5.23.8/Log/Any/Proxy.pm line 21.
Redundant argument in sprintf at /opt/perlbrew/perls/perl-5.23.8-thread-multi-ld/lib/site_perl/5.23.8/Log/Any/Proxy.pm line 21.
Redundant argument in sprintf at /opt/perlbrew/perls/perl-5.23.8-thread-multi-ld/lib/site_perl/5.23.8/Log/Any/Proxy.pm line 21.
Redundant argument in sprintf at /opt/perlbrew/perls/perl-5.23.8-thread-multi-ld/lib/site_perl/5.23.8/Log/Any/Proxy.pm line 21.
Redundant argument in sprintf at /opt/perlbrew/perls/perl-5.23.8-thread-multi-ld/lib/site_perl/5.23.8/Log/Any/Proxy.pm line 21.
Redundant argument in sprintf at /opt/perlbrew/perls/perl-5.23.8-thread-multi-ld/lib/site_perl/5.23.8/Log/Any/Proxy.pm line 21.
Redundant argument in sprintf at /opt/perlbrew/perls/perl-5.23.8-thread-multi-ld/lib/site_perl/5.23.8/Log/Any/Proxy.pm line 21.
Redundant argument in sprintf at /opt/perlbrew/perls/perl-5.23.8-thread-multi-ld/lib/site_perl/5.23.8/Log/Any/Proxy.pm line 21.
Redundant argument in sprintf at /opt/perlbrew/perls/perl-5.23.8-thread-multi-ld/lib/site_perl/5.23.8/Log/Any/Proxy.pm line 21.
Redundant argument in sprintf at /opt/perlbrew/perls/perl-5.23.8-thread-multi-ld/lib/site_perl/5.23.8/Log/Any/Proxy.pm line 21.
Redundant argument in sprintf at /opt/perlbrew/perls/perl-5.23.8-thread-multi-ld/lib/site_perl/5.23.8/Log/Any/Proxy.pm line 21.
Redundant argument in sprintf at /opt/perlbrew/perls/perl-5.23.8-thread-multi-ld/lib/site_perl/5.23.8/Log/Any/Proxy.pm line 21.
Redundant argument in sprintf at /opt/perlbrew/perls/perl-5.23.8-thread-multi-ld/lib/site_perl/5.23.8/Log/Any/Proxy.pm line 21.
Redundant argument in sprintf at /opt/perlbrew/perls/perl-5.23.8-thread-multi-ld/lib/site_perl/5.23.8/Log/Any/Proxy.pm line 21.
Redundant argument in sprintf at /opt/perlbrew/perls/perl-5.23.8-thread-multi-ld/lib/site_perl/5.23.8/Log/Any/Proxy.pm line 21.
Redundant argument in sprintf at /opt/perlbrew/perls/perl-5.23.8-thread-multi-ld/lib/site_perl/5.23.8/Log/Any/Proxy.pm line 21.
Redundant argument in sprintf at /opt/perlbrew/perls/perl-5.23.8-thread-multi-ld/lib/site_perl/5.23.8/Log/Any/Proxy.pm line 21.
Redundant argument in sprintf at /opt/perlbrew/perls/perl-5.23.8-thread-multi-ld/lib/site_perl/5.23.8/Log/Any/Proxy.pm line 21.
Redundant argument in sprintf at /opt/perlbrew/perls/perl-5.23.8-thread-multi-ld/lib/site_perl/5.23.8/Log/Any/Proxy.pm line 21.
Redundant argument in sprintf at /opt/perlbrew/perls/perl-5.23.8-thread-multi-ld/lib/site_perl/5.23.8/Log/Any/Proxy.pm line 21.
Redundant argument in sprintf at /opt/perlbrew/perls/perl-5.23.8-thread-multi-ld/lib/site_perl/5.23.8/Log/Any/Proxy.pm line 21.
Redundant argument in sprintf at /opt/perlbrew/perls/perl-5.23.8-thread-multi-ld/lib/site_perl/5.23.8/Log/Any/Proxy.pm line 21.
Redundant argument in sprintf at /opt/perlbrew/perls/perl-5.23.8-thread-multi-ld/lib/site_perl/5.23.8/Log/Any/Proxy.pm line 21.
Redundant argument in sprintf at /opt/perlbrew/perls/perl-5.23.8-thread-multi-ld/lib/site_perl/5.23.8/Log/Any/Proxy.pm line 21.
Redundant argument in sprintf at /opt/perlbrew/perls/perl-5.23.8-thread-multi-ld/lib/site_perl/5.23.8/Log/Any/Proxy.pm line 21.
Redundant argument in sprintf at /opt/perlbrew/perls/perl-5.23.8-thread-multi-ld/lib/site_perl/5.23.8/Log/Any/Proxy.pm line 21.
Redundant argument in sprintf at /opt/perlbrew/perls/perl-5.23.8-thread-multi-ld/lib/site_perl/5.23.8/Log/Any/Proxy.pm line 21.
Redundant argument in sprintf at /opt/perlbrew/perls/perl-5.23.8-thread-multi-ld/lib/site_perl/5.23.8/Log/Any/Proxy.pm line 21.
Redundant argument in sprintf at /opt/perlbrew/perls/perl-5.23.8-thread-multi-ld/lib/site_perl/5.23.8/Log/Any/Proxy.pm line 21.
Redundant argument in sprintf at /opt/perlbrew/perls/perl-5.23.8-thread-multi-ld/lib/site_perl/5.23.8/Log/Any/Proxy.pm line 21.
Redundant argument in sprintf at /opt/perlbrew/perls/perl-5.23.8-thread-multi-ld/lib/site_perl/5.23.8/Log/Any/Proxy.pm line 21.
Redundant argument in sprintf at /opt/perlbrew/perls/perl-5.23.8-thread-multi-ld/lib/site_perl/5.23.8/Log/Any/Proxy.pm line 21.
Redundant argument in sprintf at /opt/perlbrew/perls/perl-5.23.8-thread-multi-ld/lib/site_perl/5.23.8/Log/Any/Proxy.pm line 21.
Redundant argument in sprintf at /opt/perlbrew/perls/perl-5.23.8-thread-multi-ld/lib/site_perl/5.23.8/Log/Any/Proxy.pm line 21.
Redundant argument in sprintf at /opt/perlbrew/perls/perl-5.23.8-thread-multi-ld/lib/site_perl/5.23.8/Log/Any/Proxy.pm line 21.
Redundant argument in sprintf at /opt/perlbrew/perls/perl-5.23.8-thread-multi-ld/lib/site_perl/5.23.8/Log/Any/Proxy.pm line 21.
Redundant argument in sprintf at /opt/perlbrew/perls/perl-5.23.8-thread-multi-ld/lib/site_perl/5.23.8/Log/Any/Proxy.pm line 21.
Redundant argument in sprintf at /opt/perlbrew/perls/perl-5.23.8-thread-multi-ld/lib/site_perl/5.23.8/Log/Any/Proxy.pm line 21.
Redundant argument in sprintf at /opt/perlbrew/perls/perl-5.23.8-thread-multi-ld/lib/site_perl/5.23.8/Log/Any/Proxy.pm line 21.
Redundant argument in sprintf at /opt/perlbrew/perls/perl-5.23.8-thread-multi-ld/lib/site_perl/5.23.8/Log/Any/Proxy.pm line 21.
Redundant argument in sprintf at /opt/perlbrew/perls/perl-5.23.8-thread-multi-ld/lib/site_perl/5.23.8/Log/Any/Proxy.pm line 21.
Redundant argument in sprintf at /opt/perlbrew/perls/perl-5.23.8-thread-multi-ld/lib/site_perl/5.23.8/Log/Any/Proxy.pm line 21.
Redundant argument in sprintf at /opt/perlbrew/perls/perl-5.23.8-thread-multi-ld/lib/site_perl/5.23.8/Log/Any/Proxy.pm line 21.
Redundant argument in sprintf at /opt/perlbrew/perls/perl-5.23.8-thread-multi-ld/lib/site_perl/5.23.8/Log/Any/Proxy.pm line 21.
Redundant argument in sprintf at /opt/perlbrew/perls/perl-5.23.8-thread-multi-ld/lib/site_perl/5.23.8/Log/Any/Proxy.pm line 21.
Redundant argument in sprintf at /opt/perlbrew/perls/perl-5.23.8-thread-multi-ld/lib/site_perl/5.23.8/Log/Any/Proxy.pm line 21.
Redundant argument in sprintf at /opt/perlbrew/perls/perl-5.23.8-thread-multi-ld/lib/site_perl/5.23.8/Log/Any/Proxy.pm line 21.
Redundant argument in sprintf at /opt/perlbrew/perls/perl-5.23.8-thread-multi-ld/lib/site_perl/5.23.8/Log/Any/Proxy.pm line 21.
Redundant argument in sprintf at /opt/perlbrew/perls/perl-5.23.8-thread-multi-ld/lib/site_perl/5.23.8/Log/Any/Proxy.pm line 21.
Redundant argument in sprintf at /opt/perlbrew/perls/perl-5.23.8-thread-multi-ld/lib/site_perl/5.23.8/Log/Any/Proxy.pm line 21.
Redundant argument in sprintf at /opt/perlbrew/perls/perl-5.23.8-thread-multi-ld/lib/site_perl/5.23.8/Log/Any/Proxy.pm line 21.
Redundant argument in sprintf at /opt/perlbrew/perls/perl-5.23.8-thread-multi-ld/lib/site_perl/5.23.8/Log/Any/Proxy.pm line 21.
Redundant argument in sprintf at /opt/perlbrew/perls/perl-5.23.8-thread-multi-ld/lib/site_perl/5.23.8/Log/Any/Proxy.pm line 21.
Redundant argument in sprintf at /opt/perlbrew/perls/perl-5.23.8-thread-multi-ld/lib/site_perl/5.23.8/Log/Any/Proxy.pm line 21.
Redundant argument in sprintf at /opt/perlbrew/perls/perl-5.23.8-thread-multi-ld/lib/site_perl/5.23.8/Log/Any/Proxy.pm line 21.
Redundant argument in sprintf at /opt/perlbrew/perls/perl-5.23.8-thread-multi-ld/lib/site_perl/5.23.8/Log/Any/Proxy.pm line 21.
Redundant argument in sprintf at /opt/perlbrew/perls/perl-5.23.8-thread-multi-ld/lib/site_perl/5.23.8/Log/Any/Proxy.pm line 21.
Redundant argument in sprintf at /opt/perlbrew/perls/perl-5.23.8-thread-multi-ld/lib/site_perl/5.23.8/Log/Any/Proxy.pm line 21.
Redundant argument in sprintf at /opt/perlbrew/perls/perl-5.23.8-thread-multi-ld/lib/site_perl/5.23.8/Log/Any/Proxy.pm line 21.
Redundant argument in sprintf at /opt/perlbrew/perls/perl-5.23.8-thread-multi-ld/lib/site_perl/5.23.8/Log/Any/Proxy.pm line 21.
Redundant argument in sprintf at /opt/perlbrew/perls/perl-5.23.8-thread-multi-ld/lib/site_perl/5.23.8/Log/Any/Proxy.pm line 21.
Redundant argument in sprintf at /opt/perlbrew/perls/perl-5.23.8-thread-multi-ld/lib/site_perl/5.23.8/Log/Any/Proxy.pm line 21.
Redundant argument in sprintf at /opt/perlbrew/perls/perl-5.23.8-thread-multi-ld/lib/site_perl/5.23.8/Log/Any/Proxy.pm line 21.
Redundant argument in sprintf at /opt/perlbrew/perls/perl-5.23.8-thread-multi-ld/lib/site_perl/5.23.8/Log/Any/Proxy.pm line 21.
Redundant argument in sprintf at /opt/perlbrew/perls/perl-5.23.8-thread-multi-ld/lib/site_perl/5.23.8/Log/Any/Proxy.pm line 21.
Redundant argument in sprintf at /opt/perlbrew/perls/perl-5.23.8-thread-multi-ld/lib/site_perl/5.23.8/Log/Any/Proxy.pm line 21.
Redundant argument in sprintf at /opt/perlbrew/perls/perl-5.23.8-thread-multi-ld/lib/site_perl/5.23.8/Log/Any/Proxy.pm line 21.
Redundant argument in sprintf at /opt/perlbrew/perls/perl-5.23.8-thread-multi-ld/lib/site_perl/5.23.8/Log/Any/Proxy.pm line 21.
Redundant argument in sprintf at /opt/perlbrew/perls/perl-5.23.8-thread-multi-ld/lib/site_perl/5.23.8/Log/Any/Proxy.pm line 21.
Redundant argument in sprintf at /opt/perlbrew/perls/perl-5.23.8-thread-multi-ld/lib/site_perl/5.23.8/Log/Any/Proxy.pm line 21.
Redundant argument in sprintf at /opt/perlbrew/perls/perl-5.23.8-thread-multi-ld/lib/site_perl/5.23.8/Log/Any/Proxy.pm line 21.
Redundant argument in sprintf at /opt/perlbrew/perls/perl-5.23.8-thread-multi-ld/lib/site_perl/5.23.8/Log/Any/Proxy.pm line 21.
Redundant argument in sprintf at /opt/perlbrew/perls/perl-5.23.8-thread-multi-ld/lib/site_perl/5.23.8/Log/Any/Proxy.pm line 21.
Redundant argument in sprintf at /opt/perlbrew/perls/perl-5.23.8-thread-multi-ld/lib/site_perl/5.23.8/Log/Any/Proxy.pm line 21.
Redundant argument in sprintf at /opt/perlbrew/perls/perl-5.23.8-thread-multi-ld/lib/site_perl/5.23.8/Log/Any/Proxy.pm line 21.
Redundant argument in sprintf at /opt/perlbrew/perls/perl-5.23.8-thread-multi-ld/lib/site_perl/5.23.8/Log/Any/Proxy.pm line 21.
Redundant argument in sprintf at /opt/perlbrew/perls/perl-5.23.8-thread-multi-ld/lib/site_perl/5.23.8/Log/Any/Proxy.pm line 21.
Redundant argument in sprintf at /opt/perlbrew/perls/perl-5.23.8-thread-multi-ld/lib/site_perl/5.23.8/Log/Any/Proxy.pm line 21.
Redundant argument in sprintf at /opt/perlbrew/perls/perl-5.23.8-thread-multi-ld/lib/site_perl/5.23.8/Log/Any/Proxy.pm line 21.
Redundant argument in sprintf at /opt/perlbrew/perls/perl-5.23.8-thread-multi-ld/lib/site_perl/5.23.8/Log/Any/Proxy.pm line 21.
Redundant argument in sprintf at /opt/perlbrew/perls/perl-5.23.8-thread-multi-ld/lib/site_perl/5.23.8/Log/Any/Proxy.pm line 21.
Redundant argument in sprintf at /opt/perlbrew/perls/perl-5.23.8-thread-multi-ld/lib/site_perl/5.23.8/Log/Any/Proxy.pm line 21.
Redundant argument in sprintf at /opt/perlbrew/perls/perl-5.23.8-thread-multi-ld/lib/site_perl/5.23.8/Log/Any/Proxy.pm line 21.
Redundant argument in sprintf at /opt/perlbrew/perls/perl-5.23.8-thread-multi-ld/lib/site_perl/5.23.8/Log/Any/Proxy.pm line 21.
Redundant argument in sprintf at /opt/perlbrew/perls/perl-5.23.8-thread-multi-ld/lib/site_perl/5.23.8/Log/Any/Proxy.pm line 21.
Redundant argument in sprintf at /opt/perlbrew/perls/perl-5.23.8-thread-multi-ld/lib/site_perl/5.23.8/Log/Any/Proxy.pm line 21.
Redundant argument in sprintf at /opt/perlbrew/perls/perl-5.23.8-thread-multi-ld/lib/site_perl/5.23.8/Log/Any/Proxy.pm line 21.
Redundant argument in sprintf at /opt/perlbrew/perls/perl-5.23.8-thread-multi-ld/lib/site_perl/5.23.8/Log/Any/Proxy.pm line 21.
Redundant argument in sprintf at /opt/perlbrew/perls/perl-5.23.8-thread-multi-ld/lib/site_perl/5.23.8/Log/Any/Proxy.pm line 21.
Redundant argument in sprintf at /opt/perlbrew/perls/perl-5.23.8-thread-multi-ld/lib/site_perl/5.23.8/Log/Any/Proxy.pm line 21.
Redundant argument in sprintf at /opt/perlbrew/perls/perl-5.23.8-thread-multi-ld/lib/site_perl/5.23.8/Log/Any/Proxy.pm line 21.
Redundant argument in sprintf at /opt/perlbrew/perls/perl-5.23.8-thread-multi-ld/lib/site_perl/5.23.8/Log/Any/Proxy.pm line 21.
Redundant argument in sprintf at /opt/perlbrew/perls/perl-5.23.8-thread-multi-ld/lib/site_perl/5.23.8/Log/Any/Proxy.pm line 21.
Redundant argument in sprintf at /opt/perlbrew/perls/perl-5.23.8-thread-multi-ld/lib/site_perl/5.23.8/Log/Any/Proxy.pm line 21.
Redundant argument in sprintf at /opt/perlbrew/perls/perl-5.23.8-thread-multi-ld/lib/site_perl/5.23.8/Log/Any/Proxy.pm line 21.
Redundant argument in sprintf at /opt/perlbrew/perls/perl-5.23.8-thread-multi-ld/lib/site_perl/5.23.8/Log/Any/Proxy.pm line 21.
Redundant argument in sprintf at /opt/perlbrew/perls/perl-5.23.8-thread-multi-ld/lib/site_perl/5.23.8/Log/Any/Proxy.pm line 21.
Redundant argument in sprintf at /opt/perlbrew/perls/perl-5.23.8-thread-multi-ld/lib/site_perl/5.23.8/Log/Any/Proxy.pm line 21.
Redundant argument in sprintf at /opt/perlbrew/perls/perl-5.23.8-thread-multi-ld/lib/site_perl/5.23.8/Log/Any/Proxy.pm line 21.
Redundant argument in sprintf at /opt/perlbrew/perls/perl-5.23.8-thread-multi-ld/lib/site_perl/5.23.8/Log/Any/Proxy.pm line 21.
Redundant argument in sprintf at /opt/perlbrew/perls/perl-5.23.8-thread-multi-ld/lib/site_perl/5.23.8/Log/Any/Proxy.pm line 21.
Redundant argument in sprintf at /opt/perlbrew/perls/perl-5.23.8-thread-multi-ld/lib/site_perl/5.23.8/Log/Any/Proxy.pm line 21.
Redundant argument in sprintf at /opt/perlbrew/perls/perl-5.23.8-thread-multi-ld/lib/site_perl/5.23.8/Log/Any/Proxy.pm line 21.
Redundant argument in sprintf at /opt/perlbrew/perls/perl-5.23.8-thread-multi-ld/lib/site_perl/5.23.8/Log/Any/Proxy.pm line 21.
Redundant argument in sprintf at /opt/perlbrew/perls/perl-5.23.8-thread-multi-ld/lib/site_perl/5.23.8/Log/Any/Proxy.pm line 21.
Redundant argument in sprintf at /opt/perlbrew/perls/perl-5.23.8-thread-multi-ld/lib/site_perl/5.23.8/Log/Any/Proxy.pm line 21.
Redundant argument in sprintf at /opt/perlbrew/perls/perl-5.23.8-thread-multi-ld/lib/site_perl/5.23.8/Log/Any/Proxy.pm line 21.
Redundant argument in sprintf at /opt/perlbrew/perls/perl-5.23.8-thread-multi-ld/lib/site_perl/5.23.8/Log/Any/Proxy.pm line 21.
Redundant argument in sprintf at /opt/perlbrew/perls/perl-5.23.8-thread-multi-ld/lib/site_perl/5.23.8/Log/Any/Proxy.pm line 21.
Redundant argument in sprintf at /opt/perlbrew/perls/perl-5.23.8-thread-multi-ld/lib/site_perl/5.23.8/Log/Any/Proxy.pm line 21.
Redundant argument in sprintf at /opt/perlbrew/perls/perl-5.23.8-thread-multi-ld/lib/site_perl/5.23.8/Log/Any/Proxy.pm line 21.
Redundant argument in sprintf at /opt/perlbrew/perls/perl-5.23.8-thread-multi-ld/lib/site_perl/5.23.8/Log/Any/Proxy.pm line 21.
Redundant argument in sprintf at /opt/perlbrew/perls/perl-5.23.8-thread-multi-ld/lib/site_perl/5.23.8/Log/Any/Proxy.pm line 21.
Redundant argument in sprintf at /opt/perlbrew/perls/perl-5.23.8-thread-multi-ld/lib/site_perl/5.23.8/Log/Any/Proxy.pm line 21.
Redundant argument in sprintf at /opt/perlbrew/perls/perl-5.23.8-thread-multi-ld/lib/site_perl/5.23.8/Log/Any/Proxy.pm line 21.
Redundant argument in sprintf at /opt/perlbrew/perls/perl-5.23.8-thread-multi-ld/lib/site_perl/5.23.8/Log/Any/Proxy.pm line 21.
Redundant argument in sprintf at /opt/perlbrew/perls/perl-5.23.8-thread-multi-ld/lib/site_perl/5.23.8/Log/Any/Proxy.pm line 21.
Redundant argument in sprintf at /opt/perlbrew/perls/perl-5.23.8-thread-multi-ld/lib/site_perl/5.23.8/Log/Any/Proxy.pm line 21.
Redundant argument in sprintf at /opt/perlbrew/perls/perl-5.23.8-thread-multi-ld/lib/site_perl/5.23.8/Log/Any/Proxy.pm line 21.
Redundant argument in sprintf at /opt/perlbrew/perls/perl-5.23.8-thread-multi-ld/lib/site_perl/5.23.8/Log/Any/Proxy.pm line 21.
Redundant argument in sprintf at /opt/perlbrew/perls/perl-5.23.8-thread-multi-ld/lib/site_perl/5.23.8/Log/Any/Proxy.pm line 21.
Redundant argument in sprintf at /opt/perlbrew/perls/perl-5.23.8-thread-multi-ld/lib/site_perl/5.23.8/Log/Any/Proxy.pm line 21.
Redundant argument in sprintf at /opt/perlbrew/perls/perl-5.23.8-thread-multi-ld/lib/site_perl/5.23.8/Log/Any/Proxy.pm line 21.
Redundant argument in sprintf at /opt/perlbrew/perls/perl-5.23.8-thread-multi-ld/lib/site_perl/5.23.8/Log/Any/Proxy.pm line 21.
Redundant argument in sprintf at /opt/perlbrew/perls/perl-5.23.8-thread-multi-ld/lib/site_perl/5.23.8/Log/Any/Proxy.pm line 21.
Redundant argument in sprintf at /opt/perlbrew/perls/perl-5.23.8-thread-multi-ld/lib/site_perl/5.23.8/Log/Any/Proxy.pm line 21.
Redundant argument in sprintf at /opt/perlbrew/perls/perl-5.23.8-thread-multi-ld/lib/site_perl/5.23.8/Log/Any/Proxy.pm line 21.
Redundant argument in sprintf at /opt/perlbrew/perls/perl-5.23.8-thread-multi-ld/lib/site_perl/5.23.8/Log/Any/Proxy.pm line 21.
Redundant argument in sprintf at /opt/perlbrew/perls/perl-5.23.8-thread-multi-ld/lib/site_perl/5.23.8/Log/Any/Proxy.pm line 21.
Redundant argument in sprintf at /opt/perlbrew/perls/perl-5.23.8-thread-multi-ld/lib/site_perl/5.23.8/Log/Any/Proxy.pm line 21.
Redundant argument in sprintf at /opt/perlbrew/perls/perl-5.23.8-thread-multi-ld/lib/site_perl/5.23.8/Log/Any/Proxy.pm line 21.
Redundant argument in sprintf at /opt/perlbrew/perls/perl-5.23.8-thread-multi-ld/lib/site_perl/5.23.8/Log/Any/Proxy.pm line 21.
Redundant argument in sprintf at /opt/perlbrew/perls/perl-5.23.8-thread-multi-ld/lib/site_perl/5.23.8/Log/Any/Proxy.pm line 21.
Redundant argument in sprintf at /opt/perlbrew/perls/perl-5.23.8-thread-multi-ld/lib/site_perl/5.23.8/Log/Any/Proxy.pm line 21.
Redundant argument in sprintf at /opt/perlbrew/perls/perl-5.23.8-thread-multi-ld/lib/site_perl/5.23.8/Log/Any/Proxy.pm line 21.
Redundant argument in sprintf at /opt/perlbrew/perls/perl-5.23.8-thread-multi-ld/lib/site_perl/5.23.8/Log/Any/Proxy.pm line 21.
Redundant argument in sprintf at /opt/perlbrew/perls/perl-5.23.8-thread-multi-ld/lib/site_perl/5.23.8/Log/Any/Proxy.pm line 21.
Redundant argument in sprintf at /opt/perlbrew/perls/perl-5.23.8-thread-multi-ld/lib/site_perl/5.23.8/Log/Any/Proxy.pm line 21.
Redundant argument in sprintf at /opt/perlbrew/perls/perl-5.23.8-thread-multi-ld/lib/site_perl/5.23.8/Log/Any/Proxy.pm line 21.
Redundant argument in sprintf at /opt/perlbrew/perls/perl-5.23.8-thread-multi-ld/lib/site_perl/5.23.8/Log/Any/Proxy.pm line 21.
Redundant argument in sprintf at /opt/perlbrew/perls/perl-5.23.8-thread-multi-ld/lib/site_perl/5.23.8/Log/Any/Proxy.pm line 21.
Redundant argument in sprintf at /opt/perlbrew/perls/perl-5.23.8-thread-multi-ld/lib/site_perl/5.23.8/Log/Any/Proxy.pm line 21.
Redundant argument in sprintf at /opt/perlbrew/perls/perl-5.23.8-thread-multi-ld/lib/site_perl/5.23.8/Log/Any/Proxy.pm line 21.
Redundant argument in sprintf at /opt/perlbrew/perls/perl-5.23.8-thread-multi-ld/lib/site_perl/5.23.8/Log/Any/Proxy.pm line 21.
Redundant argument in sprintf at /opt/perlbrew/perls/perl-5.23.8-thread-multi-ld/lib/site_perl/5.23.8/Log/Any/Proxy.pm line 21.
Redundant argument in sprintf at /opt/perlbrew/perls/perl-5.23.8-thread-multi-ld/lib/site_perl/5.23.8/Log/Any/Proxy.pm line 21.
Redundant argument in sprintf at /opt/perlbrew/perls/perl-5.23.8-thread-multi-ld/lib/site_perl/5.23.8/Log/Any/Proxy.pm line 21.
Redundant argument in sprintf at /opt/perlbrew/perls/perl-5.23.8-thread-multi-ld/lib/site_perl/5.23.8/Log/Any/Proxy.pm line 21.
Redundant argument in sprintf at /opt/perlbrew/perls/perl-5.23.8-thread-multi-ld/lib/site_perl/5.23.8/Log/Any/Proxy.pm line 21.
Redundant argument in sprintf at /opt/perlbrew/perls/perl-5.23.8-thread-multi-ld/lib/site_perl/5.23.8/Log/Any/Proxy.pm line 21.
Redundant argument in sprintf at /opt/perlbrew/perls/perl-5.23.8-thread-multi-ld/lib/site_perl/5.23.8/Log/Any/Proxy.pm line 21.
Redundant argument in sprintf at /opt/perlbrew/perls/perl-5.23.8-thread-multi-ld/lib/site_perl/5.23.8/Log/Any/Proxy.pm line 21.
Redundant argument in sprintf at /opt/perlbrew/perls/perl-5.23.8-thread-multi-ld/lib/site_perl/5.23.8/Log/Any/Proxy.pm line 21.
Redundant argument in sprintf at /opt/perlbrew/perls/perl-5.23.8-thread-multi-ld/lib/site_perl/5.23.8/Log/Any/Proxy.pm line 21.
Redundant argument in sprintf at /opt/perlbrew/perls/perl-5.23.8-thread-multi-ld/lib/site_perl/5.23.8/Log/Any/Proxy.pm line 21.
Redundant argument in sprintf at /opt/perlbrew/perls/perl-5.23.8-thread-multi-ld/lib/site_perl/5.23.8/Log/Any/Proxy.pm line 21.
Redundant argument in sprintf at /opt/perlbrew/perls/perl-5.23.8-thread-multi-ld/lib/site_perl/5.23.8/Log/Any/Proxy.pm line 21.
Redundant argument in sprintf at /opt/perlbrew/perls/perl-5.23.8-thread-multi-ld/lib/site_perl/5.23.8/Log/Any/Proxy.pm line 21.
Redundant argument in sprintf at /opt/perlbrew/perls/perl-5.23.8-thread-multi-ld/lib/site_perl/5.23.8/Log/Any/Proxy.pm line 21.
Redundant argument in sprintf at /opt/perlbrew/perls/perl-5.23.8-thread-multi-ld/lib/site_perl/5.23.8/Log/Any/Proxy.pm line 21.
Redundant argument in sprintf at /opt/perlbrew/perls/perl-5.23.8-thread-multi-ld/lib/site_perl/5.23.8/Log/Any/Proxy.pm line 21.
Redundant argument in sprintf at /opt/perlbrew/perls/perl-5.23.8-thread-multi-ld/lib/site_perl/5.23.8/Log/Any/Proxy.pm line 21.
Redundant argument in sprintf at /opt/perlbrew/perls/perl-5.23.8-thread-multi-ld/lib/site_perl/5.23.8/Log/Any/Proxy.pm line 21.
Redundant argument in sprintf at /opt/perlbrew/perls/perl-5.23.8-thread-multi-ld/lib/site_perl/5.23.8/Log/Any/Proxy.pm line 21.
Redundant argument in sprintf at /opt/perlbrew/perls/perl-5.23.8-thread-multi-ld/lib/site_perl/5.23.8/Log/Any/Proxy.pm line 21.
Redundant argument in sprintf at /opt/perlbrew/perls/perl-5.23.8-thread-multi-ld/lib/site_perl/5.23.8/Log/Any/Proxy.pm line 21.
Redundant argument in sprintf at /opt/perlbrew/perls/perl-5.23.8-thread-multi-ld/lib/site_perl/5.23.8/Log/Any/Proxy.pm line 21.
Redundant argument in sprintf at /opt/perlbrew/perls/perl-5.23.8-thread-multi-ld/lib/site_perl/5.23.8/Log/Any/Proxy.pm line 21.
Redundant argument in sprintf at /opt/perlbrew/perls/perl-5.23.8-thread-multi-ld/lib/site_perl/5.23.8/Log/Any/Proxy.pm line 21.
Redundant argument in sprintf at /opt/perlbrew/perls/perl-5.23.8-thread-multi-ld/lib/site_perl/5.23.8/Log/Any/Proxy.pm line 21.
Redundant argument in sprintf at /opt/perlbrew/perls/perl-5.23.8-thread-multi-ld/lib/site_perl/5.23.8/Log/Any/Proxy.pm line 21.
Redundant argument in sprintf at /opt/perlbrew/perls/perl-5.23.8-thread-multi-ld/lib/site_perl/5.23.8/Log/Any/Proxy.pm line 21.
Redundant argument in sprintf at /opt/perlbrew/perls/perl-5.23.8-thread-multi-ld/lib/site_perl/5.23.8/Log/Any/Proxy.pm line 21.
Redundant argument in sprintf at /opt/perlbrew/perls/perl-5.23.8-thread-multi-ld/lib/site_perl/5.23.8/Log/Any/Proxy.pm line 21.
Redundant argument in sprintf at /opt/perlbrew/perls/perl-5.23.8-thread-multi-ld/lib/site_perl/5.23.8/Log/Any/Proxy.pm line 21.
Redundant argument in sprintf at /opt/perlbrew/perls/perl-5.23.8-thread-multi-ld/lib/site_perl/5.23.8/Log/Any/Proxy.pm line 21.
Redundant argument in sprintf at /opt/perlbrew/perls/perl-5.23.8-thread-multi-ld/lib/site_perl/5.23.8/Log/Any/Proxy.pm line 21.
Redundant argument in sprintf at /opt/perlbrew/perls/perl-5.23.8-thread-multi-ld/lib/site_perl/5.23.8/Log/Any/Proxy.pm line 21.
Redundant argument in sprintf at /opt/perlbrew/perls/perl-5.23.8-thread-multi-ld/lib/site_perl/5.23.8/Log/Any/Proxy.pm line 21.
Redundant argument in sprintf at /opt/perlbrew/perls/perl-5.23.8-thread-multi-ld/lib/site_perl/5.23.8/Log/Any/Proxy.pm line 21.
Redundant argument in sprintf at /opt/perlbrew/perls/perl-5.23.8-thread-multi-ld/lib/site_perl/5.23.8/Log/Any/Proxy.pm line 21.
Redundant argument in sprintf at /opt/perlbrew/perls/perl-5.23.8-thread-multi-ld/lib/site_perl/5.23.8/Log/Any/Proxy.pm line 21.
Redundant argument in sprintf at /opt/perlbrew/perls/perl-5.23.8-thread-multi-ld/lib/site_perl/5.23.8/Log/Any/Proxy.pm line 21.
Redundant argument in sprintf at /opt/perlbrew/perls/perl-5.23.8-thread-multi-ld/lib/site_perl/5.23.8/Log/Any/Proxy.pm line 21.
Redundant argument in sprintf at /opt/perlbrew/perls/perl-5.23.8-thread-multi-ld/lib/site_perl/5.23.8/Log/Any/Proxy.pm line 21.
Redundant argument in sprintf at /opt/perlbrew/perls/perl-5.23.8-thread-multi-ld/lib/site_perl/5.23.8/Log/Any/Proxy.pm line 21.
Redundant argument in sprintf at /opt/perlbrew/perls/perl-5.23.8-thread-multi-ld/lib/site_perl/5.23.8/Log/Any/Proxy.pm line 21.
Redundant argument in sprintf at /opt/perlbrew/perls/perl-5.23.8-thread-multi-ld/lib/site_perl/5.23.8/Log/Any/Proxy.pm line 21.
Redundant argument in sprintf at /opt/perlbrew/perls/perl-5.23.8-thread-multi-ld/lib/site_perl/5.23.8/Log/Any/Proxy.pm line 21.
Redundant argument in sprintf at /opt/perlbrew/perls/perl-5.23.8-thread-multi-ld/lib/site_perl/5.23.8/Log/Any/Proxy.pm line 21.
Redundant argument in sprintf at /opt/perlbrew/perls/perl-5.23.8-thread-multi-ld/lib/site_perl/5.23.8/Log/Any/Proxy.pm line 21.
Redundant argument in sprintf at /opt/perlbrew/perls/perl-5.23.8-thread-multi-ld/lib/site_perl/5.23.8/Log/Any/Proxy.pm line 21.
Redundant argument in sprintf at /opt/perlbrew/perls/perl-5.23.8-thread-multi-ld/lib/site_perl/5.23.8/Log/Any/Proxy.pm line 21.
Redundant argument in sprintf at /opt/perlbrew/perls/perl-5.23.8-thread-multi-ld/lib/site_perl/5.23.8/Log/Any/Proxy.pm line 21.
Redundant argument in sprintf at /opt/perlbrew/perls/perl-5.23.8-thread-multi-ld/lib/site_perl/5.23.8/Log/Any/Proxy.pm line 21.
Redundant argument in sprintf at /opt/perlbrew/perls/perl-5.23.8-thread-multi-ld/lib/site_perl/5.23.8/Log/Any/Proxy.pm line 21.
Redundant argument in sprintf at /opt/perlbrew/perls/perl-5.23.8-thread-multi-ld/lib/site_perl/5.23.8/Log/Any/Proxy.pm line 21.
Redundant argument in sprintf at /opt/perlbrew/perls/perl-5.23.8-thread-multi-ld/lib/site_perl/5.23.8/Log/Any/Proxy.pm line 21.
Redundant argument in sprintf at /opt/perlbrew/perls/perl-5.23.8-thread-multi-ld/lib/site_perl/5.23.8/Log/Any/Proxy.pm line 21.
Redundant argument in sprintf at /opt/perlbrew/perls/perl-5.23.8-thread-multi-ld/lib/site_perl/5.23.8/Log/Any/Proxy.pm line 21.
Redundant argument in sprintf at /opt/perlbrew/perls/perl-5.23.8-thread-multi-ld/lib/site_perl/5.23.8/Log/Any/Proxy.pm line 21.
Redundant argument in sprintf at /opt/perlbrew/perls/perl-5.23.8-thread-multi-ld/lib/site_perl/5.23.8/Log/Any/Proxy.pm line 21.
Redundant argument in sprintf at /opt/perlbrew/perls/perl-5.23.8-thread-multi-ld/lib/site_perl/5.23.8/Log/Any/Proxy.pm line 21.
Redundant argument in sprintf at /opt/perlbrew/perls/perl-5.23.8-thread-multi-ld/lib/site_perl/5.23.8/Log/Any/Proxy.pm line 21.
Redundant argument in sprintf at /opt/perlbrew/perls/perl-5.23.8-thread-multi-ld/lib/site_perl/5.23.8/Log/Any/Proxy.pm line 21.
Redundant argument in sprintf at /opt/perlbrew/perls/perl-5.23.8-thread-multi-ld/lib/site_perl/5.23.8/Log/Any/Proxy.pm line 21.
Redundant argument in sprintf at /opt/perlbrew/perls/perl-5.23.8-thread-multi-ld/lib/site_perl/5.23.8/Log/Any/Proxy.pm line 21.
Redundant argument in sprintf at /opt/perlbrew/perls/perl-5.23.8-thread-multi-ld/lib/site_perl/5.23.8/Log/Any/Proxy.pm line 21.
Redundant argument in sprintf at /opt/perlbrew/perls/perl-5.23.8-thread-multi-ld/lib/site_perl/5.23.8/Log/Any/Proxy.pm line 21.
Redundant argument in sprintf at /opt/perlbrew/perls/perl-5.23.8-thread-multi-ld/lib/site_perl/5.23.8/Log/Any/Proxy.pm line 21.
Redundant argument in sprintf at /opt/perlbrew/perls/perl-5.23.8-thread-multi-ld/lib/site_perl/5.23.8/Log/Any/Proxy.pm line 21.
Redundant argument in sprintf at /opt/perlbrew/perls/perl-5.23.8-thread-multi-ld/lib/site_perl/5.23.8/Log/Any/Proxy.pm line 21.
Redundant argument in sprintf at /opt/perlbrew/perls/perl-5.23.8-thread-multi-ld/lib/site_perl/5.23.8/Log/Any/Proxy.pm line 21.
Redundant argument in sprintf at /opt/perlbrew/perls/perl-5.23.8-thread-multi-ld/lib/site_perl/5.23.8/Log/Any/Proxy.pm line 21.
Redundant argument in sprintf at /opt/perlbrew/perls/perl-5.23.8-thread-multi-ld/lib/site_perl/5.23.8/Log/Any/Proxy.pm line 21.
Redundant argument in sprintf at /opt/perlbrew/perls/perl-5.23.8-thread-multi-ld/lib/site_perl/5.23.8/Log/Any/Proxy.pm line 21.
Redundant argument in sprintf at /opt/perlbrew/perls/perl-5.23.8-thread-multi-ld/lib/site_perl/5.23.8/Log/Any/Proxy.pm line 21.
Redundant argument in sprintf at /opt/perlbrew/perls/perl-5.23.8-thread-multi-ld/lib/site_perl/5.23.8/Log/Any/Proxy.pm line 21.
Redundant argument in sprintf at /opt/perlbrew/perls/perl-5.23.8-thread-multi-ld/lib/site_perl/5.23.8/Log/Any/Proxy.pm line 21.
Redundant argument in sprintf at /opt/perlbrew/perls/perl-5.23.8-thread-multi-ld/lib/site_perl/5.23.8/Log/Any/Proxy.pm line 21.
Redundant argument in sprintf at /opt/perlbrew/perls/perl-5.23.8-thread-multi-ld/lib/site_perl/5.23.8/Log/Any/Proxy.pm line 21.
Redundant argument in sprintf at /opt/perlbrew/perls/perl-5.23.8-thread-multi-ld/lib/site_perl/5.23.8/Log/Any/Proxy.pm line 21.
Redundant argument in sprintf at /opt/perlbrew/perls/perl-5.23.8-thread-multi-ld/lib/site_perl/5.23.8/Log/Any/Proxy.pm line 21.
Redundant argument in sprintf at /opt/perlbrew/perls/perl-5.23.8-thread-multi-ld/lib/site_perl/5.23.8/Log/Any/Proxy.pm line 21.
Redundant argument in sprintf at /opt/perlbrew/perls/perl-5.23.8-thread-multi-ld/lib/site_perl/5.23.8/Log/Any/Proxy.pm line 21.
Redundant argument in sprintf at /opt/perlbrew/perls/perl-5.23.8-thread-multi-ld/lib/site_perl/5.23.8/Log/Any/Proxy.pm line 21.
Redundant argument in sprintf at /opt/perlbrew/perls/perl-5.23.8-thread-multi-ld/lib/site_perl/5.23.8/Log/Any/Proxy.pm line 21.
Redundant argument in sprintf at /opt/perlbrew/perls/perl-5.23.8-thread-multi-ld/lib/site_perl/5.23.8/Log/Any/Proxy.pm line 21.
Redundant argument in sprintf at /opt/perlbrew/perls/perl-5.23.8-thread-multi-ld/lib/site_perl/5.23.8/Log/Any/Proxy.pm line 21.
Redundant argument in sprintf at /opt/perlbrew/perls/perl-5.23.8-thread-multi-ld/lib/site_perl/5.23.8/Log/Any/Proxy.pm line 21.
Redundant argument in sprintf at /opt/perlbrew/perls/perl-5.23.8-thread-multi-ld/lib/site_perl/5.23.8/Log/Any/Proxy.pm line 21.
Redundant argument in sprintf at /opt/perlbrew/perls/perl-5.23.8-thread-multi-ld/lib/site_perl/5.23.8/Log/Any/Proxy.pm line 21.
Redundant argument in sprintf at /opt/perlbrew/perls/perl-5.23.8-thread-multi-ld/lib/site_perl/5.23.8/Log/Any/Proxy.pm line 21.
Redundant argument in sprintf at /opt/perlbrew/perls/perl-5.23.8-thread-multi-ld/lib/site_perl/5.23.8/Log/Any/Proxy.pm line 21.
Redundant argument in sprintf at /opt/perlbrew/perls/perl-5.23.8-thread-multi-ld/lib/site_perl/5.23.8/Log/Any/Proxy.pm line 21.
Redundant argument in sprintf at /opt/perlbrew/perls/perl-5.23.8-thread-multi-ld/lib/site_perl/5.23.8/Log/Any/Proxy.pm line 21.
Redundant argument in sprintf at /opt/perlbrew/perls/perl-5.23.8-thread-multi-ld/lib/site_perl/5.23.8/Log/Any/Proxy.pm line 21.
Redundant argument in sprintf at /opt/perlbrew/perls/perl-5.23.8-thread-multi-ld/lib/site_perl/5.23.8/Log/Any/Proxy.pm line 21.
Redundant argument in sprintf at /opt/perlbrew/perls/perl-5.23.8-thread-multi-ld/lib/site_perl/5.23.8/Log/Any/Proxy.pm line 21.
Redundant argument in sprintf at /opt/perlbrew/perls/perl-5.23.8-thread-multi-ld/lib/site_perl/5.23.8/Log/Any/Proxy.pm line 21.
Redundant argument in sprintf at /opt/perlbrew/perls/perl-5.23.8-thread-multi-ld/lib/site_perl/5.23.8/Log/Any/Proxy.pm line 21.
Redundant argument in sprintf at /opt/perlbrew/perls/perl-5.23.8-thread-multi-ld/lib/site_perl/5.23.8/Log/Any/Proxy.pm line 21.
Redundant argument in sprintf at /opt/perlbrew/perls/perl-5.23.8-thread-multi-ld/lib/site_perl/5.23.8/Log/Any/Proxy.pm line 21.
Redundant argument in sprintf at /opt/perlbrew/perls/perl-5.23.8-thread-multi-ld/lib/site_perl/5.23.8/Log/Any/Proxy.pm line 21.
Redundant argument in sprintf at /opt/perlbrew/perls/perl-5.23.8-thread-multi-ld/lib/site_perl/5.23.8/Log/Any/Proxy.pm line 21.
Redundant argument in sprintf at /opt/perlbrew/perls/perl-5.23.8-thread-multi-ld/lib/site_perl/5.23.8/Log/Any/Proxy.pm line 21.
Redundant argument in sprintf at /opt/perlbrew/perls/perl-5.23.8-thread-multi-ld/lib/site_perl/5.23.8/Log/Any/Proxy.pm line 21.
Redundant argument in sprintf at /opt/perlbrew/perls/perl-5.23.8-thread-multi-ld/lib/site_perl/5.23.8/Log/Any/Proxy.pm line 21.
Redundant argument in sprintf at /opt/perlbrew/perls/perl-5.23.8-thread-multi-ld/lib/site_perl/5.23.8/Log/Any/Proxy.pm line 21.
Redundant argument in sprintf at /opt/perlbrew/perls/perl-5.23.8-thread-multi-ld/lib/site_perl/5.23.8/Log/Any/Proxy.pm line 21.
Redundant argument in sprintf at /opt/perlbrew/perls/perl-5.23.8-thread-multi-ld/lib/site_perl/5.23.8/Log/Any/Proxy.pm line 21.
Redundant argument in sprintf at /opt/perlbrew/perls/perl-5.23.8-thread-multi-ld/lib/site_perl/5.23.8/Log/Any/Proxy.pm line 21.
Redundant argument in sprintf at /opt/perlbrew/perls/perl-5.23.8-thread-multi-ld/lib/site_perl/5.23.8/Log/Any/Proxy.pm line 21.
Redundant argument in sprintf at /opt/perlbrew/perls/perl-5.23.8-thread-multi-ld/lib/site_perl/5.23.8/Log/Any/Proxy.pm line 21.
Redundant argument in sprintf at /opt/perlbrew/perls/perl-5.23.8-thread-multi-ld/lib/site_perl/5.23.8/Log/Any/Proxy.pm line 21.
Redundant argument in sprintf at /opt/perlbrew/perls/perl-5.23.8-thread-multi-ld/lib/site_perl/5.23.8/Log/Any/Proxy.pm line 21.
Redundant argument in sprintf at /opt/perlbrew/perls/perl-5.23.8-thread-multi-ld/lib/site_perl/5.23.8/Log/Any/Proxy.pm line 21.
Redundant argument in sprintf at /opt/perlbrew/perls/perl-5.23.8-thread-multi-ld/lib/site_perl/5.23.8/Log/Any/Proxy.pm line 21.
Redundant argument in sprintf at /opt/perlbrew/perls/perl-5.23.8-thread-multi-ld/lib/site_perl/5.23.8/Log/Any/Proxy.pm line 21.
Redundant argument in sprintf at /opt/perlbrew/perls/perl-5.23.8-thread-multi-ld/lib/site_perl/5.23.8/Log/Any/Proxy.pm line 21.
Redundant argument in sprintf at /opt/perlbrew/perls/perl-5.23.8-thread-multi-ld/lib/site_perl/5.23.8/Log/Any/Proxy.pm line 21.
Redundant argument in sprintf at /opt/perlbrew/perls/perl-5.23.8-thread-multi-ld/lib/site_perl/5.23.8/Log/Any/Proxy.pm line 21.
Redundant argument in sprintf at /opt/perlbrew/perls/perl-5.23.8-thread-multi-ld/lib/site_perl/5.23.8/Log/Any/Proxy.pm line 21.
Redundant argument in sprintf at /opt/perlbrew/perls/perl-5.23.8-thread-multi-ld/lib/site_perl/5.23.8/Log/Any/Proxy.pm line 21.
Redundant argument in sprintf at /opt/perlbrew/perls/perl-5.23.8-thread-multi-ld/lib/site_perl/5.23.8/Log/Any/Proxy.pm line 21.
Redundant argument in sprintf at /opt/perlbrew/perls/perl-5.23.8-thread-multi-ld/lib/site_perl/5.23.8/Log/Any/Proxy.pm line 21.
Redundant argument in sprintf at /opt/perlbrew/perls/perl-5.23.8-thread-multi-ld/lib/site_perl/5.23.8/Log/Any/Proxy.pm line 21.
Redundant argument in sprintf at /opt/perlbrew/perls/perl-5.23.8-thread-multi-ld/lib/site_perl/5.23.8/Log/Any/Proxy.pm line 21.
Redundant argument in sprintf at /opt/perlbrew/perls/perl-5.23.8-thread-multi-ld/lib/site_perl/5.23.8/Log/Any/Proxy.pm line 21.
Redundant argument in sprintf at /opt/perlbrew/perls/perl-5.23.8-thread-multi-ld/lib/site_perl/5.23.8/Log/Any/Proxy.pm line 21.
Redundant argument in sprintf at /opt/perlbrew/perls/perl-5.23.8-thread-multi-ld/lib/site_perl/5.23.8/Log/Any/Proxy.pm line 21.
Redundant argument in sprintf at /opt/perlbrew/perls/perl-5.23.8-thread-multi-ld/lib/site_perl/5.23.8/Log/Any/Proxy.pm line 21.
Redundant argument in sprintf at /opt/perlbrew/perls/perl-5.23.8-thread-multi-ld/lib/site_perl/5.23.8/Log/Any/Proxy.pm line 21.
Redundant argument in sprintf at /opt/perlbrew/perls/perl-5.23.8-thread-multi-ld/lib/site_perl/5.23.8/Log/Any/Proxy.pm line 21.
Redundant argument in sprintf at /opt/perlbrew/perls/perl-5.23.8-thread-multi-ld/lib/site_perl/5.23.8/Log/Any/Proxy.pm line 21.
Redundant argument in sprintf at /opt/perlbrew/perls/perl-5.23.8-thread-multi-ld/lib/site_perl/5.23.8/Log/Any/Proxy.pm line 21.
Redundant argument in sprintf at /opt/perlbrew/perls/perl-5.23.8-thread-multi-ld/lib/site_perl/5.23.8/Log/Any/Proxy.pm line 21.
Redundant argument in sprintf at /opt/perlbrew/perls/perl-5.23.8-thread-multi-ld/lib/site_perl/5.23.8/Log/Any/Proxy.pm line 21.
Redundant argument in sprintf at /opt/perlbrew/perls/perl-5.23.8-thread-multi-ld/lib/site_perl/5.23.8/Log/Any/Proxy.pm line 21.
Redundant argument in sprintf at /opt/perlbrew/perls/perl-5.23.8-thread-multi-ld/lib/site_perl/5.23.8/Log/Any/Proxy.pm line 21.
Redundant argument in sprintf at /opt/perlbrew/perls/perl-5.23.8-thread-multi-ld/lib/site_perl/5.23.8/Log/Any/Proxy.pm line 21.
Redundant argument in sprintf at /opt/perlbrew/perls/perl-5.23.8-thread-multi-ld/lib/site_perl/5.23.8/Log/Any/Proxy.pm line 21.
Redundant argument in sprintf at /opt/perlbrew/perls/perl-5.23.8-thread-multi-ld/lib/site_perl/5.23.8/Log/Any/Proxy.pm line 21.
Redundant argument in sprintf at /opt/perlbrew/perls/perl-5.23.8-thread-multi-ld/lib/site_perl/5.23.8/Log/Any/Proxy.pm line 21.
Redundant argument in sprintf at /opt/perlbrew/perls/perl-5.23.8-thread-multi-ld/lib/site_perl/5.23.8/Log/Any/Proxy.pm line 21.
Redundant argument in sprintf at /opt/perlbrew/perls/perl-5.23.8-thread-multi-ld/lib/site_perl/5.23.8/Log/Any/Proxy.pm line 21.
Redundant argument in sprintf at /opt/perlbrew/perls/perl-5.23.8-thread-multi-ld/lib/site_perl/5.23.8/Log/Any/Proxy.pm line 21.
Redundant argument in sprintf at /opt/perlbrew/perls/perl-5.23.8-thread-multi-ld/lib/site_perl/5.23.8/Log/Any/Proxy.pm line 21.
Redundant argument in sprintf at /opt/perlbrew/perls/perl-5.23.8-thread-multi-ld/lib/site_perl/5.23.8/Log/Any/Proxy.pm line 21.
Redundant argument in sprintf at /opt/perlbrew/perls/perl-5.23.8-thread-multi-ld/lib/site_perl/5.23.8/Log/Any/Proxy.pm line 21.
Redundant argument in sprintf at /opt/perlbrew/perls/perl-5.23.8-thread-multi-ld/lib/site_perl/5.23.8/Log/Any/Proxy.pm line 21.
Redundant argument in sprintf at /opt/perlbrew/perls/perl-5.23.8-thread-multi-ld/lib/site_perl/5.23.8/Log/Any/Proxy.pm line 21.
Redundant argument in sprintf at /opt/perlbrew/perls/perl-5.23.8-thread-multi-ld/lib/site_perl/5.23.8/Log/Any/Proxy.pm line 21.
Redundant argument in sprintf at /opt/perlbrew/perls/perl-5.23.8-thread-multi-ld/lib/site_perl/5.23.8/Log/Any/Proxy.pm line 21.
Redundant argument in sprintf at /opt/perlbrew/perls/perl-5.23.8-thread-multi-ld/lib/site_perl/5.23.8/Log/Any/Proxy.pm line 21.
t/IronCache/cache_policy2.t .. ok
# Testing IO::Iron::IronCache, Perl 5.023008, /opt/perlbrew/perls/perl-5.23.8-thread-multi-ld/bin/perl5.23.8
t/IronCache/load.t ........... ok
# Testing IO::Iron::IronMQ 0.11, Perl 5.023008, /opt/perlbrew/perls/perl-5.23.8-thread-multi-ld/bin/perl5.23.8
t/IronMQ/load.t .............. ok
# Testing IO::Iron::IronWorker 0.11, Perl 5.023008, /opt/perlbrew/perls/perl-5.23.8-thread-multi-ld/bin/perl5.23.8
t/IronWorker/load.t .......... ok
All tests successful.
Files=7, Tests=92,  1 wallclock secs ( 0.04 usr  0.02 sys +  0.65 cusr  0.13 csys =  0.84 CPU)
Result: PASS

------------------------------
PREREQUISITES
------------------------------

Prerequisite modules loaded:

requires:

    Module             Need Have    
    ------------------ ---- --------
    Carp               0    1.38    
    Carp::Assert       0    0.21    
    Carp::Assert::More 0    1.14    
    constant           0    1.33    
    Data::Dumper       0    2.160   
    Data::UUID         0    1.221   
    English            0    1.10    
    Exception::Class   0    1.40    
    Exporter           0    5.72    
    File::HomeDir      0    1.00    
    File::Slurp        0    9999.19 
    File::Spec         0    3.63    
    Hash::Util         0.06 0.19    
    JSON::MaybeXS      0    1.003005
    Log::Any           0    1.040   
    Params::Validate   0    1.22    
    parent             0    0.234   
    REST::Client       0    273     
    Scalar::Util       0    1.42_01 
    strict             0    1.10    
    Try::Tiny          0    0.24    
    URI::Escape        0    3.31    
    warnings           0    1.35    

build_requires:

    Module             Need Have    
    ------------------ ---- --------
    File::Copy         0    2.30    
    File::Remove       0    1.55    
    lib                0    0.63    
    Log::Any::Test     0    1.040   
    Test::Exception    0    0.43    
    Test::More         0    1.001014


------------------------------
ENVIRONMENT AND OTHER CONTEXT
------------------------------

Environment variables:

    AUTOMATED_TESTING = 1
    LANG = en_GB.UTF-8
    LANGUAGE = en_GB:en
    PATH = /opt/perlbrew/bin:/opt/perlbrew/perls/perl-5.23.8-thread-multi-ld/bin:~/bin:/usr/local/sbin:/usr/local/bin:/usr/sbin:/usr/bin:/sbin:/bin:/usr/games:/usr/local/games:/home/perlbrew/.rvm/bin
    PERL5LIB = 
    PERL5OPT = 
    PERL5_CPANPLUS_IS_RUNNING = 15626
    PERL5_CPAN_IS_RUNNING = 15626
    PERL5_CPAN_IS_RUNNING_IN_RECURSION = 3090,15626
    PERLBREW_BASHRC_VERSION = 0.74
    PERLBREW_HOME = /home/perlbrew/.perlbrew
    PERLBREW_MANPATH = /opt/perlbrew/perls/perl-5.23.8-thread-multi-ld/man
    PERLBREW_PATH = /opt/perlbrew/bin:/opt/perlbrew/perls/perl-5.23.8-thread-multi-ld/bin
    PERLBREW_PERL = perl-5.23.8-thread-multi-ld
    PERLBREW_ROOT = /opt/perlbrew
    PERLBREW_VERSION = 0.74
    PERL_CPANM_OPT = --mirror http://cpan.cpantesters.org
    PERL_CR_SMOKER_CURRENT = IO-Iron-0.11
    PERL_EXTUTILS_AUTOINSTALL = --defaultdeps
    PERL_MM_USE_DEFAULT = 1
    SHELL = /bin/bash
    TERM = xterm

Perl special variables (and OS-specific diagnostics, for MSWin32):

    $^X = /opt/perlbrew/perls/perl-5.23.8-thread-multi-ld/bin/perl5.23.8
    $UID/$EUID = 1001 / 1001
    $GID = 1001 27 1001
    $EGID = 1001 27 1001

Perl module toolchain versions installed:

    Module              Have    
    ------------------- --------
    CPAN                2.11    
    CPAN::Meta          2.150005
    Cwd                 3.63    
    ExtUtils::CBuilder  0.280225
    ExtUtils::Command   7.10    
    ExtUtils::Install   2.04    
    ExtUtils::MakeMaker 7.10_01 
    ExtUtils::Manifest  1.70    
    ExtUtils::ParseXS   3.31    
    File::Spec          3.63    
    JSON                2.90    
    JSON::PP            2.27300 
    Module::Build       0.4216  
    Module::Signature   0.79    
    Parse::CPAN::Meta   1.4417  
    Test::Harness       3.36    
    Test::More          1.001014
    YAML                1.15    
    YAML::Syck          1.29    
    version             0.9914  


--

Summary of my perl5 (revision 5 version 23 subversion 8) configuration:
   
  Platform:
    osname=linux, osvers=4.2.0-30-generic, archname=x86_64-linux-thread-multi-ld
    uname='linux ubuntu 4.2.0-30-generic #36~14.04.1-ubuntu smp fri feb 26 18:49:23 utc 2016 x86_64 x86_64 x86_64 gnulinux '
    config_args='-de -Dprefix=/opt/perlbrew/perls/perl-5.23.8-thread-multi-ld -Duselongdouble -Dusemultiplicity -Dusethreads -Dusedevel -Aeval:scriptdir=/opt/perlbrew/perls/perl-5.23.8-thread-multi-ld/bin'
    hint=recommended, useposix=true, d_sigaction=define
    useithreads=define, usemultiplicity=define
    use64bitint=define, use64bitall=define, uselongdouble=define
    usemymalloc=n, bincompat5005=undef
  Compiler:
    cc='cc', ccflags ='-D_REENTRANT -D_GNU_SOURCE -fwrapv -fno-strict-aliasing -pipe -fstack-protector -I/usr/local/include -D_LARGEFILE_SOURCE -D_FILE_OFFSET_BITS=64',
    optimize='-O2',
    cppflags='-D_REENTRANT -D_GNU_SOURCE -fwrapv -fno-strict-aliasing -pipe -fstack-protector -I/usr/local/include'
    ccversion='', gccversion='4.8.4', gccosandvers=''
    intsize=4, longsize=8, ptrsize=8, doublesize=8, byteorder=12345678, doublekind=3
    d_longlong=define, longlongsize=8, d_longdbl=define, longdblsize=16, longdblkind=3
    ivtype='long', ivsize=8, nvtype='long double', nvsize=16, Off_t='off_t', lseeksize=8
    alignbytes=16, prototype=define
  Linker and Libraries:
    ld='cc', ldflags =' -fstack-protector -L/usr/local/lib'
    libpth=/usr/local/lib /usr/lib/gcc/x86_64-linux-gnu/4.8/include-fixed /usr/include/x86_64-linux-gnu /usr/lib /lib/x86_64-linux-gnu /lib/../lib /usr/lib/x86_64-linux-gnu /usr/lib/../lib /lib
    libs=-lpthread -lnsl -lgdbm -ldl -lm -lcrypt -lutil -lc -lgdbm_compat
    perllibs=-lpthread -lnsl -ldl -lm -lcrypt -lutil -lc
    libc=libc-2.19.so, so=so, useshrplib=false, libperl=libperl.a
    gnulibc_version='2.19'
  Dynamic Linking:
    dlsrc=dl_dlopen.xs, dlext=so, d_dlsymun=undef, ccdlflags='-Wl,-E'
    cccdlflags='-fPIC', lddlflags='-shared -O2 -L/usr/local/lib -fstack-protector'


Characteristics of this binary (from libperl): 
  Compile-time options: HAS_TIMES MULTIPLICITY PERLIO_LAYERS
                        PERL_COPY_ON_WRITE PERL_DONT_CREATE_GVSV
                        PERL_HASH_FUNC_ONE_AT_A_TIME_HARD
                        PERL_IMPLICIT_CONTEXT PERL_MALLOC_WRAP
                        PERL_PRESERVE_IVUV PERL_USE_DEVEL USE_64_BIT_ALL
                        USE_64_BIT_INT USE_ITHREADS USE_LARGE_FILES
                        USE_LOCALE USE_LOCALE_COLLATE USE_LOCALE_CTYPE
                        USE_LOCALE_NUMERIC USE_LOCALE_TIME USE_LONG_DOUBLE
                        USE_PERLIO USE_PERL_ATOF USE_REENTRANT_API
  Locally applied patches:
	Devel::PatchPerl 1.38
  Built under linux
  Compiled at Feb 29 2016 11:35:07
  %ENV:
    PERL5LIB=""
    PERL5OPT=""
    PERL5_CPANPLUS_IS_RUNNING="15626"
    PERL5_CPAN_IS_RUNNING="15626"
    PERL5_CPAN_IS_RUNNING_IN_RECURSION="3090,15626"
    PERLBREW_BASHRC_VERSION="0.74"
    PERLBREW_HOME="/home/perlbrew/.perlbrew"
    PERLBREW_MANPATH="/opt/perlbrew/perls/perl-5.23.8-thread-multi-ld/man"
    PERLBREW_PATH="/opt/perlbrew/bin:/opt/perlbrew/perls/perl-5.23.8-thread-multi-ld/bin"
    PERLBREW_PERL="perl-5.23.8-thread-multi-ld"
    PERLBREW_ROOT="/opt/perlbrew"
    PERLBREW_VERSION="0.74"
    PERL_CPANM_OPT="--mirror http://cpan.cpantesters.org"
    PERL_CR_SMOKER_CURRENT="IO-Iron-0.11"
    PERL_EXTUTILS_AUTOINSTALL="--defaultdeps"
    PERL_MM_USE_DEFAULT="1"
  @INC:
    /opt/perlbrew/perls/perl-5.23.8-thread-multi-ld/lib/site_perl/5.23.8/x86_64-linux-thread-multi-ld
    /opt/perlbrew/perls/perl-5.23.8-thread-multi-ld/lib/site_perl/5.23.8
    /opt/perlbrew/perls/perl-5.23.8-thread-multi-ld/lib/5.23.8/x86_64-linux-thread-multi-ld
    /opt/perlbrew/perls/perl-5.23.8-thread-multi-ld/lib/5.23.8
    .