Getopt-Euclid v0.4.8 Perl 5 v5.41.12 x86_64-linux
- Status
- Pass
- From
- Slaven Rezić
- Dist
-
Getopt-Euclid v0.4.8
- Platform
- Perl 5 v5.41.12 x86_64-linux
- Date
- 2025-04-23 19:55:21
- ID
- e3661a62-207c-11f0-b6ea-ac0b6e8775ea
This distribution has been tested as part of the CPAN Testers
project, supporting the Perl programming language. See
http://wiki.cpantesters.org/ for more information or email
questions to cpan-testers-discuss@perl.org
--
Dear David Precious,
This is a computer-generated report for Getopt-Euclid-0.4.8
on perl 5.41.12, created by CPAN-Reporter-1.2020.
Thank you for uploading your work to CPAN. Congratulations!
All tests were successful.
Sections of this report:
* Tester comments
* Program output
* Prerequisites
* Environment and other context
------------------------------
TESTER COMMENTS
------------------------------
Additional comments from tester:
none provided
------------------------------
PROGRAM OUTPUT
------------------------------
Output from '/usr/bin/make test':
PERL_DL_NONLAZY=1 "/opt/perl-5.41.12/bin/perl5.41.12" "-MExtUtils::Command::MM" "-MTest::Harness" "-e" "undef *Test::Harness::Switches; test_harness(0, 'blib/lib', 'blib/arch')" t/*.t
# Testing Getopt::Euclid 0.4.5
t/00.load.t ..................... ok
t/any_array.t ................... ok
t/bundle.t ...................... ok
t/compile.t ..................... ok
t/defer.t ....................... ok
t/defer_all.t ................... ok
t/empty_ARGV_array.t ............ ok
t/entity_angles.t ............... ok
t/eval.t ........................ ok
t/excludes.t .................... ok
t/fail_bad_constraint.t ......... ok
t/fail_bad_default.t ............ ok
t/fail_bad_default_ref.t ........ ok
t/fail_bad_excludes.t ........... ok
t/fail_bad_excludes_2.t ......... ok
t/fail_bad_name.t ............... ok
t/fail_bad_name_2.t ............. ok
t/fail_bad_opt_default.t ........ ok
t/fail_bad_opt_default_2.t ...... ok
t/fail_excludes_msg.t ........... ok
t/fail_minimal_clash.t .......... ok
t/fail_misplaced_type.t ......... ok
t/fail_missing_required.t ....... ok
t/fail_missing_var.t ............ ok
t/fail_missing_var_2.t .......... ok
t/fail_no_spec.t ................ ok
t/fail_quoted_args.t ............ ok
t/fail_type.t ................... ok
t/fail_type_msg.t ............... ok
t/fail_type_msg_2.t ............. ok
t/fail_unknown_arg.t ............ ok
t/fail_unknown_mode.t ........... ok
t/fail_unknown_spec.t ........... ok
t/fail_unknown_spec_2.t ......... ok
t/fail_unknown_type.t ........... ok
t/fail_user_constraint.t ........ ok
t/fail_user_constraint_comma.t .. ok
t/fail_user_constraint_type.t ... ok
t/false.t ....................... ok
t/hier.t ........................ ok
t/hier_2.t ...................... ok
t/hier_export.t ................. ok
t/hier_no_pod.t ................. ok
t/ignore_decorations.t .......... ok
t/insert_defaults.t ............. ok
t/minimal.t ..................... ok
t/minimal_2.t ................... ok
t/opt_default.t ................. ok
t/pod.t ......................... ok
t/pod_cmd_after_cut.t ........... ok
t/pod_coverage.t ................ ok
t/pod_file.t .................... ok
t/quoted_args.t ................. ok
t/quoted_args_2.t ............... ok
t/repeatable.t .................. ok
t/repeated.t .................... ok
t/repeated_2.t .................. ok
t/simple.t ...................... ok
t/simple_alternate.t ............ ok
t/simple_shuffle.t .............. ok
t/std_arguments.t ............... ok
t/substr.t ...................... ok
t/substr_2.t .................... ok
t/types.t ....................... ok
t/types_regex.t ................. ok
t/types_vars.t .................. ok
t/vars_export.t ................. ok
All tests successful.
Files=67, Tests=679, 7 wallclock secs ( 0.35 usr 0.18 sys + 5.90 cusr 0.88 csys = 7.31 CPU)
Result: PASS
------------------------------
PREREQUISITES
------------------------------
Prerequisite modules loaded:
requires:
Module Need Have
--------------------- -------- --------
Carp 0 1.54
File::Basename 0 2.86
File::Spec::Functions 0 3.94
IO::Page 0 0.02
IO::Pager::Page 0 1.04
List::Util 0 1.68_01
perl 5.006001 5.041012
Pod::PlainText 0 2.07
Pod::Select 0 1.67
re 0 0.47
strict 0 1.13
Symbol 0 1.09
Text::Balanced 0 2.06
version 0 0.9933
warnings 0 1.74
build_requires:
Module Need Have
--------------------- -------- --------
Data::Dumper 0 2.192
ExtUtils::MakeMaker 0 7.74
lib 0 0.65
Pod::Checker 0 1.77
Test::More 0 1.302210
configure_requires:
Module Need Have
--------------------- -------- --------
ExtUtils::MakeMaker 0 7.74
------------------------------
ENVIRONMENT AND OTHER CONTEXT
------------------------------
Environment variables:
LANG = C
PATH = /usr/local/bin:/usr/bin:/bin:/usr/local/sbin:/usr/sbin:/sbin:/home/cpansand/bin/linux-gnu:/home/cpansand/bin/sh:/home/cpansand/bin:/usr/games:/home/cpansand/devel:/home/eserte/src/srezic-misc/scripts
PERL5LIB =
PERL5OPT =
PERL5_CPANPLUS_IS_RUNNING = 2155961
PERL5_CPAN_IS_RUNNING = 2155961
PERL5_CPAN_IS_RUNNING_IN_RECURSION = 2082827,2155961
PERLDOC = -MPod::Perldoc::ToTextOverstrike
PERL_BATCH = yes
PERL_CANARY_STABILITY_NOPROMPT = 1
PERL_CPAN_REPORTER_CONFIG = /var/tmp/cpansmoker-1023/2025042317/cpanreporter_000_config.ini
PERL_EXTUTILS_AUTOINSTALL = --defaultdeps
PERL_USE_UNSAFE_INC = 1
SHELL = /usr/bin/zsh
TERM = screen
TMPDIR = /var/tmp/cpansmoker-1023/2025042317
Perl special variables (and OS-specific diagnostics, for MSWin32):
$^X = /opt/perl-5.41.12/bin/perl5.41.12
$UID/$EUID = 1023 / 1023
$GID = 1023 1023
$EGID = 1023 1023
Perl module toolchain versions installed:
Module Have
------------------- --------
CPAN 2.38
CPAN::Meta 2.150010
Cwd 3.94
ExtUtils::CBuilder 0.280240
ExtUtils::Command 7.74
ExtUtils::Install 2.22
ExtUtils::MakeMaker 7.74
ExtUtils::Manifest 1.75
ExtUtils::ParseXS 3.57
File::Spec 3.94
JSON 4.10
JSON::PP 4.16
Module::Build 0.4234
Module::Signature n/a
Parse::CPAN::Meta 2.150010
Test2 1.302210
Test::Harness 3.50
Test::More 1.302210
YAML 1.31
YAML::Syck 1.34
version 0.9933
--
Summary of my perl5 (revision 5 version 41 subversion 12) configuration:
Platform:
osname=linux
osvers=6.1.0-33-amd64
archname=x86_64-linux
uname='linux cloud5.bbbike.org 6.1.0-33-amd64 #1 smp preempt_dynamic debian 6.1.133-1 (2025-04-10) x86_64 gnulinux '
config_args='-ds -e -Dprefix=/opt/perl-5.41.12 -Uinstallusrbinperl -Dusedevel -Dusemallocwrap=no -Dcf_email=srezic@cpan.org'
hint=recommended
useposix=true
d_sigaction=define
useithreads=undef
usemultiplicity=undef
use64bitint=define
use64bitall=define
uselongdouble=undef
usemymalloc=n
default_inc_excludes_dot=define
Compiler:
cc='cc'
ccflags ='-fwrapv -fno-strict-aliasing -pipe -fstack-protector-strong -I/usr/local/include -D_LARGEFILE_SOURCE -D_FILE_OFFSET_BITS=64 -D_FORTIFY_SOURCE=2'
optimize='-O2'
cppflags='-fwrapv -fno-strict-aliasing -pipe -fstack-protector-strong -I/usr/local/include'
ccversion=''
gccversion='12.2.0'
gccosandvers=''
intsize=4
longsize=8
ptrsize=8
doublesize=8
byteorder=12345678
doublekind=3
d_longlong=define
longlongsize=8
d_longdbl=define
longdblsize=16
longdblkind=3
ivtype='long'
ivsize=8
nvtype='double'
nvsize=8
Off_t='off_t'
lseeksize=8
alignbytes=8
prototype=define
Linker and Libraries:
ld='cc'
ldflags =' -fstack-protector-strong -L/usr/local/lib'
libpth=/usr/local/lib /usr/lib/x86_64-linux-gnu /usr/lib /usr/lib64
libs=-lpthread -lgdbm -ldb -ldl -lm -lcrypt -lutil -lc
perllibs=-lpthread -ldl -lm -lcrypt -lutil -lc
libc=/lib/x86_64-linux-gnu/libc.so.6
so=so
useshrplib=false
libperl=libperl.a
gnulibc_version='2.36'
Dynamic Linking:
dlsrc=dl_dlopen.xs
dlext=so
d_dlsymun=undef
ccdlflags='-Wl,-E'
cccdlflags='-fPIC'
lddlflags='-shared -O2 -L/usr/local/lib -fstack-protector-strong'
Characteristics of this binary (from libperl):
Compile-time options:
HAS_LONG_DOUBLE
HAS_STRTOLD
HAS_TIMES
PERLIO_LAYERS
PERL_COPY_ON_WRITE
PERL_DONT_CREATE_GVSV
PERL_HASH_FUNC_SIPHASH13
PERL_HASH_USE_SBOX32
PERL_OP_PARENT
PERL_PRESERVE_IVUV
PERL_USE_DEVEL
PERL_USE_SAFE_PUTENV
USE_64_BIT_ALL
USE_64_BIT_INT
USE_LARGE_FILES
USE_LOCALE
USE_LOCALE_COLLATE
USE_LOCALE_CTYPE
USE_LOCALE_NUMERIC
USE_LOCALE_TIME
USE_PERLIO
USE_PERL_ATOF
Built under linux
Compiled at Apr 23 2025 15:17:31
%ENV:
PERL5LIB=""
PERL5OPT=""
PERL5_CPANPLUS_IS_RUNNING="2155961"
PERL5_CPAN_IS_RUNNING="2155961"
PERL5_CPAN_IS_RUNNING_IN_RECURSION="2082827,2155961"
PERLDOC="-MPod::Perldoc::ToTextOverstrike"
PERL_BATCH="yes"
PERL_CANARY_STABILITY_NOPROMPT="1"
PERL_CPAN_REPORTER_CONFIG="/var/tmp/cpansmoker-1023/2025042317/cpanreporter_000_config.ini"
PERL_EXTUTILS_AUTOINSTALL="--defaultdeps"
PERL_USE_UNSAFE_INC="1"
@INC:
/opt/perl-5.41.12/lib/site_perl/5.41.12/x86_64-linux
/opt/perl-5.41.12/lib/site_perl/5.41.12
/opt/perl-5.41.12/lib/5.41.12/x86_64-linux
/opt/perl-5.41.12/lib/5.41.12
.