Paper-Specs v0.10 Perl 5 v5.36.0 x86_64-linux

Status
Pass
From
Nedzad Hrnjica (NHRNJICA)
Dist
Paper-Specs v0.10
Platform
Perl 5 v5.36.0 x86_64-linux
Date
2022-07-25 18:23:32
ID
e35d524e-0c46-11ed-bedd-a51102f29030
This distribution has been tested as part of the CPAN Testers
project, supporting the Perl programming language.  See
http://wiki.cpantesters.org/ for more information or email
questions to cpan-testers-discuss@perl.org


--
Dear JONALLEN,

This is a computer-generated report for Paper-Specs-0.10
on perl 5.36.0, created by App::cpanminus::reporter 0.17 (1.7046).

Thank you for uploading your work to CPAN.  Congratulations!
All tests were successful.

Sections of this report:

    * Tester comments
    * Program output
    * Prerequisites
    * Environment and other context

------------------------------
TESTER COMMENTS
------------------------------

Additional comments from tester:

none provided

------------------------------
PROGRAM OUTPUT
------------------------------

Output from '':

Building and testing Paper-Specs-0.10
cp lib/Paper/Specs/Avery/5066.pm blib/lib/Paper/Specs/Avery/5066.pm
cp lib/Paper/Specs/Avery/2180_2.pm blib/lib/Paper/Specs/Avery/2180_2.pm
cp lib/Paper/Specs/Avery/2164_1.pm blib/lib/Paper/Specs/Avery/2164_1.pm
cp lib/Paper/Specs/Avery/2160_2.pm blib/lib/Paper/Specs/Avery/2160_2.pm
cp lib/Paper/Specs/Avery/5095.pm blib/lib/Paper/Specs/Avery/5095.pm
cp lib/Paper/Specs.pm blib/lib/Paper/Specs.pm
cp lib/Paper/Specs/Avery/5161.pm blib/lib/Paper/Specs/Avery/5161.pm
cp lib/Paper/Specs/Avery/2163_1.pm blib/lib/Paper/Specs/Avery/2163_1.pm
cp lib/Paper/Specs/Avery/2186_1.pm blib/lib/Paper/Specs/Avery/2186_1.pm
cp lib/Paper/Specs/Avery/2162_2.pm blib/lib/Paper/Specs/Avery/2162_2.pm
cp lib/Paper/Specs/Avery.pm blib/lib/Paper/Specs/Avery.pm
cp lib/Paper/Specs/Avery/3268.pm blib/lib/Paper/Specs/Avery/3268.pm
cp lib/Paper/Specs/Avery/3266.pm blib/lib/Paper/Specs/Avery/3266.pm
cp lib/Paper/Specs/Avery/3269.pm blib/lib/Paper/Specs/Avery/3269.pm
cp lib/Paper/Specs/Avery/3277.pm blib/lib/Paper/Specs/Avery/3277.pm
cp lib/Paper/Specs/Avery/2180_1.pm blib/lib/Paper/Specs/Avery/2180_1.pm
cp lib/Paper/Specs/Avery/5166.pm blib/lib/Paper/Specs/Avery/5166.pm
cp lib/Paper/Specs/Avery/5167.pm blib/lib/Paper/Specs/Avery/5167.pm
cp lib/Paper/Specs/Avery/5164.pm blib/lib/Paper/Specs/Avery/5164.pm
cp lib/Paper/Specs/Avery/3256.pm blib/lib/Paper/Specs/Avery/3256.pm
cp lib/Paper/Specs/Avery/5165.pm blib/lib/Paper/Specs/Avery/5165.pm
cp lib/Paper/Specs/Avery/5162.pm blib/lib/Paper/Specs/Avery/5162.pm
cp lib/Paper/Specs/Avery/2160_1.pm blib/lib/Paper/Specs/Avery/2160_1.pm
cp lib/Paper/Specs/Avery/3260.pm blib/lib/Paper/Specs/Avery/3260.pm
cp lib/Paper/Specs/Avery/2164_2.pm blib/lib/Paper/Specs/Avery/2164_2.pm
cp lib/Paper/Specs/Avery/3259.pm blib/lib/Paper/Specs/Avery/3259.pm
cp lib/Paper/Specs/Avery/2181_1.pm blib/lib/Paper/Specs/Avery/2181_1.pm
cp lib/Paper/Specs/Avery/5163.pm blib/lib/Paper/Specs/Avery/5163.pm
cp lib/Paper/Specs/Avery/2186_2.pm blib/lib/Paper/Specs/Avery/2186_2.pm
cp lib/Paper/Specs/Avery/3251.pm blib/lib/Paper/Specs/Avery/3251.pm
cp lib/Paper/Specs/Avery/2181_2.pm blib/lib/Paper/Specs/Avery/2181_2.pm
cp lib/Paper/Specs/Avery/2163_2.pm blib/lib/Paper/Specs/Avery/2163_2.pm
cp lib/Paper/Specs/Avery/5096.pm blib/lib/Paper/Specs/Avery/5096.pm
cp lib/Paper/Specs/Avery/3263.pm blib/lib/Paper/Specs/Avery/3263.pm
cp lib/Paper/Specs/Avery/5160.pm blib/lib/Paper/Specs/Avery/5160.pm
cp lib/Paper/Specs/Avery/3265.pm blib/lib/Paper/Specs/Avery/3265.pm
cp lib/Paper/Specs/Avery/2162_1.pm blib/lib/Paper/Specs/Avery/2162_1.pm
cp lib/Paper/Specs/Avery/5371.pm blib/lib/Paper/Specs/Avery/5371.pm
cp lib/Paper/Specs/Avery/5305.pm blib/lib/Paper/Specs/Avery/5305.pm
cp lib/Paper/Specs/Avery/5376.pm blib/lib/Paper/Specs/Avery/5376.pm
cp lib/Paper/Specs/Avery/5364_2.pm blib/lib/Paper/Specs/Avery/5364_2.pm
cp lib/Paper/Specs/Avery/5263.pm blib/lib/Paper/Specs/Avery/5263.pm
cp lib/Paper/Specs/Avery/5266.pm blib/lib/Paper/Specs/Avery/5266.pm
cp lib/Paper/Specs/Avery/5390.pm blib/lib/Paper/Specs/Avery/5390.pm
cp lib/Paper/Specs/Avery/5395.pm blib/lib/Paper/Specs/Avery/5395.pm
cp lib/Paper/Specs/Avery/5383.pm blib/lib/Paper/Specs/Avery/5383.pm
cp lib/Paper/Specs/Avery/5261.pm blib/lib/Paper/Specs/Avery/5261.pm
cp lib/Paper/Specs/Avery/5264.pm blib/lib/Paper/Specs/Avery/5264.pm
cp lib/Paper/Specs/Avery/5196.pm blib/lib/Paper/Specs/Avery/5196.pm
cp lib/Paper/Specs/Avery/5315.pm blib/lib/Paper/Specs/Avery/5315.pm
cp lib/Paper/Specs/Avery/5361_2.pm blib/lib/Paper/Specs/Avery/5361_2.pm
cp lib/Paper/Specs/Avery/5199_2.pm blib/lib/Paper/Specs/Avery/5199_2.pm
cp lib/Paper/Specs/Avery/5377.pm blib/lib/Paper/Specs/Avery/5377.pm
cp lib/Paper/Specs/Avery/5294.pm blib/lib/Paper/Specs/Avery/5294.pm
cp lib/Paper/Specs/Avery/5260.pm blib/lib/Paper/Specs/Avery/5260.pm
cp lib/Paper/Specs/Avery/5265.pm blib/lib/Paper/Specs/Avery/5265.pm
cp lib/Paper/Specs/Avery/5392.pm blib/lib/Paper/Specs/Avery/5392.pm
cp lib/Paper/Specs/Avery/5293.pm blib/lib/Paper/Specs/Avery/5293.pm
cp lib/Paper/Specs/Avery/5384.pm blib/lib/Paper/Specs/Avery/5384.pm
cp lib/Paper/Specs/Avery/5388.pm blib/lib/Paper/Specs/Avery/5388.pm
cp lib/Paper/Specs/Avery/5385.pm blib/lib/Paper/Specs/Avery/5385.pm
cp lib/Paper/Specs/Avery/5364_1.pm blib/lib/Paper/Specs/Avery/5364_1.pm
cp lib/Paper/Specs/Avery/5198.pm blib/lib/Paper/Specs/Avery/5198.pm
cp lib/Paper/Specs/Avery/5168.pm blib/lib/Paper/Specs/Avery/5168.pm
cp lib/Paper/Specs/Avery/5660.pm blib/lib/Paper/Specs/Avery/5660.pm
cp lib/Paper/Specs/Avery/5309.pm blib/lib/Paper/Specs/Avery/5309.pm
cp lib/Paper/Specs/Avery/5389.pm blib/lib/Paper/Specs/Avery/5389.pm
cp lib/Paper/Specs/Avery/5262.pm blib/lib/Paper/Specs/Avery/5262.pm
cp lib/Paper/Specs/Avery/5366.pm blib/lib/Paper/Specs/Avery/5366.pm
cp lib/Paper/Specs/Avery/5386.pm blib/lib/Paper/Specs/Avery/5386.pm
cp lib/Paper/Specs/Avery/5361_1.pm blib/lib/Paper/Specs/Avery/5361_1.pm
cp lib/Paper/Specs/Avery/5362_2.pm blib/lib/Paper/Specs/Avery/5362_2.pm
cp lib/Paper/Specs/Avery/5393.pm blib/lib/Paper/Specs/Avery/5393.pm
cp lib/Paper/Specs/Avery/5199_1.pm blib/lib/Paper/Specs/Avery/5199_1.pm
cp lib/Paper/Specs/Avery/5997_2.pm blib/lib/Paper/Specs/Avery/5997_2.pm
cp lib/Paper/Specs/Avery/5895.pm blib/lib/Paper/Specs/Avery/5895.pm
cp lib/Paper/Specs/Avery/5896.pm blib/lib/Paper/Specs/Avery/5896.pm
cp lib/Paper/Specs/Avery/5925_1.pm blib/lib/Paper/Specs/Avery/5925_1.pm
cp lib/Paper/Specs/Avery/5979.pm blib/lib/Paper/Specs/Avery/5979.pm
cp lib/Paper/Specs/Avery/5824.pm blib/lib/Paper/Specs/Avery/5824.pm
cp lib/Paper/Specs/Avery/5966.pm blib/lib/Paper/Specs/Avery/5966.pm
cp lib/Paper/Specs/Avery/5963.pm blib/lib/Paper/Specs/Avery/5963.pm
cp lib/Paper/Specs/Avery/5922.pm blib/lib/Paper/Specs/Avery/5922.pm
cp lib/Paper/Specs/Avery/5998.pm blib/lib/Paper/Specs/Avery/5998.pm
cp lib/Paper/Specs/Avery/5980.pm blib/lib/Paper/Specs/Avery/5980.pm
cp lib/Paper/Specs/Avery/5766.pm blib/lib/Paper/Specs/Avery/5766.pm
cp lib/Paper/Specs/Avery/5931_2.pm blib/lib/Paper/Specs/Avery/5931_2.pm
cp lib/Paper/Specs/Avery/5972.pm blib/lib/Paper/Specs/Avery/5972.pm
cp lib/Paper/Specs/Avery/5925_2.pm blib/lib/Paper/Specs/Avery/5925_2.pm
cp lib/Paper/Specs/Avery/5960.pm blib/lib/Paper/Specs/Avery/5960.pm
cp lib/Paper/Specs/Avery/5911.pm blib/lib/Paper/Specs/Avery/5911.pm
cp lib/Paper/Specs/Avery/5931_1.pm blib/lib/Paper/Specs/Avery/5931_1.pm
cp lib/Paper/Specs/Avery/5881.pm blib/lib/Paper/Specs/Avery/5881.pm
cp lib/Paper/Specs/Avery/5661.pm blib/lib/Paper/Specs/Avery/5661.pm
cp lib/Paper/Specs/Avery/5925_3.pm blib/lib/Paper/Specs/Avery/5925_3.pm
cp lib/Paper/Specs/Avery/5970.pm blib/lib/Paper/Specs/Avery/5970.pm
cp lib/Paper/Specs/Avery/5884.pm blib/lib/Paper/Specs/Avery/5884.pm
cp lib/Paper/Specs/Avery/5930.pm blib/lib/Paper/Specs/Avery/5930.pm
cp lib/Paper/Specs/Avery/5961.pm blib/lib/Paper/Specs/Avery/5961.pm
cp lib/Paper/Specs/Avery/5883.pm blib/lib/Paper/Specs/Avery/5883.pm
cp lib/Paper/Specs/Avery/5975.pm blib/lib/Paper/Specs/Avery/5975.pm
cp lib/Paper/Specs/Avery/5889.pm blib/lib/Paper/Specs/Avery/5889.pm
cp lib/Paper/Specs/Avery/5871.pm blib/lib/Paper/Specs/Avery/5871.pm
cp lib/Paper/Specs/Avery/5662.pm blib/lib/Paper/Specs/Avery/5662.pm
cp lib/Paper/Specs/Avery/5997_1.pm blib/lib/Paper/Specs/Avery/5997_1.pm
cp lib/Paper/Specs/Avery/5663.pm blib/lib/Paper/Specs/Avery/5663.pm
cp lib/Paper/Specs/Avery/5971.pm blib/lib/Paper/Specs/Avery/5971.pm
cp lib/Paper/Specs/Avery/5667.pm blib/lib/Paper/Specs/Avery/5667.pm
cp lib/Paper/Specs/Avery/5664.pm blib/lib/Paper/Specs/Avery/5664.pm
cp lib/Paper/Specs/Avery/5666.pm blib/lib/Paper/Specs/Avery/5666.pm
cp lib/Paper/Specs/Avery/5866.pm blib/lib/Paper/Specs/Avery/5866.pm
cp lib/Paper/Specs/Avery/6464.pm blib/lib/Paper/Specs/Avery/6464.pm
cp lib/Paper/Specs/Avery/6460.pm blib/lib/Paper/Specs/Avery/6460.pm
cp lib/Paper/Specs/Avery/8163.pm blib/lib/Paper/Specs/Avery/8163.pm
cp lib/Paper/Specs/Avery/74552.pm blib/lib/Paper/Specs/Avery/74552.pm
cp lib/Paper/Specs/Avery/8316.pm blib/lib/Paper/Specs/Avery/8316.pm
cp lib/Paper/Specs/Avery/6873.pm blib/lib/Paper/Specs/Avery/6873.pm
cp lib/Paper/Specs/Avery/74540.pm blib/lib/Paper/Specs/Avery/74540.pm
cp lib/Paper/Specs/Avery/8167.pm blib/lib/Paper/Specs/Avery/8167.pm
cp lib/Paper/Specs/Avery/6465.pm blib/lib/Paper/Specs/Avery/6465.pm
cp lib/Paper/Specs/Avery/8164.pm blib/lib/Paper/Specs/Avery/8164.pm
cp lib/Paper/Specs/Avery/8196.pm blib/lib/Paper/Specs/Avery/8196.pm
cp lib/Paper/Specs/Avery/8366.pm blib/lib/Paper/Specs/Avery/8366.pm
cp lib/Paper/Specs/Avery/74550.pm blib/lib/Paper/Specs/Avery/74550.pm
cp lib/Paper/Specs/Avery/8161.pm blib/lib/Paper/Specs/Avery/8161.pm
cp lib/Paper/Specs/Avery/6490.pm blib/lib/Paper/Specs/Avery/6490.pm
cp lib/Paper/Specs/Avery/8253.pm blib/lib/Paper/Specs/Avery/8253.pm
cp lib/Paper/Specs/Avery/8255.pm blib/lib/Paper/Specs/Avery/8255.pm
cp lib/Paper/Specs/Avery/8314.pm blib/lib/Paper/Specs/Avery/8314.pm
cp lib/Paper/Specs/Avery/8160.pm blib/lib/Paper/Specs/Avery/8160.pm
cp lib/Paper/Specs/Avery/8324.pm blib/lib/Paper/Specs/Avery/8324.pm
cp lib/Paper/Specs/Avery/8162.pm blib/lib/Paper/Specs/Avery/8162.pm
cp lib/Paper/Specs/Avery/74650.pm blib/lib/Paper/Specs/Avery/74650.pm
cp lib/Paper/Specs/Avery/8257.pm blib/lib/Paper/Specs/Avery/8257.pm
cp lib/Paper/Specs/Avery/8315.pm blib/lib/Paper/Specs/Avery/8315.pm
cp lib/Paper/Specs/Avery/74520.pm blib/lib/Paper/Specs/Avery/74520.pm
cp lib/Paper/Specs/Avery/6467.pm blib/lib/Paper/Specs/Avery/6467.pm
cp lib/Paper/Specs/Avery/8165.pm blib/lib/Paper/Specs/Avery/8165.pm
cp lib/Paper/Specs/Avery/6466.pm blib/lib/Paper/Specs/Avery/6466.pm
cp lib/Paper/Specs/Avery/74551.pm blib/lib/Paper/Specs/Avery/74551.pm
cp lib/Paper/Specs/Avery/8313.pm blib/lib/Paper/Specs/Avery/8313.pm
cp lib/Paper/Specs/Avery/8254.pm blib/lib/Paper/Specs/Avery/8254.pm
cp lib/Paper/Specs/Avery/8317.pm blib/lib/Paper/Specs/Avery/8317.pm
cp lib/Paper/Specs/Avery/6879.pm blib/lib/Paper/Specs/Avery/6879.pm
cp lib/Paper/Specs/Avery/8166.pm blib/lib/Paper/Specs/Avery/8166.pm
cp lib/Paper/Specs/Avery/74558.pm blib/lib/Paper/Specs/Avery/74558.pm
cp lib/Paper/Specs/Avery/74541.pm blib/lib/Paper/Specs/Avery/74541.pm
cp lib/Paper/Specs/Avery/8252.pm blib/lib/Paper/Specs/Avery/8252.pm
cp lib/Paper/Specs/Avery/8923.pm blib/lib/Paper/Specs/Avery/8923.pm
cp lib/Paper/Specs/base/label.pm blib/lib/Paper/Specs/base/label.pm
cp lib/Paper/Specs/Avery/8925_1.pm blib/lib/Paper/Specs/Avery/8925_1.pm
cp lib/Paper/Specs/Avery/8871.pm blib/lib/Paper/Specs/Avery/8871.pm
cp lib/Paper/Specs/Avery/8660.pm blib/lib/Paper/Specs/Avery/8660.pm
cp lib/Paper/Specs/Avery/8931_2.pm blib/lib/Paper/Specs/Avery/8931_2.pm
cp lib/Paper/Specs/Avery/8665.pm blib/lib/Paper/Specs/Avery/8665.pm
cp lib/Paper/Specs/Avery/8464.pm blib/lib/Paper/Specs/Avery/8464.pm
cp lib/Paper/Specs/Avery/8931_5.pm blib/lib/Paper/Specs/Avery/8931_5.pm
cp lib/Paper/Specs/Avery/8663.pm blib/lib/Paper/Specs/Avery/8663.pm
cp lib/Paper/Specs/photo/10x12.pm blib/lib/Paper/Specs/photo/10x12.pm
cp lib/Paper/Specs/Avery/8463.pm blib/lib/Paper/Specs/Avery/8463.pm
cp lib/Paper/Specs/Avery/8877.pm blib/lib/Paper/Specs/Avery/8877.pm
cp lib/Paper/Specs/Avery/8462.pm blib/lib/Paper/Specs/Avery/8462.pm
cp lib/Paper/Specs/photo.pm blib/lib/Paper/Specs/photo.pm
cp lib/Paper/Specs/Avery/8769.pm blib/lib/Paper/Specs/Avery/8769.pm
cp lib/Paper/Specs/Avery/8931_1.pm blib/lib/Paper/Specs/Avery/8931_1.pm
cp lib/Paper/Specs/Avery/8931_4.pm blib/lib/Paper/Specs/Avery/8931_4.pm
cp lib/Paper/Specs/Avery/8376.pm blib/lib/Paper/Specs/Avery/8376.pm
cp lib/Paper/Specs/Avery/8465.pm blib/lib/Paper/Specs/Avery/8465.pm
cp lib/Paper/Specs/Avery/8931_3.pm blib/lib/Paper/Specs/Avery/8931_3.pm
cp lib/Paper/Specs/Avery/8925_3.pm blib/lib/Paper/Specs/Avery/8925_3.pm
cp lib/Paper/Specs/base/sheet.pm blib/lib/Paper/Specs/base/sheet.pm
cp lib/Paper/Specs/Avery/8384.pm blib/lib/Paper/Specs/Avery/8384.pm
cp lib/Paper/Specs/Avery/8387.pm blib/lib/Paper/Specs/Avery/8387.pm
cp lib/Paper/Specs/Avery/8461.pm blib/lib/Paper/Specs/Avery/8461.pm
cp lib/Paper/Specs/Avery/8377.pm blib/lib/Paper/Specs/Avery/8377.pm
cp lib/Paper/Specs/Avery/8373.pm blib/lib/Paper/Specs/Avery/8373.pm
cp lib/Paper/Specs/base/brand.pm blib/lib/Paper/Specs/base/brand.pm
cp lib/Paper/Specs/Avery/8667.pm blib/lib/Paper/Specs/Avery/8667.pm
cp lib/Paper/Specs/Avery/8460.pm blib/lib/Paper/Specs/Avery/8460.pm
cp lib/Paper/Specs/Avery/8662.pm blib/lib/Paper/Specs/Avery/8662.pm
cp lib/Paper/Specs/Avery/8389.pm blib/lib/Paper/Specs/Avery/8389.pm
cp lib/Paper/Specs/Avery/8925_2.pm blib/lib/Paper/Specs/Avery/8925_2.pm
cp lib/Paper/Specs/photo/10x15.pm blib/lib/Paper/Specs/photo/10x15.pm
cp lib/Paper/Specs/Avery/8371.pm blib/lib/Paper/Specs/Avery/8371.pm
cp lib/Paper/Specs/Avery/8763.pm blib/lib/Paper/Specs/Avery/8763.pm
cp lib/Paper/Specs/standard.pm blib/lib/Paper/Specs/standard.pm
cp lib/Paper/Specs/photo/20x30.pm blib/lib/Paper/Specs/photo/20x30.pm
cp lib/Paper/Specs/photo/8x6.pm blib/lib/Paper/Specs/photo/8x6.pm
cp lib/Paper/Specs/standard/a2.pm blib/lib/Paper/Specs/standard/a2.pm
cp lib/Paper/Specs/photo/9x6.pm blib/lib/Paper/Specs/photo/9x6.pm
cp lib/Paper/Specs/photo/12x8.pm blib/lib/Paper/Specs/photo/12x8.pm
cp lib/Paper/Specs/standard/a.pm blib/lib/Paper/Specs/standard/a.pm
cp lib/Paper/Specs/standard/a7.pm blib/lib/Paper/Specs/standard/a7.pm
cp lib/Paper/Specs/photo/40x30.pm blib/lib/Paper/Specs/photo/40x30.pm
cp lib/Paper/Specs/photo/7x5.pm blib/lib/Paper/Specs/photo/7x5.pm
cp lib/Paper/Specs/photo/16x20.pm blib/lib/Paper/Specs/photo/16x20.pm
cp lib/Paper/Specs/standard/b0.pm blib/lib/Paper/Specs/standard/b0.pm
cp lib/Paper/Specs/standard/a8.pm blib/lib/Paper/Specs/standard/a8.pm
cp lib/Paper/Specs/standard/a6.pm blib/lib/Paper/Specs/standard/a6.pm
cp lib/Paper/Specs/photo/20x16.pm blib/lib/Paper/Specs/photo/20x16.pm
cp lib/Paper/Specs/photo/8x10.pm blib/lib/Paper/Specs/photo/8x10.pm
cp lib/Paper/Specs/standard/a3.pm blib/lib/Paper/Specs/standard/a3.pm
cp lib/Paper/Specs/photo/6x8.pm blib/lib/Paper/Specs/photo/6x8.pm
cp lib/Paper/Specs/standard/a9.pm blib/lib/Paper/Specs/standard/a9.pm
cp lib/Paper/Specs/standard/a5.pm blib/lib/Paper/Specs/standard/a5.pm
cp lib/Paper/Specs/photo/5x7.pm blib/lib/Paper/Specs/photo/5x7.pm
cp lib/Paper/Specs/standard/4a0.pm blib/lib/Paper/Specs/standard/4a0.pm
cp lib/Paper/Specs/photo/6x4.pm blib/lib/Paper/Specs/photo/6x4.pm
cp lib/Paper/Specs/standard/a10.pm blib/lib/Paper/Specs/standard/a10.pm
cp lib/Paper/Specs/photo/30x40.pm blib/lib/Paper/Specs/photo/30x40.pm
cp lib/Paper/Specs/photo/12x10.pm blib/lib/Paper/Specs/photo/12x10.pm
cp lib/Paper/Specs/standard/a0.pm blib/lib/Paper/Specs/standard/a0.pm
cp lib/Paper/Specs/photo/8x12.pm blib/lib/Paper/Specs/photo/8x12.pm
cp lib/Paper/Specs/photo/15x10.pm blib/lib/Paper/Specs/photo/15x10.pm
cp lib/Paper/Specs/photo/4x6.pm blib/lib/Paper/Specs/photo/4x6.pm
cp lib/Paper/Specs/standard/a4.pm blib/lib/Paper/Specs/standard/a4.pm
cp lib/Paper/Specs/photo/10x8.pm blib/lib/Paper/Specs/photo/10x8.pm
cp lib/Paper/Specs/standard/a1.pm blib/lib/Paper/Specs/standard/a1.pm
cp lib/Paper/Specs/standard/b.pm blib/lib/Paper/Specs/standard/b.pm
cp lib/Paper/Specs/standard/2a0.pm blib/lib/Paper/Specs/standard/2a0.pm
cp lib/Paper/Specs/photo/6x9.pm blib/lib/Paper/Specs/photo/6x9.pm
cp lib/Paper/Specs/photo/30x20.pm blib/lib/Paper/Specs/photo/30x20.pm
cp lib/Paper/Specs/standard/b2_jis.pm blib/lib/Paper/Specs/standard/b2_jis.pm
cp lib/Paper/Specs/standard/b4.pm blib/lib/Paper/Specs/standard/b4.pm
cp lib/Paper/Specs/standard/b5.pm blib/lib/Paper/Specs/standard/b5.pm
cp lib/Paper/Specs/standard/b1.pm blib/lib/Paper/Specs/standard/b1.pm
cp lib/Paper/Specs/standard/b7.pm blib/lib/Paper/Specs/standard/b7.pm
cp lib/Paper/Specs/standard/c3.pm blib/lib/Paper/Specs/standard/c3.pm
cp lib/Paper/Specs/standard/c4.pm blib/lib/Paper/Specs/standard/c4.pm
cp lib/Paper/Specs/standard/b6_envelope.pm blib/lib/Paper/Specs/standard/b6_envelope.pm
cp lib/Paper/Specs/standard/b10.pm blib/lib/Paper/Specs/standard/b10.pm
cp lib/Paper/Specs/standard/c5.pm blib/lib/Paper/Specs/standard/c5.pm
cp lib/Paper/Specs/standard/b0_jis.pm blib/lib/Paper/Specs/standard/b0_jis.pm
cp lib/Paper/Specs/standard/b4_envelope.pm blib/lib/Paper/Specs/standard/b4_envelope.pm
cp lib/Paper/Specs/standard/b3.pm blib/lib/Paper/Specs/standard/b3.pm
cp lib/Paper/Specs/standard/b9.pm blib/lib/Paper/Specs/standard/b9.pm
cp lib/Paper/Specs/standard/c2.pm blib/lib/Paper/Specs/standard/c2.pm
cp lib/Paper/Specs/standard/c.pm blib/lib/Paper/Specs/standard/c.pm
cp lib/Paper/Specs/standard/b6_jis.pm blib/lib/Paper/Specs/standard/b6_jis.pm
cp lib/Paper/Specs/standard/c3_envelope.pm blib/lib/Paper/Specs/standard/c3_envelope.pm
cp lib/Paper/Specs/standard/c10.pm blib/lib/Paper/Specs/standard/c10.pm
cp lib/Paper/Specs/standard/c4_envelope.pm blib/lib/Paper/Specs/standard/c4_envelope.pm
cp lib/Paper/Specs/standard/c1.pm blib/lib/Paper/Specs/standard/c1.pm
cp lib/Paper/Specs/standard/b7_jis.pm blib/lib/Paper/Specs/standard/b7_jis.pm
cp lib/Paper/Specs/standard/b5_jis.pm blib/lib/Paper/Specs/standard/b5_jis.pm
cp lib/Paper/Specs/standard/b5_envelope.pm blib/lib/Paper/Specs/standard/b5_envelope.pm
cp lib/Paper/Specs/standard/b2.pm blib/lib/Paper/Specs/standard/b2.pm
cp lib/Paper/Specs/standard/b8_jis.pm blib/lib/Paper/Specs/standard/b8_jis.pm
cp lib/Paper/Specs/standard/b1_jis.pm blib/lib/Paper/Specs/standard/b1_jis.pm
cp lib/Paper/Specs/standard/b3_jis.pm blib/lib/Paper/Specs/standard/b3_jis.pm
cp lib/Paper/Specs/standard/b9_jis.pm blib/lib/Paper/Specs/standard/b9_jis.pm
cp lib/Paper/Specs/standard/b4_jis.pm blib/lib/Paper/Specs/standard/b4_jis.pm
cp lib/Paper/Specs/standard/b8.pm blib/lib/Paper/Specs/standard/b8.pm
cp lib/Paper/Specs/standard/b6.pm blib/lib/Paper/Specs/standard/b6.pm
cp lib/Paper/Specs/standard/c0.pm blib/lib/Paper/Specs/standard/c0.pm
cp lib/Paper/Specs/standard/b10_jis.pm blib/lib/Paper/Specs/standard/b10_jis.pm
cp lib/Paper/Specs/standard/c8.pm blib/lib/Paper/Specs/standard/c8.pm
cp lib/Paper/Specs/standard/no10_envelope.pm blib/lib/Paper/Specs/standard/no10_envelope.pm
cp lib/Paper/Specs/standard/c6.pm blib/lib/Paper/Specs/standard/c6.pm
cp lib/Paper/Specs/standard/c6_envelope.pm blib/lib/Paper/Specs/standard/c6_envelope.pm
cp lib/Paper/Specs/standard/ra4.pm blib/lib/Paper/Specs/standard/ra4.pm
cp lib/Paper/Specs/standard/sra4.pm blib/lib/Paper/Specs/standard/sra4.pm
cp lib/Paper/Specs/standard/c6_c5_envelope.pm blib/lib/Paper/Specs/standard/c6_c5_envelope.pm
cp lib/Paper/Specs/standard/id_1.pm blib/lib/Paper/Specs/standard/id_1.pm
cp lib/Paper/Specs/standard/sra2.pm blib/lib/Paper/Specs/standard/sra2.pm
cp lib/Paper/Specs/standard/e4_envelope.pm blib/lib/Paper/Specs/standard/e4_envelope.pm
cp lib/Paper/Specs/standard/letter.pm blib/lib/Paper/Specs/standard/letter.pm
cp lib/Paper/Specs/standard/c9.pm blib/lib/Paper/Specs/standard/c9.pm
cp lib/Paper/Specs/standard/no12_envelope.pm blib/lib/Paper/Specs/standard/no12_envelope.pm
cp lib/Paper/Specs/standard/ra0.pm blib/lib/Paper/Specs/standard/ra0.pm
cp lib/Paper/Specs/standard/no11_envelope.pm blib/lib/Paper/Specs/standard/no11_envelope.pm
cp lib/Paper/Specs/standard/c5_envelope.pm blib/lib/Paper/Specs/standard/c5_envelope.pm
cp lib/Paper/Specs/standard/legal.pm blib/lib/Paper/Specs/standard/legal.pm
cp lib/Paper/Specs/standard/no9_envelope.pm blib/lib/Paper/Specs/standard/no9_envelope.pm
cp lib/Paper/Specs/standard/dl_envelope.pm blib/lib/Paper/Specs/standard/dl_envelope.pm
cp lib/Paper/Specs/standard/monarch_envelope.pm blib/lib/Paper/Specs/standard/monarch_envelope.pm
cp lib/Paper/Specs/standard/ra3.pm blib/lib/Paper/Specs/standard/ra3.pm
cp lib/Paper/Specs/standard/c7.pm blib/lib/Paper/Specs/standard/c7.pm
cp lib/Paper/Specs/standard/ra1.pm blib/lib/Paper/Specs/standard/ra1.pm
cp lib/Paper/Specs/standard/no7_envelope.pm blib/lib/Paper/Specs/standard/no7_envelope.pm
cp lib/Paper/Specs/standard/ra2.pm blib/lib/Paper/Specs/standard/ra2.pm
cp lib/Paper/Specs/standard/no14_envelope.pm blib/lib/Paper/Specs/standard/no14_envelope.pm
cp lib/Paper/Specs/standard/id_2.pm blib/lib/Paper/Specs/standard/id_2.pm
cp lib/Paper/Specs/standard/sra3.pm blib/lib/Paper/Specs/standard/sra3.pm
cp lib/Paper/Specs/standard/d.pm blib/lib/Paper/Specs/standard/d.pm
cp lib/Paper/Specs/standard/e.pm blib/lib/Paper/Specs/standard/e.pm
cp lib/Paper/Specs/standard/sra1.pm blib/lib/Paper/Specs/standard/sra1.pm
cp lib/Paper/Specs/standard/sra0.pm blib/lib/Paper/Specs/standard/sra0.pm
cp lib/Paper/Specs/standard/tabloid.pm blib/lib/Paper/Specs/standard/tabloid.pm
Manifying 5 pod documents
PERL_DL_NONLAZY=1 "/home/liveapp/.plenv/versions/5.36.0/bin/perl5.36.0" "-MExtUtils::Command::MM" "-MTest::Harness" "-e" "undef *Test::Harness::Switches; test_harness(0, 'blib/lib', 'blib/arch')" t/*.t
t/01_use.t ....... ok
t/90_pod.t ....... ok
t/91_podcover.t .. ok
All tests successful.
Files=3, Tests=579,  1 wallclock secs ( 0.07 usr  0.00 sys +  0.32 cusr  0.06 csys =  0.45 CPU)
Result: PASS

------------------------------
PREREQUISITES
------------------------------

Prerequisite modules loaded:

    No requirements found

------------------------------
ENVIRONMENT AND OTHER CONTEXT
------------------------------

Environment variables:

    LANG = C.UTF-8
    PATH = /home/liveapp/.plenv/versions/5.36.0/bin:/home/liveapp/.plenv/libexec:/home/liveapp/.plenv/plugins/perl-build/bin:/home/liveapp/cpantesters.new/5.36.0/local/bin:/home/liveapp/.plenv/shims:/home/liveapp/.plenv/bin:/usr/local/sbin:/usr/local/bin:/usr/sbin:/usr/bin:/sbin:/bin:/usr/games:/usr/local/games:/snap/bin
    PERL5LIB = /home/liveapp/cpantesters.new/5.36.0/local/lib/perl5
    SHELL = /bin/bash
    TERM = xterm-256color

Perl special variables (and OS-specific diagnostics, for MSWin32):

    EGID = 1001 27 1001
    EUID = 1001
    EXECUTABLE_NAME = /home/liveapp/.plenv/versions/5.36.0/bin/perl5.36.0
    GID = 1001 27 1001
    UID = 1001

Perl module toolchain versions installed:

    Module              Have    
    ------------------- --------
    CPAN                2.33    
    CPAN::Meta          2.150010
    Cwd                 3.84    
    ExtUtils::CBuilder  0.280236
    ExtUtils::Command   7.64    
    ExtUtils::Install   2.20    
    ExtUtils::MakeMaker 7.64    
    ExtUtils::Manifest  1.73    
    ExtUtils::ParseXS   3.45    
    File::Spec          3.84    
    JSON                4.07    
    JSON::PP            4.10    
    Module::Build       0.4231  
    Module::Signature   n/a     
    Parse::CPAN::Meta   2.150010
    Test::Harness       3.44    
    Test::More          1.302191
    YAML                1.30    
    YAML::Syck          1.34    
    version             0.9929  


--

Summary of my perl5 (revision 5 version 36 subversion 0) configuration:
   
  Platform:
    osname=linux
    osvers=5.4.0-91-generic
    archname=x86_64-linux
    uname='linux supremeadmin 5.4.0-91-generic #102-ubuntu smp fri nov 5 16:31:28 utc 2021 x86_64 x86_64 x86_64 gnulinux '
    config_args='-Dprefix=/home/liveapp/.plenv/versions/5.36.0 -de -Dversiononly -A'eval:scriptdir=/home/liveapp/.plenv/versions/5.36.0/bin''
    hint=recommended
    useposix=true
    d_sigaction=define
    useithreads=undef
    usemultiplicity=undef
    use64bitint=define
    use64bitall=define
    uselongdouble=undef
    usemymalloc=n
    default_inc_excludes_dot=define
  Compiler:
    cc='cc'
    ccflags ='-fwrapv -fno-strict-aliasing -pipe -fstack-protector-strong -I/usr/local/include -D_LARGEFILE_SOURCE -D_FILE_OFFSET_BITS=64'
    optimize='-O2'
    cppflags='-fwrapv -fno-strict-aliasing -pipe -fstack-protector-strong -I/usr/local/include'
    ccversion=''
    gccversion='9.4.0'
    gccosandvers=''
    intsize=4
    longsize=8
    ptrsize=8
    doublesize=8
    byteorder=12345678
    doublekind=3
    d_longlong=define
    longlongsize=8
    d_longdbl=define
    longdblsize=16
    longdblkind=3
    ivtype='long'
    ivsize=8
    nvtype='double'
    nvsize=8
    Off_t='off_t'
    lseeksize=8
    alignbytes=8
    prototype=define
  Linker and Libraries:
    ld='cc'
    ldflags =' -fstack-protector-strong -L/usr/local/lib'
    libpth=/usr/local/lib /usr/lib/x86_64-linux-gnu /usr/lib /lib/x86_64-linux-gnu /lib
    libs=-lpthread -lnsl -ldl -lm -lcrypt -lutil -lc
    perllibs=-lpthread -lnsl -ldl -lm -lcrypt -lutil -lc
    libc=libc-2.31.so
    so=so
    useshrplib=false
    libperl=libperl.a
    gnulibc_version='2.31'
  Dynamic Linking:
    dlsrc=dl_dlopen.xs
    dlext=so
    d_dlsymun=undef
    ccdlflags='-Wl,-E'
    cccdlflags='-fPIC'
    lddlflags='-shared -O2 -L/usr/local/lib -fstack-protector-strong'


Characteristics of this binary (from libperl): 
  Compile-time options:
    HAS_TIMES
    PERLIO_LAYERS
    PERL_COPY_ON_WRITE
    PERL_DONT_CREATE_GVSV
    PERL_MALLOC_WRAP
    PERL_OP_PARENT
    PERL_PRESERVE_IVUV
    USE_64_BIT_ALL
    USE_64_BIT_INT
    USE_LARGE_FILES
    USE_LOCALE
    USE_LOCALE_COLLATE
    USE_LOCALE_CTYPE
    USE_LOCALE_NUMERIC
    USE_LOCALE_TIME
    USE_PERLIO
    USE_PERL_ATOF
  Built under linux
  Compiled at Jul 20 2022 21:52:50
  %ENV:
    PERL5LIB="/home/liveapp/cpantesters.new/5.36.0/local/lib/perl5"
  @INC:
    /home/liveapp/cpantesters.new/5.36.0/local/lib/perl5
    /home/liveapp/.plenv/versions/5.36.0/lib/perl5/site_perl/5.36.0/x86_64-linux
    /home/liveapp/.plenv/versions/5.36.0/lib/perl5/site_perl/5.36.0
    /home/liveapp/.plenv/versions/5.36.0/lib/perl5/5.36.0/x86_64-linux
    /home/liveapp/.plenv/versions/5.36.0/lib/perl5/5.36.0