Spreadsheet-ReadSXC v0.39 Perl 5 v5.36.3 amd64-freebsd-thread-multi

Status
Pass
From
Slaven Rezić
Dist
Spreadsheet-ReadSXC v0.39
Platform
Perl 5 v5.36.3 amd64-freebsd-thread-multi
Date
2024-08-15 19:02:16
ID
e355b99c-5b38-11ef-9567-2a0b6e8775ea
This distribution has been tested as part of the CPAN Testers
project, supporting the Perl programming language.  See
http://wiki.cpantesters.org/ for more information or email
questions to cpan-testers-discuss@perl.org


--
Dear Max Maischein,

This is a computer-generated report for Spreadsheet-ReadSXC-0.39
on perl 5.36.3, created by CPAN-Reporter-1.2018.

Thank you for uploading your work to CPAN.  Congratulations!
All tests were successful.

Sections of this report:

    * Tester comments
    * Program output
    * Prerequisites
    * Environment and other context

------------------------------
TESTER COMMENTS
------------------------------

Additional comments from tester:

none provided

------------------------------
PROGRAM OUTPUT
------------------------------

Output from '/usr/bin/make test':

PERL_DL_NONLAZY=1 "/usr/local/bin/perl" "-MExtUtils::Command::MM" "-MTest::Harness" "-e" "undef *Test::Harness::Switches; test_harness(0, 'blib/lib', 'blib/arch')" t/00-load.t t/01-parseods.t t/02-read-fh.t t/02-read-xml-file.t t/03-error-handling.t t/04-hidden-sheet.t t/04-text-outside-xml.t t/05-print-area.t t/06-cell-hyperlink.t t/07-hidden-cols.t t/07-hidden-rows.t t/07-print-headings.t t/08-color.t t/09-formula.t t/1.t t/10-wide-col2int.t t/11-date-formats.t t/12-active-sheet-name.t t/13-merged-areas.t t/14-no-settings.t t/15-gh3-warnings-with-empty-sheet-name.t t/16-gh5-custom-styles.t t/16-warnings-with-styles.t t/17-gh7-OrderBySheet.t t/regression-hidden-cols.t t/regression-hidden-rows.t t/regression-newapi.t t/regression-stockchart.t
# Testing Spreadsheet::ReadSXC 0.39, Perl 5.036003
# Archive::Zip 1.68
# Archive::Zip::Archive 1.68
# Archive::Zip::DirectoryMember 1.68
# Archive::Zip::FileMember 1.68
# Archive::Zip::Member 1.68
# Archive::Zip::NewFileMember 1.68
# Archive::Zip::StringMember 1.68
# Archive::Zip::ZipFileMember 1.68
# Carp 1.52
# Carp::Heavy 1.52
# Class::XSAccessor 1.19
# Class::XSAccessor::Heavy 1.19
# Compress::Raw::Zlib 2.105
# Config 5.036003
# Cwd 3.84
# Encode 3.17
# Encode::Alias 2.24
# Encode::Config 2.05
# Encode::Encoding 2.08
# Encode::MIME::Name 1.03
# Errno 1.36
# Exporter 5.77
# Exporter::Heavy 5.77
# ExtUtils::Liblist 7.64
# ExtUtils::Liblist::Kid 7.64
# ExtUtils::MM 7.64
# ExtUtils::MM_Any 7.64
# ExtUtils::MM_Unix 7.64
# ExtUtils::MY 7.64
# ExtUtils::MakeMaker 7.64
# ExtUtils::MakeMaker::Config 7.64
# ExtUtils::MakeMaker::Locale 7.64
# ExtUtils::MakeMaker::version 7.64
# Fcntl 1.15
# File::Basename 2.85
# File::Copy 2.39
# File::Find 1.40
# File::Glob 1.37
# File::Path 2.18
# File::Spec 3.84
# File::Spec::Unix 3.84
# File::Temp 0.2311
# FileHandle 2.03
# Filter::Simple 0.96
# Filter::Util::Call 1.64
# Filter::signatures 0.19
# I18N::Langinfo 0.21
# IO 1.50
# IO::File 1.48
# IO::Handle 1.48
# IO::Seekable 1.48
# List::Util 1.62
# Method::Generate::Accessor <unknown>
# Method::Generate::Constructor <unknown>
# Moo 2.005005
# Moo::HandleMoose::_TypeMap <unknown>
# Moo::Object <unknown>
# Moo::_Utils <unknown>
# Moo::sification <unknown>
# POSIX 2.03
# PerlIO 1.12
# PerlX::Maybe 1.202
# Scalar::Util 1.62
# SelectSaver 1.02
# Spreadsheet::ParseODS 0.39
# Spreadsheet::ParseODS::Cell 0.39
# Spreadsheet::ParseODS::Settings 0.39
# Spreadsheet::ParseODS::Styles 0.39
# Spreadsheet::ParseODS::Workbook 0.39
# Spreadsheet::ParseODS::Worksheet 0.39
# Spreadsheet::ReadSXC 0.39
# Storable 3.26
# Sub::Defer 2.006008
# Sub::Quote 2.006008
# Sub::Util 1.62
# Symbol 1.09
# Test::Builder 1.302190
# Test::Builder::Formatter 1.302190
# Test::Builder::Module 1.302190
# Test::Builder::TodoDiag 1.302190
# Test::More 1.302190
# Test2::API 1.302190
# Test2::API::Context 1.302190
# Test2::API::Instance 1.302190
# Test2::API::Stack 1.302190
# Test2::Event 1.302190
# Test2::Event::Bail 1.302190
# Test2::Event::Diag 1.302190
# Test2::Event::Exception 1.302190
# Test2::Event::Fail 1.302190
# Test2::Event::Note 1.302190
# Test2::Event::Ok 1.302190
# Test2::Event::Pass 1.302190
# Test2::Event::Plan 1.302190
# Test2::Event::Skip 1.302190
# Test2::Event::Subtest 1.302190
# Test2::Event::V2 1.302190
# Test2::Event::Waiting 1.302190
# Test2::EventFacet 1.302190
# Test2::EventFacet::About 1.302190
# Test2::EventFacet::Amnesty 1.302190
# Test2::EventFacet::Assert 1.302190
# Test2::EventFacet::Control 1.302190
# Test2::EventFacet::Error 1.302190
# Test2::EventFacet::Hub 1.302190
# Test2::EventFacet::Info 1.302190
# Test2::EventFacet::Meta 1.302190
# Test2::EventFacet::Parent 1.302190
# Test2::EventFacet::Plan 1.302190
# Test2::EventFacet::Trace 1.302190
# Test2::Formatter 1.302190
# Test2::Formatter::TAP 1.302190
# Test2::Hub 1.302190
# Test2::Hub::Interceptor 1.302190
# Test2::Hub::Interceptor::Terminator 1.302190
# Test2::Hub::Subtest 1.302190
# Test2::Util 1.302190
# Test2::Util::ExternalMeta 1.302190
# Test2::Util::Facets2Legacy 1.302190
# Test2::Util::HashBase 1.302190
# Test2::Util::Trace 1.302190
# Text::Balanced 2.04
# Tie::Hash 1.06
# Time::HiRes 1.977
# Time::Local 1.30
# UNIVERSAL 1.14
# XML::Parser 2.47
# XML::Parser::Expat 2.47
# XML::Twig 3.52
# XML::Twig::XPath 0.02
# XML::XPathEngine 0.14
# XML::XPathEngine::Boolean <unknown>
# XML::XPathEngine::Expr <unknown>
# XML::XPathEngine::Function <unknown>
# XML::XPathEngine::Literal <unknown>
# XML::XPathEngine::LocationPath <unknown>
# XML::XPathEngine::NodeSet <unknown>
# XML::XPathEngine::Number <unknown>
# XML::XPathEngine::Root <unknown>
# XML::XPathEngine::Step <unknown>
# XML::XPathEngine::Variable <unknown>
# XSLoader 0.31
# XString 0.005
# base 2.27
# builtin 0.006
# bytes 1.08
# constant 1.33
# feature 1.72
# integer 1.01
# mro 1.26
# overload 1.35
# overloading 0.02
# parent 0.238
# strict 1.12
# utf8 1.24
# vars 1.05
# version 0.9929
# version::regex 0.9929
# warnings 1.58
# warnings::register 1.04
t/00-load.t ................................ ok
t/01-parseods.t ............................ ok
t/02-read-fh.t ............................. ok
t/02-read-xml-file.t ....................... ok
t/03-error-handling.t ...................... ok
t/04-hidden-sheet.t ........................ ok
t/04-text-outside-xml.t .................... ok
t/05-print-area.t .......................... ok
t/06-cell-hyperlink.t ...................... ok
t/07-hidden-cols.t ......................... ok
t/07-hidden-rows.t ......................... ok
t/07-print-headings.t ...................... ok
t/08-color.t ............................... ok
t/09-formula.t ............................. ok
t/1.t ...................................... ok
t/10-wide-col2int.t ........................ ok
t/11-date-formats.t ........................ ok
t/12-active-sheet-name.t ................... ok
t/13-merged-areas.t ........................ ok
t/14-no-settings.t ......................... ok
t/15-gh3-warnings-with-empty-sheet-name.t .. ok
t/16-gh5-custom-styles.t ................... ok
t/16-warnings-with-styles.t ................ ok
t/17-gh7-OrderBySheet.t .................... ok
t/regression-hidden-cols.t ................. ok
t/regression-hidden-rows.t ................. ok
t/regression-newapi.t ...................... ok
t/regression-stockchart.t .................. ok
All tests successful.
Files=28, Tests=276, 12 wallclock secs ( 0.09 usr  0.04 sys + 11.60 cusr  0.76 csys = 12.48 CPU)
Result: PASS

------------------------------
PREREQUISITES
------------------------------

Prerequisite modules loaded:

requires:

    Module              Need  Have    
    ------------------- ----- --------
    Archive::Zip        1.34  1.68    
    Carp                0     1.52    
    Filter::signatures  0.16  0.19    
    Moo                 2     2.005005
    perl                5.010 5.036003
    PerlIO::gzip        0     0.20    
    PerlX::Maybe        0     1.202   
    Scalar::Util        0     1.62    
    Storable            0     3.26    
    XML::Twig           3.50  3.52    
    XML::Twig::XPath    0     0.02    
    XML::XPath          0     1.48    
    XML::XPathEngine    0     0.14    

build_requires:

    Module              Need  Have    
    ------------------- ----- --------
    Data::Dumper        0     2.184   
    ExtUtils::MakeMaker 0     7.64    
    File::Basename      0     2.85    
    File::Temp          0     0.2311  
    Test::More          0     1.302190

configure_requires:

    Module              Need  Have    
    ------------------- ----- --------
    ExtUtils::MakeMaker 0     7.64    


------------------------------
ENVIRONMENT AND OTHER CONTEXT
------------------------------

Environment variables:

    PATH = /usr/local/bin:/usr/bin:/bin:/usr/local/sbin:/usr/sbin:/sbin:/home/cpansand/bin/sh:/home/cpansand/bin:/usr/games:/home/cpansand/devel:/usr/home/eserte/src/srezic-misc/scripts
    PERL5LIB = /home/cpansand/.cpan/build/2024081517/XML-XPathEngine-0.14-0/blib/arch:/home/cpansand/.cpan/build/2024081517/XML-XPathEngine-0.14-0/blib/lib:/home/cpansand/.cpan/build/2024081517/XML-XPath-1.48-0/blib/arch:/home/cpansand/.cpan/build/2024081517/XML-XPath-1.48-0/blib/lib:/home/cpansand/.cpan/build/2024081517/Path-Tiny-0.146-0/blib/arch:/home/cpansand/.cpan/build/2024081517/Path-Tiny-0.146-0/blib/lib:/home/cpansand/.cpan/build/2024081517/XML-Twig-3.52-0/blib/arch:/home/cpansand/.cpan/build/2024081517/XML-Twig-3.52-0/blib/lib:/home/cpansand/.cpan/build/2024081517/PerlX-Maybe-1.202-0/blib/arch:/home/cpansand/.cpan/build/2024081517/PerlX-Maybe-1.202-0/blib/lib:/home/cpansand/.cpan/build/2024081517/PerlIO-gzip-0.20-2/blib/arch:/home/cpansand/.cpan/build/2024081517/PerlIO-gzip-0.20-2/blib/lib:/home/cpansand/.cpan/build/2024081517/Filter-signatures-0.19-2/blib/arch:/home/cpansand/.cpan/build/2024081517/Filter-signatures-0.19-2/blib/lib:/home/cpansand/.cpan/build/2024081517/Archive-Zip-1.68-0/blib/arch:/home/cpansand/.cpan/build/2024081517/Archive-Zip-1.68-0/blib/lib
    PERL5OPT = 
    PERL5_CPANPLUS_IS_RUNNING = 35593
    PERL5_CPAN_IS_RUNNING = 35593
    PERL5_CPAN_IS_RUNNING_IN_RECURSION = 32807,35593
    PERL_BATCH = yes
    PERL_CANARY_STABILITY_NOPROMPT = 1
    PERL_CPAN_REPORTER_CONFIG = /var/tmp/cpansmoker-1023/2024081517/cpanreporter_000_config.ini
    PERL_EXTUTILS_AUTOINSTALL = --defaultdeps
    PERL_USE_UNSAFE_INC = 1
    SHELL = /bin/sh
    TMPDIR = /var/tmp/cpansmoker-1023/2024081517

Perl special variables (and OS-specific diagnostics, for MSWin32):

    $^X = /usr/local/bin/perl
    $UID/$EUID = 1023 / 1023
    $GID = 1023 1023
    $EGID = 1023 1023

Perl module toolchain versions installed:

    Module              Have    
    ------------------- --------
    CPAN                2.33    
    CPAN::Meta          2.150010
    Cwd                 3.84    
    ExtUtils::CBuilder  0.280236
    ExtUtils::Command   7.64    
    ExtUtils::Install   2.20    
    ExtUtils::MakeMaker 7.64    
    ExtUtils::Manifest  1.73    
    ExtUtils::ParseXS   3.45    
    File::Spec          3.84    
    JSON                4.10    
    JSON::PP            4.07    
    Module::Build       n/a     
    Module::Signature   n/a     
    Parse::CPAN::Meta   2.150010
    Test::Harness       3.44    
    Test::More          1.302190
    YAML                n/a     
    YAML::Syck          1.34    
    version             0.9929  


--

Summary of my perl5 (revision 5 version 36 subversion 3) configuration:
   
  Platform:
    osname=freebsd
    osvers=13.2-release-p8
    archname=amd64-freebsd-thread-multi
    uname='freebsd 132amd64-default-job-03 13.2-release-p8 freebsd 13.2-release-p8 amd64 '
    config_args='-Accflags=-DUSE_THREAD_SAFE_LOCALE -Darchlib=/usr/local/lib/perl5/5.36/mach -Dcc=cc -Dcf_by=mat -Dcf_email=mat@FreeBSD.org -Dcf_time=Wed Nov 29 16:10:26 UTC 2023 -Dinc_version_list=none -Dlibperl=libperl.so.5.36.3 -Dman1dir=/usr/local/lib/perl5/5.36/perl/man/man1 -Dman3dir=/usr/local/lib/perl5/5.36/perl/man/man3 -Dprefix=/usr/local -Dprivlib=/usr/local/lib/perl5/5.36 -Dscriptdir=/usr/local/bin -Dsitearch=/usr/local/lib/perl5/site_perl/mach/5.36 -Dsitelib=/usr/local/lib/perl5/site_perl -Dsiteman1dir=/usr/local/lib/perl5/site_perl/man/man1 -Dsiteman3dir=/usr/local/lib/perl5/site_perl/man/man3 -Dusenm=n -Duseshrplib -sde -Ui_iconv -Ui_malloc -Uinstallusrbinperl -Alddlflags=-L/wrkdirs/usr/ports/lang/perl5.36/work/perl-5.36.3 -L/usr/local/lib/perl5/5.36/mach/CORE -lperl -Dshrpldflags=$(LDDLFLAGS:N-L/wrkdirs/usr/ports/lang/perl5.36/work/perl-5.36.3:N-L/usr/local/lib/perl5/5.36/mach/CORE:N-lperl) -Wl,-soname,$(LIBPERL:R) -Doptimize=-O2 -pipe  -fstack-protector-strong -fno-strict-aliasing  -Dusedtrace -Ui_gdbm -Dusemultiplicity=y -Duse64bitint -Dusemymalloc=n -Dusethreads=y'
    hint=recommended
    useposix=true
    d_sigaction=define
    useithreads=define
    usemultiplicity=define
    use64bitint=define
    use64bitall=define
    uselongdouble=undef
    usemymalloc=n
    default_inc_excludes_dot=define
  Compiler:
    cc='cc'
    ccflags ='-DHAS_FPSETMASK -DHAS_FLOATINGPOINT_H -DUSE_THREAD_SAFE_LOCALE -fno-strict-aliasing -pipe -fstack-protector-strong -I/usr/local/include'
    optimize='-O2 -pipe -fstack-protector-strong -fno-strict-aliasing '
    cppflags='-DHAS_FPSETMASK -DHAS_FLOATINGPOINT_H -DUSE_THREAD_SAFE_LOCALE -fno-strict-aliasing -pipe -fstack-protector-strong -I/usr/local/include'
    ccversion=''
    gccversion='FreeBSD Clang 14.0.5 (https://github.com/llvm/llvm-project.git llvmorg-14.0.5-0-gc12386ae247c)'
    gccosandvers=''
    intsize=4
    longsize=8
    ptrsize=8
    doublesize=8
    byteorder=12345678
    doublekind=3
    d_longlong=define
    longlongsize=8
    d_longdbl=define
    longdblsize=16
    longdblkind=3
    ivtype='long'
    ivsize=8
    nvtype='double'
    nvsize=8
    Off_t='off_t'
    lseeksize=8
    alignbytes=8
    prototype=define
  Linker and Libraries:
    ld='cc'
    ldflags ='-pthread -Wl,-E  -fstack-protector-strong -L/usr/local/lib'
    libpth=/usr/lib /usr/local/lib /usr/lib/clang/14.0.5/lib
    libs=-ldl -lm -lcrypt -lutil
    perllibs=-ldl -lm -lcrypt -lutil
    libc=
    so=so
    useshrplib=true
    libperl=libperl.so.5.36.3
    gnulibc_version=''
  Dynamic Linking:
    dlsrc=dl_dlopen.xs
    dlext=so
    d_dlsymun=undef
    ccdlflags='  -Wl,-R/usr/local/lib/perl5/5.36/mach/CORE'
    cccdlflags='-DPIC -fPIC'
    lddlflags='-shared  -L/usr/local/lib/perl5/5.36/mach/CORE -lperl -L/usr/local/lib -fstack-protector-strong'


Characteristics of this binary (from libperl): 
  Compile-time options:
    HAS_TIMES
    MULTIPLICITY
    PERLIO_LAYERS
    PERL_COPY_ON_WRITE
    PERL_DONT_CREATE_GVSV
    PERL_MALLOC_WRAP
    PERL_OP_PARENT
    PERL_PRESERVE_IVUV
    USE_64_BIT_ALL
    USE_64_BIT_INT
    USE_ITHREADS
    USE_LARGE_FILES
    USE_LOCALE
    USE_LOCALE_COLLATE
    USE_LOCALE_CTYPE
    USE_LOCALE_NUMERIC
    USE_LOCALE_TIME
    USE_PERLIO
    USE_PERL_ATOF
    USE_REENTRANT_API
    USE_THREAD_SAFE_LOCALE
  Built under freebsd
  %ENV:
    PERL5LIB="/home/cpansand/.cpan/build/2024081517/XML-XPathEngine-0.14-0/blib/arch:/home/cpansand/.cpan/build/2024081517/XML-XPathEngine-0.14-0/blib/lib:/home/cpansand/.cpan/build/2024081517/XML-XPath-1.48-0/blib/arch:/home/cpansand/.cpan/build/2024081517/XML-XPath-1.48-0/blib/lib:/home/cpansand/.cpan/build/2024081517/Path-Tiny-0.146-0/blib/arch:/home/cpansand/.cpan/build/2024081517/Path-Tiny-0.146-0/blib/lib:/home/cpansand/.cpan/build/2024081517/XML-Twig-3.52-0/blib/arch:/home/cpansand/.cpan/build/2024081517/XML-Twig-3.52-0/blib/lib:/home/cpansand/.cpan/build/2024081517/PerlX-Maybe-1.202-0/blib/arch:/home/cpansand/.cpan/build/2024081517/PerlX-Maybe-1.202-0/blib/lib:/home/cpansand/.cpan/build/2024081517/PerlIO-gzip-0.20-2/blib/arch:/home/cpansand/.cpan/build/2024081517/PerlIO-gzip-0.20-2/blib/lib:/home/cpansand/.cpan/build/2024081517/Filter-signatures-0.19-2/blib/arch:/home/cpansand/.cpan/build/2024081517/Filter-signatures-0.19-2/blib/lib:/home/cpansand/.cpan/build/2024081517/Archive-Zip-1.68-0/blib/arch:/home/cpansand/.cpan/build/2024081517/Archive-Zip-1.68-0/blib/lib"
    PERL5OPT=""
    PERL5_CPANPLUS_IS_RUNNING="35593"
    PERL5_CPAN_IS_RUNNING="35593"
    PERL5_CPAN_IS_RUNNING_IN_RECURSION="32807,35593"
    PERL_BATCH="yes"
    PERL_CANARY_STABILITY_NOPROMPT="1"
    PERL_CPAN_REPORTER_CONFIG="/var/tmp/cpansmoker-1023/2024081517/cpanreporter_000_config.ini"
    PERL_EXTUTILS_AUTOINSTALL="--defaultdeps"
    PERL_USE_UNSAFE_INC="1"
  @INC:
    /home/cpansand/.cpan/build/2024081517/XML-XPathEngine-0.14-0/blib/arch
    /home/cpansand/.cpan/build/2024081517/XML-XPathEngine-0.14-0/blib/lib
    /home/cpansand/.cpan/build/2024081517/XML-XPath-1.48-0/blib/arch
    /home/cpansand/.cpan/build/2024081517/XML-XPath-1.48-0/blib/lib
    /home/cpansand/.cpan/build/2024081517/Path-Tiny-0.146-0/blib/arch
    /home/cpansand/.cpan/build/2024081517/Path-Tiny-0.146-0/blib/lib
    /home/cpansand/.cpan/build/2024081517/XML-Twig-3.52-0/blib/arch
    /home/cpansand/.cpan/build/2024081517/XML-Twig-3.52-0/blib/lib
    /home/cpansand/.cpan/build/2024081517/PerlX-Maybe-1.202-0/blib/arch
    /home/cpansand/.cpan/build/2024081517/PerlX-Maybe-1.202-0/blib/lib
    /home/cpansand/.cpan/build/2024081517/PerlIO-gzip-0.20-2/blib/arch
    /home/cpansand/.cpan/build/2024081517/PerlIO-gzip-0.20-2/blib/lib
    /home/cpansand/.cpan/build/2024081517/Filter-signatures-0.19-2/blib/arch
    /home/cpansand/.cpan/build/2024081517/Filter-signatures-0.19-2/blib/lib
    /home/cpansand/.cpan/build/2024081517/Archive-Zip-1.68-0/blib/arch
    /home/cpansand/.cpan/build/2024081517/Archive-Zip-1.68-0/blib/lib
    /usr/local/lib/perl5/site_perl/mach/5.36
    /usr/local/lib/perl5/site_perl
    /usr/local/lib/perl5/5.36/mach
    /usr/local/lib/perl5/5.36
    .