Statistics-ANOVA v0.14 Perl 5 v5.22.3 amd64-freebsd

Status
Pass
From
Slaven Rezić (SREZIC)
Dist
Statistics-ANOVA v0.14
Platform
Perl 5 v5.22.3 amd64-freebsd
Date
2018-03-17 02:57:10
ID
e32fb4a0-298e-11e8-b4fb-f83a4915b3fb
This distribution has been tested as part of the CPAN Testers
project, supporting the Perl programming language.  See
http://wiki.cpantesters.org/ for more information or email
questions to cpan-testers-discuss@perl.org


--
Dear Roderick Garton,

This is a computer-generated report for Statistics-ANOVA-0.14
on perl 5.22.3, created by CPAN-Reporter-1.2018.

Thank you for uploading your work to CPAN.  Congratulations!
All tests were successful.

Sections of this report:

    * Tester comments
    * Program output
    * Prerequisites
    * Environment and other context

------------------------------
TESTER COMMENTS
------------------------------

Additional comments from tester:

none provided

------------------------------
PROGRAM OUTPUT
------------------------------

Output from './Build test':

# Testing Statistics::ANOVA 0.14, Perl 5.022003, /usr/perl5.22.3p/bin/perl
t/00-load.t ................. ok
t/01-indep_dfree_cat.t ...... ok
t/01-indep_dfree_cat_cmp.t .. ok
t/01-indep_dfree_ord.t ...... ok
t/01-indep_param_cat.t ...... ok
t/01-indep_param_cat_cmp.t .. ok
t/01-indep_param_cfi.t ...... ok
t/01-indep_param_ord.t ...... ok
t/01-rmdep_dfree_cat.t ...... ok
t/01-rmdep_dfree_ord.t ...... ok
t/01-rmdep_param_cat.t ...... ok
t/01-rmdep_param_cat_cmp.t .. ok
t/02-lakens_data.t .......... ok
t/02-spss_data.t ............ ok
t/02-statistics.t ........... ok
:-( Parametric trend analysis for dependent/repeated measures is not implemented at t/99-synopsis.t line 181.
t/99-synopsis.t ............. ok
t/pod-coverage.t ............ ok
t/pod.t ..................... ok
All tests successful.
Files=18, Tests=234,  1 wallclock secs ( 0.01 usr  0.09 sys +  0.20 cusr  1.25 csys =  1.55 CPU)
Result: PASS

------------------------------
PREREQUISITES
------------------------------

Prerequisite modules loaded:

requires:

    Module                      Need    Have    
    --------------------------- ------- --------
    List::AllUtils              0.09    0.14    
    Math::Cephes                0.5304  0.5305  
    Readonly                    1.03    2.05    
    Scalar::Util                1.42    1.49    
    Statistics::ANOVA::Friedman 0.01    0.02    
    Statistics::ANOVA::JT       0.01    0.01    
    Statistics::ANOVA::KW       0.01    0.01    
    Statistics::ANOVA::Page     0.01    0.02    
    Statistics::Data            0.11    0.11    
    Statistics::Data::Rank      0.01    0.02    
    Statistics::DependantTTest  0.03    0.03    
    Statistics::Lite            3.62    3.62    
    Statistics::TTest           1.1     1.1     

build_requires:

    Module                      Need    Have    
    --------------------------- ------- --------
    Array::Compare              v2.12.2 3.0.0   
    Test::More                  0.98    1.302133

configure_requires:

    Module                      Need    Have    
    --------------------------- ------- --------
    Module::Build               0.421   0.4224  


------------------------------
ENVIRONMENT AND OTHER CONTEXT
------------------------------

Environment variables:

    LC_ALL = de_DE.ISO8859-1
    PATH = /usr/local/bin:/usr/bin:/bin:/usr/local/sbin:/usr/sbin:/sbin:/home/cpansand/bin/freebsd10.3:/home/cpansand/bin/sh:/home/cpansand/bin:/usr/games:/home/cpansand/devel:/home/eserte/src/srezic-misc/scripts
    PERL5LIB = /home/cpansand/.cpan/build/2018031703/Statistics-ANOVA-KW-0.01-2/blib/arch:/home/cpansand/.cpan/build/2018031703/Statistics-ANOVA-KW-0.01-2/blib/lib:/home/cpansand/.cpan/build/2018031703/Statistics-ANOVA-Friedman-0.02-3/blib/arch:/home/cpansand/.cpan/build/2018031703/Statistics-ANOVA-Friedman-0.02-3/blib/lib
    PERL5OPT = 
    PERL5_CPANPLUS_IS_RUNNING = 43590
    PERL5_CPAN_IS_RUNNING = 43590
    PERL5_CPAN_IS_RUNNING_IN_RECURSION = 41295,43590
    PERLDOC = -MPod::Perldoc::ToTextOverstrike
    PERL_BATCH = yes
    PERL_CANARY_STABILITY_NOPROMPT = 1
    PERL_CPAN_REPORTER_CONFIG = /var/tmp/cpansmoker-1023/2018031703/cpanreporter_000_config.ini
    PERL_EXTUTILS_AUTOINSTALL = --defaultdeps
    SHELL = /usr/local/bin/zsh
    TERM = screen
    TMPDIR = /var/tmp/cpansmoker-1023/2018031703

Perl special variables (and OS-specific diagnostics, for MSWin32):

    $^X = /usr/perl5.22.3p/bin/perl
    $UID/$EUID = 1023 / 1023
    $GID = 1023 1023
    $EGID = 1023 1023

Perl module toolchain versions installed:

    Module              Have    
    ------------------- --------
    CPAN                2.16    
    CPAN::Meta          2.150010
    Cwd                 3.74    
    ExtUtils::CBuilder  0.280226
    ExtUtils::Command   7.32    
    ExtUtils::Install   2.12    
    ExtUtils::MakeMaker 7.32    
    ExtUtils::Manifest  1.70    
    ExtUtils::ParseXS   3.35    
    File::Spec          3.74    
    JSON                2.97001 
    JSON::PP            2.94    
    Module::Build       0.4224  
    Module::Signature   0.81    
    Parse::CPAN::Meta   2.150010
    Test::Harness       3.39    
    Test::More          1.302133
    YAML                1.24    
    YAML::Syck          1.30    
    version             0.9917  


--

Summary of my perl5 (revision 5 version 22 subversion 3) configuration:
   
  Platform:
    osname=freebsd, osvers=10.1-release, archname=amd64-freebsd
    uname='freebsd cvrsnica-freebsd-101.herceg.de 10.1-release freebsd 10.1-release #0 r274401: tue nov 11 21:02:49 utc 2014 root@releng1.nyi.freebsd.org:usrobjusrsrcsysgeneric amd64 '
    config_args='-ds -e -Dprefix=/usr/perl5.22.3p -Dcf_email=srezic@cpan.org -Doptimize=-O2 -pipe'
    hint=recommended, useposix=true, d_sigaction=define
    useithreads=undef, usemultiplicity=undef
    use64bitint=define, use64bitall=define, uselongdouble=undef
    usemymalloc=n, bincompat5005=undef
  Compiler:
    cc='cc', ccflags ='-DHAS_FPSETMASK -DHAS_FLOATINGPOINT_H -fno-strict-aliasing -pipe -fstack-protector -I/usr/local/include -D_FORTIFY_SOURCE=2',
    optimize='-O2 -pipe',
    cppflags='-DHAS_FPSETMASK -DHAS_FLOATINGPOINT_H -fno-strict-aliasing -pipe -fstack-protector -I/usr/local/include'
    ccversion='', gccversion='4.2.1 Compatible FreeBSD Clang 3.4.1 (tags/RELEASE_34/dot1-final 208032)', gccosandvers=''
    intsize=4, longsize=8, ptrsize=8, doublesize=8, byteorder=12345678, doublekind=3
    d_longlong=define, longlongsize=8, d_longdbl=define, longdblsize=16, longdblkind=3
    ivtype='long', ivsize=8, nvtype='double', nvsize=8, Off_t='off_t', lseeksize=8
    alignbytes=8, prototype=define
  Linker and Libraries:
    ld='cc', ldflags ='-pthread -Wl,-E  -fstack-protector -L/usr/local/lib'
    libpth=/usr/lib /usr/local/lib /usr/include/clang/3.4.1 /usr/lib
    libs=-lpthread -lgdbm -lm -lcrypt -lutil -lc
    perllibs=-lpthread -lm -lcrypt -lutil -lc
    libc=, so=so, useshrplib=false, libperl=libperl.a
    gnulibc_version=''
  Dynamic Linking:
    dlsrc=dl_dlopen.xs, dlext=so, d_dlsymun=undef, ccdlflags=' '
    cccdlflags='-DPIC -fPIC', lddlflags='-shared  -L/usr/local/lib -fstack-protector'


Characteristics of this binary (from libperl): 
  Compile-time options: HAS_TIMES PERLIO_LAYERS PERL_DONT_CREATE_GVSV
                        PERL_HASH_FUNC_ONE_AT_A_TIME_HARD PERL_MALLOC_WRAP
                        PERL_NEW_COPY_ON_WRITE PERL_PRESERVE_IVUV
                        USE_64_BIT_ALL USE_64_BIT_INT USE_LARGE_FILES
                        USE_LOCALE USE_LOCALE_COLLATE USE_LOCALE_CTYPE
                        USE_LOCALE_NUMERIC USE_LOCALE_TIME USE_PERLIO
                        USE_PERL_ATOF
  Built under freebsd
  Compiled at Jan 15 2017 18:31:13
  %ENV:
    PERL5LIB="/home/cpansand/.cpan/build/2018031703/Statistics-ANOVA-KW-0.01-2/blib/arch:/home/cpansand/.cpan/build/2018031703/Statistics-ANOVA-KW-0.01-2/blib/lib:/home/cpansand/.cpan/build/2018031703/Statistics-ANOVA-Friedman-0.02-3/blib/arch:/home/cpansand/.cpan/build/2018031703/Statistics-ANOVA-Friedman-0.02-3/blib/lib"
    PERL5OPT=""
    PERL5_CPANPLUS_IS_RUNNING="43590"
    PERL5_CPAN_IS_RUNNING="43590"
    PERL5_CPAN_IS_RUNNING_IN_RECURSION="41295,43590"
    PERLDOC="-MPod::Perldoc::ToTextOverstrike"
    PERL_BATCH="yes"
    PERL_CANARY_STABILITY_NOPROMPT="1"
    PERL_CPAN_REPORTER_CONFIG="/var/tmp/cpansmoker-1023/2018031703/cpanreporter_000_config.ini"
    PERL_EXTUTILS_AUTOINSTALL="--defaultdeps"
  @INC:
    /home/cpansand/.cpan/build/2018031703/Statistics-ANOVA-KW-0.01-2/blib/arch
    /home/cpansand/.cpan/build/2018031703/Statistics-ANOVA-KW-0.01-2/blib/lib
    /home/cpansand/.cpan/build/2018031703/Statistics-ANOVA-Friedman-0.02-3/blib/arch
    /home/cpansand/.cpan/build/2018031703/Statistics-ANOVA-Friedman-0.02-3/blib/lib
    /usr/perl5.22.3p/lib/site_perl/5.22.3/amd64-freebsd
    /usr/perl5.22.3p/lib/site_perl/5.22.3
    /usr/perl5.22.3p/lib/5.22.3/amd64-freebsd
    /usr/perl5.22.3p/lib/5.22.3
    .