Text-Unaccent-PurePerl v0.05 Perl 5 v5.24.4 RC1 x86_64-linux

Status
Pass
From
Slaven Rezić (SREZIC)
Dist
Text-Unaccent-PurePerl v0.05
Platform
Perl 5 v5.24.4 RC1 x86_64-linux
Date
2018-10-06 07:53:18
ID
e32ef7f6-c93c-11e8-a875-cc64288e331c
This distribution has been tested as part of the CPAN Testers
project, supporting the Perl programming language.  See
http://wiki.cpantesters.org/ for more information or email
questions to cpan-testers-discuss@perl.org


--
Dear Peter John Acklam,

This is a computer-generated report for Text-Unaccent-PurePerl-0.05
on perl 5.24.4, created by CPAN-Reporter-1.2018.

Thank you for uploading your work to CPAN.  Congratulations!
All tests were successful.

Sections of this report:

    * Tester comments
    * Program output
    * Prerequisites
    * Environment and other context

------------------------------
TESTER COMMENTS
------------------------------

Additional comments from tester:

none provided

------------------------------
PROGRAM OUTPUT
------------------------------

Output from '/usr/bin/make test':

PERL_DL_NONLAZY=1 "/bbbike/perl-5.24.4-RC1/bin/perl" "-MExtUtils::Command::MM" "-MTest::Harness" "-e" "undef *Test::Harness::Switches; test_harness(0, 'blib/lib', 'blib/arch')" t/*.t
t/00-signature.t ............... skipped: Set the environment variable TEST_SIGNATURE to enable this test
# Testing Text::Unaccent::PurePerl 0.05, Perl 5.024004, /bbbike/perl-5.24.4-RC1/bin/perl
t/01-load.t .................... ok
t/02-pod.t ..................... skipped: Test::Pod 1.22 required for testing POD
t/03-pod-coverage.t ............ skipped: Test::Pod::Coverage 1.08 required for testing POD coverage
t/04-unac_string-iso-8859-1.t .. ok
t/05-unac_string-utf-8.t ....... ok
t/07-unac_string-with-enc.t .... ok
t/08-unac_string_utf16.t ....... ok
All tests successful.
Files=8, Tests=64,  1 wallclock secs ( 0.03 usr  0.02 sys +  0.12 cusr  0.02 csys =  0.19 CPU)
Result: PASS

------------------------------
PREREQUISITES
------------------------------

Prerequisite modules loaded:

requires:

    Module              Need Have    
    ------------------- ---- --------
    Test::More          0    1.001014

build_requires:

    Module              Need Have    
    ------------------- ---- --------
    ExtUtils::MakeMaker 0    7.10_02 

configure_requires:

    Module              Need Have    
    ------------------- ---- --------
    ExtUtils::MakeMaker 0    7.10_02 


------------------------------
ENVIRONMENT AND OTHER CONTEXT
------------------------------

Environment variables:

    LANG = C
    PATH = /usr/local/bin:/usr/bin:/bin:/usr/local/sbin:/usr/sbin:/sbin:/home/cpansand/bin/linux-gnu:/home/cpansand/bin/sh:/home/cpansand/bin:/usr/games:/home/cpansand/devel:/home/eserte/src/srezic-misc/scripts
    PERL5LIB = /home/cpansand/.cpan/build/2018100607/Clone-0.39-vFqXXi/blib/arch:/home/cpansand/.cpan/build/2018100607/Clone-0.39-vFqXXi/blib/lib:/home/cpansand/.cpan/build/2018100607/Devel-StackTrace-2.03-srxkCy/blib/arch:/home/cpansand/.cpan/build/2018100607/Devel-StackTrace-2.03-srxkCy/blib/lib:/home/cpansand/.cpan/build/2018100607/Data-Compare-1.25-wBihET/blib/arch:/home/cpansand/.cpan/build/2018100607/Data-Compare-1.25-wBihET/blib/lib:/home/cpansand/.cpan/build/2018100607/File-Find-Rule-0.34-nFDjP9/blib/arch:/home/cpansand/.cpan/build/2018100607/File-Find-Rule-0.34-nFDjP9/blib/lib:/home/cpansand/.cpan/build/2018100607/Text-Glob-0.11-j_KEpV/blib/arch:/home/cpansand/.cpan/build/2018100607/Text-Glob-0.11-j_KEpV/blib/lib:/home/cpansand/.cpan/build/2018100607/Number-Compare-0.03-Kz71qe/blib/arch:/home/cpansand/.cpan/build/2018100607/Number-Compare-0.03-Kz71qe/blib/lib
    PERL5OPT = 
    PERL5_CPANPLUS_IS_RUNNING = 6962
    PERL5_CPAN_IS_RUNNING = 6962
    PERL5_CPAN_IS_RUNNING_IN_RECURSION = 27466,6962
    PERLDOC = -MPod::Perldoc::ToTextOverstrike
    PERL_BATCH = yes
    PERL_CANARY_STABILITY_NOPROMPT = 1
    PERL_CPAN_REPORTER_CONFIG = /var/tmp/cpansmoker-1023/2018100605/cpanreporter_001_config.ini
    PERL_EXTUTILS_AUTOINSTALL = --defaultdeps
    SHELL = /bin/zsh
    TERM = screen
    TMPDIR = /var/tmp/cpansmoker-1023/2018100605

Perl special variables (and OS-specific diagnostics, for MSWin32):

    $^X = /bbbike/perl-5.24.4-RC1/bin/perl
    $UID/$EUID = 1023 / 1023
    $GID = 1023 1023
    $EGID = 1023 1023

Perl module toolchain versions installed:

    Module              Have      
    ------------------- ----------
    CPAN                2.11_01   
    CPAN::Meta          2.150005  
    Cwd                 3.63_01   
    ExtUtils::CBuilder  0.280225  
    ExtUtils::Command   7.10_02   
    ExtUtils::Install   2.04      
    ExtUtils::MakeMaker 7.10_02   
    ExtUtils::Manifest  1.70      
    ExtUtils::ParseXS   3.31      
    File::Spec          3.63_01   
    JSON                n/a       
    JSON::PP            2.27300_01
    Module::Build       0.4224    
    Module::Signature   n/a       
    Parse::CPAN::Meta   1.4417_001
    Test::Harness       3.36_01   
    Test::More          1.001014  
    YAML                1.24      
    YAML::Syck          1.30      
    version             0.9916    


--

Summary of my perl5 (revision 5 version 24 subversion 4) configuration:
   
  Platform:
    osname=linux, osvers=3.16.0-4-amd64, archname=x86_64-linux
    uname='linux eserte 3.16.0-4-amd64 #1 smp debian 3.16.51-2 (2017-12-03) x86_64 gnulinux '
    config_args='-ds -e -Dprefix=/opt/perl-5.24.4-RC1 -Dcf_email=srezic@cpan.org'
    hint=recommended, useposix=true, d_sigaction=define
    useithreads=undef, usemultiplicity=undef
    use64bitint=define, use64bitall=define, uselongdouble=undef
    usemymalloc=n, bincompat5005=undef
  Compiler:
    cc='cc', ccflags ='-fwrapv -fno-strict-aliasing -pipe -fstack-protector-strong -I/usr/local/include -D_LARGEFILE_SOURCE -D_FILE_OFFSET_BITS=64 -D_FORTIFY_SOURCE=2',
    optimize='-O2',
    cppflags='-fwrapv -fno-strict-aliasing -pipe -fstack-protector-strong -I/usr/local/include'
    ccversion='', gccversion='4.9.2', gccosandvers=''
    intsize=4, longsize=8, ptrsize=8, doublesize=8, byteorder=12345678, doublekind=3
    d_longlong=define, longlongsize=8, d_longdbl=define, longdblsize=16, longdblkind=3
    ivtype='long', ivsize=8, nvtype='double', nvsize=8, Off_t='off_t', lseeksize=8
    alignbytes=8, prototype=define
  Linker and Libraries:
    ld='cc', ldflags =' -fstack-protector-strong -L/usr/local/lib'
    libpth=/usr/local/lib /usr/lib/gcc/x86_64-linux-gnu/4.9/include-fixed /usr/include/x86_64-linux-gnu /usr/lib /lib/x86_64-linux-gnu /lib/../lib /usr/lib/x86_64-linux-gnu /usr/lib/../lib /lib
    libs=-lpthread -lnsl -lgdbm -ldb -ldl -lm -lcrypt -lutil -lc -lgdbm_compat
    perllibs=-lpthread -lnsl -ldl -lm -lcrypt -lutil -lc
    libc=libc-2.19.so, so=so, useshrplib=false, libperl=libperl.a
    gnulibc_version='2.19'
  Dynamic Linking:
    dlsrc=dl_dlopen.xs, dlext=so, d_dlsymun=undef, ccdlflags='-Wl,-E'
    cccdlflags='-fPIC', lddlflags='-shared -O2 -L/usr/local/lib -fstack-protector-strong'


Characteristics of this binary (from libperl): 
  Compile-time options: HAS_TIMES PERLIO_LAYERS PERL_COPY_ON_WRITE
                        PERL_DONT_CREATE_GVSV
                        PERL_HASH_FUNC_ONE_AT_A_TIME_HARD PERL_MALLOC_WRAP
                        PERL_PRESERVE_IVUV USE_64_BIT_ALL USE_64_BIT_INT
                        USE_LARGE_FILES USE_LOCALE USE_LOCALE_COLLATE
                        USE_LOCALE_CTYPE USE_LOCALE_NUMERIC USE_LOCALE_TIME
                        USE_PERLIO USE_PERL_ATOF
  Locally applied patches:
	RC1
  Built under linux
  Compiled at Mar 24 2018 20:03:49
  %ENV:
    PERL5LIB="/home/cpansand/.cpan/build/2018100607/Clone-0.39-vFqXXi/blib/arch:/home/cpansand/.cpan/build/2018100607/Clone-0.39-vFqXXi/blib/lib:/home/cpansand/.cpan/build/2018100607/Devel-StackTrace-2.03-srxkCy/blib/arch:/home/cpansand/.cpan/build/2018100607/Devel-StackTrace-2.03-srxkCy/blib/lib:/home/cpansand/.cpan/build/2018100607/Data-Compare-1.25-wBihET/blib/arch:/home/cpansand/.cpan/build/2018100607/Data-Compare-1.25-wBihET/blib/lib:/home/cpansand/.cpan/build/2018100607/File-Find-Rule-0.34-nFDjP9/blib/arch:/home/cpansand/.cpan/build/2018100607/File-Find-Rule-0.34-nFDjP9/blib/lib:/home/cpansand/.cpan/build/2018100607/Text-Glob-0.11-j_KEpV/blib/arch:/home/cpansand/.cpan/build/2018100607/Text-Glob-0.11-j_KEpV/blib/lib:/home/cpansand/.cpan/build/2018100607/Number-Compare-0.03-Kz71qe/blib/arch:/home/cpansand/.cpan/build/2018100607/Number-Compare-0.03-Kz71qe/blib/lib"
    PERL5OPT=""
    PERL5_CPANPLUS_IS_RUNNING="6962"
    PERL5_CPAN_IS_RUNNING="6962"
    PERL5_CPAN_IS_RUNNING_IN_RECURSION="27466,6962"
    PERLDOC="-MPod::Perldoc::ToTextOverstrike"
    PERL_BATCH="yes"
    PERL_CANARY_STABILITY_NOPROMPT="1"
    PERL_CPAN_REPORTER_CONFIG="/var/tmp/cpansmoker-1023/2018100605/cpanreporter_001_config.ini"
    PERL_EXTUTILS_AUTOINSTALL="--defaultdeps"
  @INC:
    /home/cpansand/.cpan/build/2018100607/Clone-0.39-vFqXXi/blib/arch
    /home/cpansand/.cpan/build/2018100607/Clone-0.39-vFqXXi/blib/lib
    /home/cpansand/.cpan/build/2018100607/Devel-StackTrace-2.03-srxkCy/blib/arch
    /home/cpansand/.cpan/build/2018100607/Devel-StackTrace-2.03-srxkCy/blib/lib
    /home/cpansand/.cpan/build/2018100607/Data-Compare-1.25-wBihET/blib/arch
    /home/cpansand/.cpan/build/2018100607/Data-Compare-1.25-wBihET/blib/lib
    /home/cpansand/.cpan/build/2018100607/File-Find-Rule-0.34-nFDjP9/blib/arch
    /home/cpansand/.cpan/build/2018100607/File-Find-Rule-0.34-nFDjP9/blib/lib
    /home/cpansand/.cpan/build/2018100607/Text-Glob-0.11-j_KEpV/blib/arch
    /home/cpansand/.cpan/build/2018100607/Text-Glob-0.11-j_KEpV/blib/lib
    /home/cpansand/.cpan/build/2018100607/Number-Compare-0.03-Kz71qe/blib/arch
    /home/cpansand/.cpan/build/2018100607/Number-Compare-0.03-Kz71qe/blib/lib
    /opt/perl-5.24.4-RC1/lib/site_perl/5.24.4/x86_64-linux
    /opt/perl-5.24.4-RC1/lib/site_perl/5.24.4
    /opt/perl-5.24.4-RC1/lib/5.24.4/x86_64-linux
    /opt/perl-5.24.4-RC1/lib/5.24.4
    .