Report for Proc-Launcher-0.0.35

Back
From: metabase:user:d2c9f356-b46f-11df-9a90-20a83c0b7757
Subject: PASS Proc-Launcher-0.0.35 v5.15.4 SunOS/Solaris
Date: 2011-11-06T10:05:42Z

This distribution has been tested as part of the CPAN Testers
project, supporting the Perl programming language.  See
http://wiki.cpantesters.org/ for more information or email
questions to cpan-testers-discuss@perl.org


--
Dear Alex White (wu),

This is a computer-generated report for Proc-Launcher-0.0.35
on perl 5.15.4, created by CPAN-Reporter-1.2002.

Thank you for uploading your work to CPAN.  Congratulations!
All tests were successful.

Sections of this report:

    * Tester comments
    * Program output
    * Prerequisites
    * Environment and other context

------------------------------
TESTER COMMENTS
------------------------------

Additional comments from tester:

this report is from an automated smoke testing program
and was not reviewed by a human for accuracy

------------------------------
PROGRAM OUTPUT
------------------------------

Output from '/usr/local/bin/make test':

PERL_DL_NONLAZY=1 /export/home/cpant4/perl5/bin/perl5.15.4 "-MExtUtils::Command::MM" "-e" "test_harness(0, 'blib/lib', 'blib/arch')" t/*.t
# Testing Proc::Launcher 0.0.35
t/00.load.t ....................... ok
# 
# 
# perl: v5.15.4 (wanted any version) on solaris from /export/home/cpant4/perl5/bin/perl5.15.4
# 
# Carp                                          => 1.23       (want any version)
# English                                       => 1.04       (want any version)
# ExtUtils::MakeMaker                           => 6.62       (want 6.31)   
# File::Path                                    => 2.08_01    (want any version)
# File::Tail                                    => 0.99.3     (want any version)
# File::Temp                                    => 0.22       (want any version)
# IO::File                                      => 1.15       (want any version)
# Mouse                                         => 0.97       (want any version)
# Mouse::Role                                   => 0.97       (want any version)
# POSIX                                         => 1.26       (want any version)
# Test::More                                    => 0.98       (want 0.88)   
# 
# Thanks for using my code.  I hope it works for you.
# If not, please try and include this output in the bug report.
# That will help me reproduce the issue and solve you problem.
# 
t/000-report-versions-tiny.t ...... ok
t/10_launcher_sleeper.t ........... ok
t/10_launcher_sleeper_class.t ..... ok
t/15_launcher_cleanexit.t ......... ok
t/15_launcher_errorexit.t ......... ok
t/20_launcher_stubborn.t .......... ok
t/25_launcher_exec.t .............. ok
t/30_restart.t .................... ok
t/40_launcher_class.t ............. ok
t/40_launcher_class_context.t ..... ok
t/50_launch_manager.t ............. ok
t/51_launch_manager_noregister.t .. ok
t/52_launch_tail.t ................ ok
t/60_disable_enable.t ............. ok
t/70_pidfile.t .................... ok
t/80_launcher_locking.t ........... skipped: Author tests not required for installation
t/90_launcher_named_pipe.t ........ ok
t/author-critic.t ................. skipped: these tests are for testing by the author
t/kwalitee.t ...................... skipped: Author tests not required for installation
t/meta.t .......................... skipped: Test::CPAN::Meta 0.12 not available for testing
t/no_tabs.t ....................... skipped: Author tests not required for installation
t/release-pod-coverage.t .......... skipped: these tests are for release candidate testing
t/release-pod-syntax.t ............ skipped: these tests are for release candidate testing
All tests successful.
Files=24, Tests=97, 110 wallclock secs ( 0.13 usr  0.06 sys +  2.89 cusr  0.36 csys =  3.44 CPU)
Result: PASS

------------------------------
PREREQUISITES
------------------------------

Prerequisite modules loaded:

requires:

    Module              Need Have   
    ------------------- ---- -------
    Carp                0    1.23   
    File::Path          0    2.08_01
    File::Tail          0    0.99.3 
    Mouse               0    0.97   
    Mouse::Role         0    0.97   
    POSIX               0    1.26   

build_requires:

    Module              Need Have   
    ------------------- ---- -------
    English             0    1.04   
    File::Temp          0    0.22   
    IO::File            0    1.15   
    Test::More          0.88 0.98   

configure_requires:

    Module              Need Have   
    ------------------- ---- -------
    ExtUtils::MakeMaker 6.31 6.62   


------------------------------
ENVIRONMENT AND OTHER CONTEXT
------------------------------

Environment variables:

    AUTOMATED_TESTING = 1
    LANG = C
    LD_LIBRARY_PATH = /usr/local/lib:
    PATH = /export/home/cpant4/perl5/bin:/usr/local/bin:/usr/bin
    PERL5LIB = /export/home/cpant4/.cpan/build/File-Tail-0.99.3-R7_SK2/blib/arch:/export/home/cpant4/.cpan/build/File-Tail-0.99.3-R7_SK2/blib/lib
    PERL5OPT = 
    PERL5_CPANPLUS_IS_RUNNING = 1653
    PERL5_CPAN_IS_RUNNING = 1653
    PERL5_CPAN_IS_RUNNING_IN_RECURSION = 8306,1653
    PERL_CR_SMOKER_CURRENT = Proc-Launcher-0.0.35
    PERL_EXTUTILS_AUTOINSTALL = --defaultdeps
    PERL_MM_USE_DEFAULT = 1
    SHELL = /bin/bash
    TERM = xterm

Perl special variables (and OS-specific diagnostics, for MSWin32):

    $^X = /export/home/cpant4/perl5/bin/perl5.15.4
    $UID/$EUID = 104 / 104
    $GID = 1 1
    $EGID = 1 1

Perl module toolchain versions installed:

    Module              Have    
    ------------------- --------
    CPAN                1.9800  
    CPAN::Meta          2.112621
    Cwd                 3.37    
    ExtUtils::CBuilder  0.280204
    ExtUtils::Command   1.17    
    ExtUtils::Install   1.57    
    ExtUtils::MakeMaker 6.62    
    ExtUtils::Manifest  1.60    
    ExtUtils::ParseXS   3.05    
    File::Spec          3.34    
    JSON                2.53    
    JSON::PP            2.27200 
    Module::Build       0.39_01 
    Module::Signature   n/a     
    Parse::CPAN::Meta   1.4401  
    Test::Harness       3.23    
    Test::More          0.98    
    YAML                0.77    
    YAML::Syck          n/a     
    version             0.94    


--

Summary of my perl5 (revision 5 version 15 subversion 4) configuration:
   
  Platform:
    osname=solaris, osvers=2.10, archname=i86pc-solaris-64int
    uname='sunos vmrz0046 5.10 generic_141445-09 i86pc i386 i86pc solaris '
    config_args='-Dcc=gcc -Dprefix=~/perl5 -Duse64bitint -Dusedevel -d'
    hint=recommended, useposix=true, d_sigaction=define
    useithreads=undef, usemultiplicity=undef
    useperlio=define, d_sfio=undef, uselargefiles=define, usesocks=undef
    use64bitint=define, use64bitall=undef, uselongdouble=undef
    usemymalloc=n, bincompat5005=undef
  Compiler:
    cc='gcc', ccflags ='-DPTR_IS_LONG -fno-strict-aliasing -pipe -I/usr/local/include -D_LARGEFILE_SOURCE -D_FILE_OFFSET_BITS=64 -DPERL_USE_SAFE_PUTENV',
    optimize='-O',
    cppflags='-DPTR_IS_LONG -fno-strict-aliasing -pipe -I/usr/local/include'
    ccversion='', gccversion='3.4.6', gccosandvers='solaris2.10'
    intsize=4, longsize=4, ptrsize=4, doublesize=8, byteorder=12345678
    d_longlong=define, longlongsize=8, d_longdbl=define, longdblsize=12
    ivtype='long long', ivsize=8, nvtype='double', nvsize=8, Off_t='off_t', lseeksize=8
    alignbytes=4, prototype=define
  Linker and Libraries:
    ld='gcc', ldflags =' -L/usr/local/lib '
    libpth=/usr/local/lib /usr/lib /usr/ccs/lib
    libs=-lsocket -lnsl -lgdbm -ldl -lm -lc
    perllibs=-lsocket -lnsl -ldl -lm -lc
    libc=/lib/libc.so, so=so, useshrplib=false, libperl=libperl.a
    gnulibc_version=''
  Dynamic Linking:
    dlsrc=dl_dlopen.xs, dlext=so, d_dlsymun=undef, ccdlflags=' '
    cccdlflags='-fPIC', lddlflags='-G -L/usr/local/lib'


Characteristics of this binary (from libperl): 
  Compile-time options: HAS_TIMES PERLIO_LAYERS PERL_DONT_CREATE_GVSV
                        PERL_MALLOC_WRAP PERL_PRESERVE_IVUV PERL_USE_DEVEL
                        PERL_USE_SAFE_PUTENV USE_64_BIT_INT USE_LARGE_FILES
                        USE_LOCALE USE_LOCALE_COLLATE USE_LOCALE_CTYPE
                        USE_LOCALE_NUMERIC USE_PERLIO USE_PERL_ATOF
  Built under solaris
  Compiled at Oct 24 2011 11:26:38
  %ENV:
    PERL5LIB="/export/home/cpant4/.cpan/build/File-Tail-0.99.3-R7_SK2/blib/arch:/export/home/cpant4/.cpan/build/File-Tail-0.99.3-R7_SK2/blib/lib"
    PERL5OPT=""
    PERL5_CPANPLUS_IS_RUNNING="1653"
    PERL5_CPAN_IS_RUNNING="1653"
    PERL5_CPAN_IS_RUNNING_IN_RECURSION="8306,1653"
    PERL_CR_SMOKER_CURRENT="Proc-Launcher-0.0.35"
    PERL_EXTUTILS_AUTOINSTALL="--defaultdeps"
    PERL_MM_USE_DEFAULT="1"
  @INC:
    /export/home/cpant4/.cpan/build/File-Tail-0.99.3-R7_SK2/blib/arch
    /export/home/cpant4/.cpan/build/File-Tail-0.99.3-R7_SK2/blib/lib
    /export/home/cpant4/perl5/lib/site_perl/5.15.4/i86pc-solaris-64int
    /export/home/cpant4/perl5/lib/site_perl/5.15.4
    /export/home/cpant4/perl5/lib/5.15.4/i86pc-solaris-64int
    /export/home/cpant4/perl5/lib/5.15.4
    /export/home/cpant4/perl5/lib/site_perl
    .