Test-Routine v0.031 Perl 5 v5.38.2 x86_64-linux

Status
Pass
From
LNATION
Dist
Test-Routine v0.031
Platform
Perl 5 v5.38.2 x86_64-linux
Date
2025-05-16 17:55:00
ID
e2fd9ee2-327e-11f0-bd55-a8d1e8b8deb1
This distribution has been tested as part of the CPAN Testers
project, supporting the Perl programming language.  See
http://wiki.cpantesters.org/ for more information or email
questions to cpan-testers-discuss@perl.org


--
Dear Ricardo SIGNES :-),

This is a computer-generated report for Test-Routine-0.031
on perl 5.38.2, created by CPAN-Reporter-1.2020.

Thank you for uploading your work to CPAN.  Congratulations!
All tests were successful.

Sections of this report:

    * Tester comments
    * Program output
    * Prerequisites
    * Environment and other context

------------------------------
TESTER COMMENTS
------------------------------

Additional comments from tester:

this report is from an automated smoke testing program
and was not reviewed by a human for accuracy

------------------------------
PROGRAM OUTPUT
------------------------------

Output from '/usr/bin/make test':

PERL_DL_NONLAZY=1 "/home/rocky/perl5/perlbrew/perls/perl-5.38.2/bin/perl" "-MExtUtils::Command::MM" "-MTest::Harness" "-e" "undef *Test::Harness::Switches; test_harness(0, 'blib/lib', 'blib/arch')" t/*.t t/demo/*.t t/todo/*.t
# 
# Versions for all modules listed in MYMETA.json (including optional ones):
# 
# === Configure Requires ===
# 
#     Module              Want Have
#     ------------------- ---- ----
#     ExtUtils::MakeMaker 6.78 7.74
# 
# === Build Requires ===
# 
#     Module              Want Have
#     ------------------- ---- ----
#     ExtUtils::MakeMaker  any 7.74
# 
# === Test Requires ===
# 
#     Module                Want     Have
#     --------------------- ---- --------
#     ExtUtils::MakeMaker    any     7.74
#     File::Spec             any     3.88
#     Math::Trig             any     1.62
#     Test::Builder::Tester  any 1.302211
#     Test::Fatal            any    0.017
#     Test::Moose            any   2.2207
#     Test::More            0.96 1.302211
#     lib                    any     0.65
# 
# === Test Recommends ===
# 
#     Module         Want     Have
#     ---------- -------- --------
#     CPAN::Meta 2.120900 2.150010
# 
# === Runtime Requires ===
# 
#     Module                           Want     Have
#     ---------------------------- -------- --------
#     Carp                              any     1.54
#     Class::Load                       any     0.25
#     Moose                             any   2.2207
#     Moose::Exporter                   any   2.2207
#     Moose::Meta::Class                any   2.2207
#     Moose::Meta::Method               any   2.2207
#     Moose::Role                       any   2.2207
#     Moose::Util                       any   2.2207
#     Moose::Util::TypeConstraints      any   2.2207
#     Params::Util                      any    1.102
#     Scalar::Util                      any     1.63
#     Sub::Exporter                     any    0.991
#     Sub::Exporter::Util               any    0.991
#     Test2::API                   1.302045 1.302211
#     Test::Abortable                 0.002    0.003
#     Test::More                       0.96 1.302211
#     Try::Tiny                         any     0.32
#     namespace::autoclean              any     0.31
#     namespace::clean                  any     0.27
#     perl                         5.012000 5.038002
#     strict                            any     1.12
#     warnings                          any     1.65
# 
t/00-report-prereqs.t .. ok
t/abort.t .............. ok
t/demo/01-demo.t ....... ok
t/demo/02-simple.t ..... ok
t/demo/03-advice.t ..... ok
t/demo/04-misc.t ....... ok
t/demo/05-multiple.t ... ok
t/dupe.t ............... ok
t/method-filter.t ...... ok
t/mxms.t ............... skipped: This test requires MooseX::Method::Signatures
t/return.t ............. ok
t/test-traits.t ........ ok
t/todo/mxrp.t .......... skipped: Test::Routine and MXRP not yet compatible
t/unsafe-name.t ........ ok
All tests successful.
Files=14, Tests=33,  5 wallclock secs ( 0.06 usr  0.02 sys +  4.95 cusr  0.39 csys =  5.42 CPU)
Result: PASS

------------------------------
PREREQUISITES
------------------------------

Prerequisite modules loaded:

requires:

    Module                       Need     Have    
    ---------------------------- -------- --------
    Carp                         0        1.54    
    Class::Load                  0        0.25    
    Moose                        0        2.2207  
    Moose::Exporter              0        2.2207  
    Moose::Meta::Class           0        2.2207  
    Moose::Meta::Method          0        2.2207  
    Moose::Role                  0        2.2207  
    Moose::Util                  0        2.2207  
    Moose::Util::TypeConstraints 0        2.2207  
    namespace::autoclean         0        0.31    
    namespace::clean             0        0.27    
    Params::Util                 0        1.102   
    perl                         5.012000 5.038002
    Scalar::Util                 0        1.63    
    strict                       0        1.12    
    Sub::Exporter                0        0.991   
    Sub::Exporter::Util          0        0.991   
    Test2::API                   1.302045 1.302211
    Test::Abortable              0.002    0.003   
    Test::More                   0.96     1.302211
    Try::Tiny                    0        0.32    
    warnings                     0        1.65    

build_requires:

    Module                       Need     Have    
    ---------------------------- -------- --------
    ExtUtils::MakeMaker          0        7.74    
    File::Spec                   0        3.88    
    lib                          0        0.65    
    Math::Trig                   0        1.62    
    Test::Builder::Tester        0        1.302211
    Test::Fatal                  0        0.017   
    Test::Moose                  0        2.2207  
    Test::More                   0.96     1.302211

configure_requires:

    Module                       Need     Have    
    ---------------------------- -------- --------
    ExtUtils::MakeMaker          6.78     7.74    

opt_build_requires:

    Module                       Need     Have    
    ---------------------------- -------- --------
    CPAN::Meta                   2.120900 2.150010


------------------------------
ENVIRONMENT AND OTHER CONTEXT
------------------------------

Environment variables:

    AUTOMATED_TESTING = 1
    LANG = en_US.UTF-8
    PATH = /home/rocky/perl5/perlbrew/bin:/home/rocky/perl5/perlbrew/perls/perl-5.38.2/bin:/home/rocky/perl5/bin:/home/rocky/.local/bin:/home/rocky/bin:/usr/local/bin:/usr/bin:/usr/local/sbin:/usr/sbin
    PERL5LIB = /home/rocky/perl5/lib/perl5
    PERL5OPT = 
    PERL5_CPANPLUS_IS_RUNNING = 1277558
    PERL5_CPAN_IS_RUNNING = 1277558
    PERL5_CPAN_IS_RUNNING_IN_RECURSION = 671380,1277558
    PERLBREW_HOME = /home/rocky/.perlbrew
    PERLBREW_MANPATH = /home/rocky/perl5/perlbrew/perls/perl-5.38.2/man
    PERLBREW_PATH = /home/rocky/perl5/perlbrew/bin:/home/rocky/perl5/perlbrew/perls/perl-5.38.2/bin
    PERLBREW_PERL = perl-5.38.2
    PERLBREW_ROOT = /home/rocky/perl5/perlbrew
    PERLBREW_SHELLRC_VERSION = 1.01
    PERLBREW_VERSION = 1.01
    PERL_CR_SMOKER_CURRENT = Dist-Zilla-Plugin-Templates-v0.6.5_01
    PERL_EXTUTILS_AUTOINSTALL = --defaultdeps
    PERL_LOCAL_LIB_ROOT = /home/rocky/perl5
    PERL_MB_OPT = --install_base "/home/rocky/perl5"
    PERL_MM_OPT = INSTALL_BASE=/home/rocky/perl5
    PERL_MM_USE_DEFAULT = 1
    PERL_USE_UNSAFE_INC = 1
    SHELL = /bin/bash
    TERM = xterm-256color

Perl special variables (and OS-specific diagnostics, for MSWin32):

    $^X = /home/rocky/perl5/perlbrew/perls/perl-5.38.2/bin/perl
    $UID/$EUID = 1000 / 1000
    $GID = 1000 4 190 1000
    $EGID = 1000 4 190 1000

Perl module toolchain versions installed:

    Module              Have    
    ------------------- --------
    CPAN                2.36    
    CPAN::Meta          2.150010
    Cwd                 3.89    
    ExtUtils::CBuilder  0.280238
    ExtUtils::Command   7.74    
    ExtUtils::Install   2.22    
    ExtUtils::MakeMaker 7.74    
    ExtUtils::Manifest  1.75    
    ExtUtils::ParseXS   3.57    
    File::Spec          3.88    
    JSON                4.10    
    JSON::PP            4.16    
    Module::Build       0.4234  
    Module::Signature   n/a     
    Parse::CPAN::Meta   2.150010
    Test2               1.302211
    Test::Harness       3.52    
    Test::More          1.302211
    YAML                1.31    
    YAML::Syck          1.34    
    version             0.9929  


--

Summary of my perl5 (revision 5 version 38 subversion 2) configuration:
   
  Platform:
    osname=linux
    osvers=4.18.0-513.5.1.el8_9.x86_64
    archname=x86_64-linux
    uname='linux ip-172-31-17-27.us-east-2.compute.internal 4.18.0-513.5.1.el8_9.x86_64 #1 smp fri nov 17 03:31:10 utc 2023 x86_64 x86_64 x86_64 gnulinux '
    config_args='-de -Dprefix=/home/rocky/perl5/perlbrew/perls/perl-5.38.2 -Aeval:scriptdir=/home/rocky/perl5/perlbrew/perls/perl-5.38.2/bin'
    hint=recommended
    useposix=true
    d_sigaction=define
    useithreads=undef
    usemultiplicity=undef
    use64bitint=define
    use64bitall=define
    uselongdouble=undef
    usemymalloc=n
    default_inc_excludes_dot=define
  Compiler:
    cc='cc'
    ccflags ='-fwrapv -fno-strict-aliasing -pipe -fstack-protector-strong -I/usr/local/include -D_LARGEFILE_SOURCE -D_FILE_OFFSET_BITS=64 -D_FORTIFY_SOURCE=2'
    optimize='-O2'
    cppflags='-fwrapv -fno-strict-aliasing -pipe -fstack-protector-strong -I/usr/local/include'
    ccversion=''
    gccversion='8.5.0 20210514 (Red Hat 8.5.0-26)'
    gccosandvers=''
    intsize=4
    longsize=8
    ptrsize=8
    doublesize=8
    byteorder=12345678
    doublekind=3
    d_longlong=define
    longlongsize=8
    d_longdbl=define
    longdblsize=16
    longdblkind=3
    ivtype='long'
    ivsize=8
    nvtype='double'
    nvsize=8
    Off_t='off_t'
    lseeksize=8
    alignbytes=8
    prototype=define
  Linker and Libraries:
    ld='cc'
    ldflags =' -fstack-protector-strong -L/usr/local/lib'
    libpth=/usr/local/lib /usr/lib /usr/lib64 /usr/local/lib64
    libs=-lpthread -ldl -lm -lcrypt -lutil -lc
    perllibs=-lpthread -ldl -lm -lcrypt -lutil -lc
    libc=libc-2.28.so
    so=so
    useshrplib=false
    libperl=libperl.a
    gnulibc_version='2.28'
  Dynamic Linking:
    dlsrc=dl_dlopen.xs
    dlext=so
    d_dlsymun=undef
    ccdlflags='-Wl,-E'
    cccdlflags='-fPIC'
    lddlflags='-shared -O2 -L/usr/local/lib -fstack-protector-strong'


Characteristics of this binary (from libperl): 
  Compile-time options:
    HAS_LONG_DOUBLE
    HAS_STRTOLD
    HAS_TIMES
    PERLIO_LAYERS
    PERL_COPY_ON_WRITE
    PERL_DONT_CREATE_GVSV
    PERL_HASH_FUNC_SIPHASH13
    PERL_HASH_USE_SBOX32
    PERL_MALLOC_WRAP
    PERL_OP_PARENT
    PERL_PRESERVE_IVUV
    PERL_USE_SAFE_PUTENV
    USE_64_BIT_ALL
    USE_64_BIT_INT
    USE_LARGE_FILES
    USE_LOCALE
    USE_LOCALE_COLLATE
    USE_LOCALE_CTYPE
    USE_LOCALE_NUMERIC
    USE_LOCALE_TIME
    USE_PERLIO
    USE_PERL_ATOF
  Built under linux
  Compiled at May 15 2025 12:15:15
  %ENV:
    PERL5LIB="/home/rocky/perl5/lib/perl5"
    PERL5OPT=""
    PERL5_CPANPLUS_IS_RUNNING="1277558"
    PERL5_CPAN_IS_RUNNING="1277558"
    PERL5_CPAN_IS_RUNNING_IN_RECURSION="671380,1277558"
    PERLBREW_HOME="/home/rocky/.perlbrew"
    PERLBREW_MANPATH="/home/rocky/perl5/perlbrew/perls/perl-5.38.2/man"
    PERLBREW_PATH="/home/rocky/perl5/perlbrew/bin:/home/rocky/perl5/perlbrew/perls/perl-5.38.2/bin"
    PERLBREW_PERL="perl-5.38.2"
    PERLBREW_ROOT="/home/rocky/perl5/perlbrew"
    PERLBREW_SHELLRC_VERSION="1.01"
    PERLBREW_VERSION="1.01"
    PERL_CR_SMOKER_CURRENT="Dist-Zilla-Plugin-Templates-v0.6.5_01"
    PERL_EXTUTILS_AUTOINSTALL="--defaultdeps"
    PERL_LOCAL_LIB_ROOT="/home/rocky/perl5"
    PERL_MB_OPT="--install_base "/home/rocky/perl5""
    PERL_MM_OPT="INSTALL_BASE=/home/rocky/perl5"
    PERL_MM_USE_DEFAULT="1"
    PERL_USE_UNSAFE_INC="1"
  @INC:
    /home/rocky/perl5/lib/perl5/x86_64-linux
    /home/rocky/perl5/lib/perl5
    /home/rocky/perl5/perlbrew/perls/perl-5.38.2/lib/site_perl/5.38.2/x86_64-linux
    /home/rocky/perl5/perlbrew/perls/perl-5.38.2/lib/site_perl/5.38.2
    /home/rocky/perl5/perlbrew/perls/perl-5.38.2/lib/5.38.2/x86_64-linux
    /home/rocky/perl5/perlbrew/perls/perl-5.38.2/lib/5.38.2
    .