Report for Array-GroupBy-v0.0.4

Back
From: metabase:user:917c2b6a-77f3-11e5-af78-c9d573d1e3cf
Subject: PASS Array-GroupBy-v0.0.4 v5.20.2 
Date: 2016-02-02T06:48:17Z

This distribution has been tested as part of the CPAN Testers
project, supporting the Perl programming language.  See
http://wiki.cpantesters.org/ for more information or email
questions to cpan-testers-discuss@perl.org


--
Dear Sam Brain,

This is a computer-generated report for Array-GroupBy-v0.0.4
on perl 5.20.2, created by CPAN-Reporter-1.2015.

Thank you for uploading your work to CPAN.  Congratulations!
All tests were successful.

Sections of this report:

    * Tester comments
    * Program output
    * Prerequisites
    * Environment and other context

------------------------------
TESTER COMMENTS
------------------------------

Additional comments from tester:

this report is from an automated smoke testing program
and was not reviewed by a human for accuracy

------------------------------
PROGRAM OUTPUT
------------------------------

Output from 'C:\Perl\bin\perl.exe ./Build test':

# Testing Array::GroupBy 0.0.4
t\00.load.t ....... ok
t\1.t ............. ok
t\2.t ............. ok
t\3.t ............. ok
t\4.t ............. ok
t\5.t ............. ok
t\6.t ............. ok
t\7.t ............. ok
t\perlcritic.t .... skipped: Test::Perl::Critic required to criticise code
t\pod-coverage.t .. skipped: Test::Pod::Coverage 1.04 required for testing POD coverage
t\pod.t ........... skipped: Test::Pod 1.14 required for testing POD
All tests successful.
Files=11, Tests=56,  3 wallclock secs ( 0.09 usr +  0.09 sys =  0.19 CPU)
Result: PASS

------------------------------
PREREQUISITES
------------------------------

Prerequisite modules loaded:

requires:

    Module           Need Have    
    ---------------- ---- --------
    Carp             1.25 1.36    
    List::Util       1.23 1.42    
    Params::Validate 1    1.21    
    Test::More       0    1.001014
    version          0    0.9912  

configure_requires:

    Module           Need Have    
    ---------------- ---- --------
    Module::Build    0.38 0.4214  


------------------------------
ENVIRONMENT AND OTHER CONTEXT
------------------------------

Environment variables:

    AUTOMATED_TESTING = 1
    COMSPEC = C:\Windows\system32\cmd.exe
    NUMBER_OF_PROCESSORS = 4
    PATH = C:\Perl\site\bin;C:\Perl\bin;C:\Windows\system32;C:\Windows;C:\Windows\System32\Wbem;C:\Windows\System32\WindowsPowerShell\v1.0\;C:\Program Files\Mercurial\;C:\Perl\site\lib\auto\MinGW\bin;C:\Program Files\vim\vim74;C:\Ruby22\bin;C:\Tcl\bin;C:\Perl\site\bin;C:\Perl\bin;C:\Windows\system32;C:\Windows;C:\Windows\System32\Wbem;C:\Windows\System32\WindowsPowerShell\v1.0\;C:\Program Files\Mercurial\;C:\Perl\site\lib\auto\MinGW\bin;C:\Program Files\vim\vim74
    PERL5LIB = C:\Perl\cpan\build\MooseX-StrictConstructor-0.19-0nDIRJ/blib/arch;C:\Perl\cpan\build\MooseX-StrictConstructor-0.19-0nDIRJ/blib/lib;C:\Perl\cpan\build\Params-Validate-Array-0.03-oIzmlR/blib/arch;C:\Perl\cpan\build\Params-Validate-Array-0.03-oIzmlR/blib/lib;C:\Perl\cpan\build\Params-Validate-1.21-Ugk_Cd/blib/arch;C:\Perl\cpan\build\Params-Validate-1.21-Ugk_Cd/blib/lib;C:\Perl\cpan\build\namespace-autoclean-0.28-cWqpbr/blib/arch;C:\Perl\cpan\build\namespace-autoclean-0.28-cWqpbr/blib/lib;C:\Perl\cpan\build\Test-Requires-0.10-tZQvBs/blib/arch;C:\Perl\cpan\build\Test-Requires-0.10-tZQvBs/blib/lib
    PERL5OPT = 
    PERL5_CPANPLUS_IS_RUNNING = 3044
    PERL5_CPAN_IS_RUNNING = 3044
    PERL5_CPAN_IS_RUNNING_IN_RECURSION = 3976,3044
    PERL_CR_SMOKER_CURRENT = Array-To-Moose-v0.0.9
    PERL_EXTUTILS_AUTOINSTALL = --defaultdeps
    PERL_MM_USE_DEFAULT = 1
    PROCESSOR_IDENTIFIER = x86 Family 6 Model 58 Stepping 9, GenuineIntel
    TEMP = C:\Users\petr\AppData\Local\Temp

Perl special variables (and OS-specific diagnostics, for MSWin32):

    $^X = C:\Perl\bin\perl.exe
    $UID/$EUID = 0 / 0
    $GID = 0
    $EGID = 0
    Win32::GetOSName = Win7
    Win32::GetOSVersion = Service Pack 1, 6, 1, 7601, 2, 1, 0, 256, 1
    Win32::FsType = NTFS
    Win32::IsAdminUser = 0

Perl module toolchain versions installed:

    Module              Have    
    ------------------- --------
    CPAN                2.10    
    CPAN::Meta          2.150005
    Cwd                 3.48_01 
    ExtUtils::CBuilder  0.280223
    ExtUtils::Command   1.20    
    ExtUtils::Install   1.68    
    ExtUtils::MakeMaker 6.98    
    ExtUtils::Manifest  1.70    
    ExtUtils::ParseXS   3.24    
    File::Spec          3.48_01 
    JSON                2.90    
    JSON::PP            2.27300 
    Module::Build       0.4214  
    Module::Signature   n/a     
    Parse::CPAN::Meta   1.4414  
    Test::Harness       3.35    
    Test::More          1.001014
    YAML                1.15    
    YAML::Syck          1.29    
    version             0.9912  


--

Summary of my perl5 (revision 5 version 20 subversion 2) configuration:
   
  Platform:
    osname=MSWin32, osvers=5.2, archname=MSWin32-x86-multi-thread-64int
    uname=''
    config_args='undef'
    hint=recommended, useposix=true, d_sigaction=undef
    useithreads=define, usemultiplicity=define
    use64bitint=define, use64bitall=undef, uselongdouble=undef
    usemymalloc=n, bincompat5005=undef
  Compiler:
    cc='C:\Perl\site\bin\gcc.exe', ccflags =' -s -O2 -DWIN32 -DPERL_TEXTMODE_SCRIPTS -DUSE_SITECUSTOMIZE -DPERL_IMPLICIT_CONTEXT -DPERL_IMPLICIT_SYS -DUSE_PERLIO -fwrapv -fno-strict-aliasing -mms-bitfields',
    optimize='-s -O2',
    cppflags='-DWIN32'
    ccversion='', gccversion='4.6.3', gccosandvers=''
    intsize=4, longsize=4, ptrsize=4, doublesize=8, byteorder=12345678
    d_longlong=define, longlongsize=8, d_longdbl=define, longdblsize=12
    ivtype='long long', ivsize=8, nvtype='double', nvsize=8, Off_t='long long', lseeksize=8
    alignbytes=8, prototype=define
  Linker and Libraries:
    ld='C:\Perl\site\bin\g++.exe', ldflags ='-s -static-libgcc -static-libstdc++ -L"C:\Perl\lib\CORE" -L"C:\MinGW\i686-w64-mingw32\lib"'
    libpth=C:\MinGW\i686-w64-mingw32\lib
    libs=-lmoldname -lkernel32 -luser32 -lgdi32 -lwinspool -lcomdlg32 -ladvapi32 -lshell32 -lole32 -loleaut32 -lnetapi32 -luuid -lws2_32 -lmpr -lwinmm -lversion -lodbc32 -lodbccp32 -lcomctl32
    perllibs=-lmoldname -lkernel32 -luser32 -lgdi32 -lwinspool -lcomdlg32 -ladvapi32 -lshell32 -lole32 -loleaut32 -lnetapi32 -luuid -lws2_32 -lmpr -lwinmm -lversion -lodbc32 -lodbccp32 -lcomctl32
    libc=, so=dll, useshrplib=true, libperl=libperl520.a
    gnulibc_version=''
  Dynamic Linking:
    dlsrc=dl_win32.xs, dlext=dll, d_dlsymun=undef, ccdlflags=' '
    cccdlflags=' ', lddlflags='-mdll -s -static-libgcc -static-libstdc++ -L"C:\Perl\lib\CORE" -L"C:\MinGW\i686-w64-mingw32\lib"'


Characteristics of this binary (from libperl): 
  Compile-time options: HAS_TIMES HAVE_INTERP_INTERN MULTIPLICITY
                        PERLIO_LAYERS PERL_DONT_CREATE_GVSV
                        PERL_HASH_FUNC_ONE_AT_A_TIME_HARD
                        PERL_IMPLICIT_CONTEXT PERL_IMPLICIT_SYS
                        PERL_MALLOC_WRAP PERL_NEW_COPY_ON_WRITE
                        PERL_PRESERVE_IVUV USE_64_BIT_INT USE_ITHREADS
                        USE_LARGE_FILES USE_LOCALE USE_LOCALE_COLLATE
                        USE_LOCALE_CTYPE USE_LOCALE_NUMERIC USE_PERLIO
                        USE_PERL_ATOF USE_SITECUSTOMIZE
  Locally applied patches:
	ActivePerl Build 2002 [299195]
  Built under MSWin32
  Compiled at Jul 20 2015 13:29:53
  %ENV:
    PERL5LIB="C:\Perl\cpan\build\MooseX-StrictConstructor-0.19-0nDIRJ/blib/arch;C:\Perl\cpan\build\MooseX-StrictConstructor-0.19-0nDIRJ/blib/lib;C:\Perl\cpan\build\Params-Validate-Array-0.03-oIzmlR/blib/arch;C:\Perl\cpan\build\Params-Validate-Array-0.03-oIzmlR/blib/lib;C:\Perl\cpan\build\Params-Validate-1.21-Ugk_Cd/blib/arch;C:\Perl\cpan\build\Params-Validate-1.21-Ugk_Cd/blib/lib;C:\Perl\cpan\build\namespace-autoclean-0.28-cWqpbr/blib/arch;C:\Perl\cpan\build\namespace-autoclean-0.28-cWqpbr/blib/lib;C:\Perl\cpan\build\Test-Requires-0.10-tZQvBs/blib/arch;C:\Perl\cpan\build\Test-Requires-0.10-tZQvBs/blib/lib"
    PERL5_CPANPLUS_IS_RUNNING="3044"
    PERL5_CPAN_IS_RUNNING="3044"
    PERL5_CPAN_IS_RUNNING_IN_RECURSION="3976,3044"
    PERL_CR_SMOKER_CURRENT="Array-To-Moose-v0.0.9"
    PERL_EXTUTILS_AUTOINSTALL="--defaultdeps"
    PERL_MM_USE_DEFAULT="1"
  @INC:
    C:\Perl\cpan\build\MooseX-StrictConstructor-0.19-0nDIRJ/blib/arch
    C:\Perl\cpan\build\MooseX-StrictConstructor-0.19-0nDIRJ/blib/lib
    C:\Perl\cpan\build\Params-Validate-Array-0.03-oIzmlR/blib/arch
    C:\Perl\cpan\build\Params-Validate-Array-0.03-oIzmlR/blib/lib
    C:\Perl\cpan\build\Params-Validate-1.21-Ugk_Cd/blib/arch
    C:\Perl\cpan\build\Params-Validate-1.21-Ugk_Cd/blib/lib
    C:\Perl\cpan\build\namespace-autoclean-0.28-cWqpbr/blib/arch
    C:\Perl\cpan\build\namespace-autoclean-0.28-cWqpbr/blib/lib
    C:\Perl\cpan\build\Test-Requires-0.10-tZQvBs/blib/arch
    C:\Perl\cpan\build\Test-Requires-0.10-tZQvBs/blib/lib
    C:/Perl/site/lib/MSWin32-x86-multi-thread-64int
    C:/Perl/site/lib
    C:/Perl/lib
    .