Plack-Middleware-ServerStatus-Lite v0.36 Perl 5 v5.18.4 x86_64-linux-thread-multi

Status
Pass
From
David Cantrell (DCANTRELL)
Dist
Plack-Middleware-ServerStatus-Lite v0.36
Platform
Perl 5 v5.18.4 x86_64-linux-thread-multi
Date
2019-09-25 09:28:51
ID
e2e674f8-df76-11e9-9f6c-b511052d0de1
This distribution has been tested as part of the CPAN Testers
project, supporting the Perl programming language.  See
http://wiki.cpantesters.org/ for more information or email
questions to cpan-testers-discuss@perl.org


--
Dear Masahiro Nagano,

This is a computer-generated report for Plack-Middleware-ServerStatus-Lite-0.36
on perl 5.18.4, created by CPAN-Reporter-1.2018.

Thank you for uploading your work to CPAN.  Congratulations!
All tests were successful.

Sections of this report:

    * Tester comments
    * Program output
    * Prerequisites
    * Environment and other context

------------------------------
TESTER COMMENTS
------------------------------

Additional comments from tester:

this report is from an automated smoke testing program
and was not reviewed by a human for accuracy

------------------------------
PROGRAM OUTPUT
------------------------------

Output from './Build test':

t/00_compile.t .............. ok
t/01_builder.t .............. ok
using Starman for test at t/02_server.t line 29.
2019/09/25-10:28:20 Starman::Server (type Net::Server::PreFork) starting! pid(11258)
Resolved [localhost]:34425 to [127.0.0.1]:34425, IPv4
Binding to TCP port 34425 on host 127.0.0.1 with IPv4
Setting gid to "1000 1000 27 1000"
2019/09/25-10:28:23 Server closing!
t/02_server.t ............... ok
using Starman for test at t/03_server_delayed_res.t line 29.
2019/09/25-10:28:24 Starman::Server (type Net::Server::PreFork) starting! pid(11561)
Resolved [localhost]:38215 to [127.0.0.1]:38215, IPv4
Binding to TCP port 38215 on host 127.0.0.1 with IPv4
Setting gid to "1000 1000 27 1000"
2019/09/25-10:28:28 Server closing!
using Starman for test at t/03_server_delayed_res.t line 89.
2019/09/25-10:28:28 Starman::Server (type Net::Server::PreFork) starting! pid(11827)
Resolved [localhost]:37797 to [127.0.0.1]:37797, IPv4
Binding to TCP port 37797 on host 127.0.0.1 with IPv4
Setting gid to "1000 1000 27 1000"
2019/09/25-10:28:31 Server closing!
t/03_server_delayed_res.t ... ok
using Starman for test at t/04_json.t line 31.
2019/09/25-10:28:32 Starman::Server (type Net::Server::PreFork) starting! pid(12094)
Resolved [localhost]:37877 to [127.0.0.1]:37877, IPv4
Binding to TCP port 37877 on host 127.0.0.1 with IPv4
Setting gid to "1000 1000 27 1000"
2019/09/25-10:28:35 Server closing!
t/04_json.t ................. ok
using Starman for test at t/05_counter.t line 31.
2019/09/25-10:28:36 Starman::Server (type Net::Server::PreFork) starting! pid(12286)
Resolved [localhost]:41063 to [127.0.0.1]:41063, IPv4
Binding to TCP port 41063 on host 127.0.0.1 with IPv4
Setting gid to "1000 1000 27 1000"
2019/09/25-10:28:36 Server closing!
t/05_counter.t .............. ok
using Starman for test at t/06_counter_delayed_res.t line 33.
2019/09/25-10:28:37 Starman::Server (type Net::Server::PreFork) starting! pid(12370)
Resolved [localhost]:34825 to [127.0.0.1]:34825, IPv4
Binding to TCP port 34825 on host 127.0.0.1 with IPv4
Setting gid to "1000 1000 27 1000"
2019/09/25-10:28:38 Server closing!
using Starman for test at t/06_counter_delayed_res.t line 95.
2019/09/25-10:28:38 Starman::Server (type Net::Server::PreFork) starting! pid(12418)
Resolved [localhost]:44795 to [127.0.0.1]:44795, IPv4
Binding to TCP port 44795 on host 127.0.0.1 with IPv4
Setting gid to "1000 1000 27 1000"
2019/09/25-10:28:38 Server closing!
t/06_counter_delayed_res.t .. ok
using Starman for test at t/07_skip_ps.t line 29.
2019/09/25-10:28:39 Starman::Server (type Net::Server::PreFork) starting! pid(12519)
Resolved [localhost]:44109 to [127.0.0.1]:44109, IPv4
Binding to TCP port 44109 on host 127.0.0.1 with IPv4
Setting gid to "1000 1000 27 1000"
2019/09/25-10:28:40 Server closing!
t/07_skip_ps.t .............. ok
2019/09/25-10:28:42 Starman::Server (type Net::Server::PreFork) starting! pid(12605)
Resolved [localhost]:37165 to [127.0.0.1]:37165, IPv4
Binding to TCP port 37165 on host 127.0.0.1 with IPv4
Setting gid to "1000 1000 27 1000"
2019/09/25-10:28:46 Server closing!
t/08_command.t .............. ok
All tests successful.
Files=9, Tests=86, 28 wallclock secs ( 0.07 usr  0.01 sys +  2.15 cusr  0.50 csys =  2.73 CPU)
Result: PASS

------------------------------
PREREQUISITES
------------------------------

Prerequisite modules loaded:

requires:

    Module               Need   Have    
    -------------------- ------ --------
    Getopt::Long         2.38   2.39    
    JSON                 2.53   4.02    
    Net::CIDR::Lite      0      0.21    
    Parallel::Scoreboard 0.03   0.08    
    parent               0      0.225   
    Plack::Middleware    0      0       
    Pod::Usage           0      1.61    
    Try::Tiny            0.09   0.30    

build_requires:

    Module               Need   Have    
    -------------------- ------ --------
    B                    0      1.42_02 
    Capture::Tiny        0      0.48    
    LWP::UserAgent       0      6.39    
    Starman              0.3013 0.4015  
    Test::More           0      1.302162
    Test::SharedFork     0      0.35    
    Test::TCP            2.00   2.20    

configure_requires:

    Module               Need   Have    
    -------------------- ------ --------
    Module::Build        0.38   0.4229  


------------------------------
ENVIRONMENT AND OTHER CONTEXT
------------------------------

Environment variables:

    AUTOMATED_TESTING = 1
    LANG = en_US.UTF-8
    NONINTERACTIVE_TESTING = 1
    PATH = /usr/local/bin:/usr/bin:/bin:/usr/local/games:/usr/games
    PERL = 5.18.4
    PERL5LIB = 
    PERL5OPT = 
    PERL5_CPANPLUS_IS_RUNNING = 3578
    PERL5_CPAN_IS_RUNNING = 3578
    PERLVER = 5.18.4
    PERL_INLINE_DIRECTORY = /home/david/.Inline-5.18.4
    PERL_MM_USE_DEFAULT = 1
    PERL_USE_UNSAFE_INC = 0
    SHELL = /bin/bash
    TERM = screen

Perl special variables (and OS-specific diagnostics, for MSWin32):

    $^X = /home/david/cpantesting/perl-5.18.4/bin/perl
    $UID/$EUID = 1000 / 1000
    $GID = 1000 27 1000
    $EGID = 1000 27 1000

Perl module toolchain versions installed:

    Module              Have    
    ------------------- --------
    CPAN                2.00    
    CPAN::Meta          2.150010
    Cwd                 3.40    
    ExtUtils::CBuilder  0.280210
    ExtUtils::Command   7.38    
    ExtUtils::Install   2.06    
    ExtUtils::MakeMaker 7.38    
    ExtUtils::Manifest  1.70    
    ExtUtils::ParseXS   3.35    
    File::Spec          3.40    
    JSON                4.02    
    JSON::PP            4.02    
    Module::Build       0.4229  
    Module::Signature   n/a     
    Parse::CPAN::Meta   2.150010
    Test::Harness       3.42    
    Test::More          1.302162
    YAML                1.29    
    YAML::Syck          n/a     
    version             0.9902  


--

Summary of my perl5 (revision 5 version 18 subversion 4) configuration:
   
  Platform:
    osname=linux, osvers=4.9.0-8-amd64, archname=x86_64-linux-thread-multi
    uname='linux pigsty 4.9.0-8-amd64 #1 smp debian 4.9.144-3 (2019-02-02) x86_64 gnulinux '
    config_args='-de -Duse64bitall -Dusethreads -Dprefix=/home/david/cpantesting/perl-5.18.4 -A ccflags=-fwrapv'
    hint=previous, useposix=true, d_sigaction=define
    useithreads=define, usemultiplicity=define
    useperlio=define, d_sfio=undef, uselargefiles=define, usesocks=undef
    use64bitint=define, use64bitall=define, uselongdouble=undef
    usemymalloc=n, bincompat5005=undef
  Compiler:
    cc='cc', ccflags ='-D_REENTRANT -D_GNU_SOURCE -fno-strict-aliasing -pipe -fstack-protector -I/usr/local/include -D_LARGEFILE_SOURCE -D_FILE_OFFSET_BITS=64 -fwrapv -fwrapv',
    optimize='-O2',
    cppflags='-D_REENTRANT -D_GNU_SOURCE -fno-strict-aliasing -pipe -fstack-protector -I/usr/local/include -D_REENTRANT -D_GNU_SOURCE -fno-strict-aliasing -pipe -fstack-protector -I/usr/local/include -D_LARGEFILE_SOURCE -D_FILE_OFFSET_BITS=64 -fwrapv -D_REENTRANT -D_GNU_SOURCE -fno-strict-aliasing -pipe -fstack-protector -I/usr/local/include -D_LARGEFILE_SOURCE -D_FILE_OFFSET_BITS=64 -fwrapv -fwrapv'
    ccversion='', gccversion='6.3.0 20170516', gccosandvers=''
    intsize=4, longsize=8, ptrsize=8, doublesize=8, byteorder=12345678
    d_longlong=define, longlongsize=8, d_longdbl=define, longdblsize=16
    ivtype='long', ivsize=8, nvtype='double', nvsize=8, Off_t='off_t', lseeksize=8
    alignbytes=8, prototype=define
  Linker and Libraries:
    ld='cc', ldflags =' -fstack-protector -L/usr/local/lib'
    libpth=/usr/local/lib /lib/x86_64-linux-gnu /lib/../lib /usr/lib/x86_64-linux-gnu /usr/lib/../lib /lib /usr/lib
    libs=-lnsl -ldb -ldl -lm -lcrypt -lutil -lpthread -lc
    perllibs=-lnsl -ldl -lm -lcrypt -lutil -lpthread -lc
    libc=libc-2.24.so, so=so, useshrplib=false, libperl=libperl.a
    gnulibc_version='2.24'
  Dynamic Linking:
    dlsrc=dl_dlopen.xs, dlext=so, d_dlsymun=undef, ccdlflags='-Wl,-E'
    cccdlflags='-fPIC', lddlflags='-shared -O2 -L/usr/local/lib -fstack-protector'


Characteristics of this binary (from libperl): 
  Compile-time options: HAS_TIMES MULTIPLICITY PERLIO_LAYERS
                        PERL_DONT_CREATE_GVSV
                        PERL_HASH_FUNC_ONE_AT_A_TIME_HARD
                        PERL_IMPLICIT_CONTEXT PERL_MALLOC_WRAP
                        PERL_PRESERVE_IVUV PERL_SAWAMPERSAND USE_64_BIT_ALL
                        USE_64_BIT_INT USE_ITHREADS USE_LARGE_FILES
                        USE_LOCALE USE_LOCALE_COLLATE USE_LOCALE_CTYPE
                        USE_LOCALE_NUMERIC USE_PERLIO USE_PERL_ATOF
                        USE_REENTRANT_API
  Locally applied patches:
	Devel::PatchPerl 1.56
  Built under linux
  Compiled at Apr 25 2019 17:34:00
  %ENV:
    PERL="5.18.4"
    PERL5LIB=""
    PERL5OPT=""
    PERL5_CPANPLUS_IS_RUNNING="3578"
    PERL5_CPAN_IS_RUNNING="3578"
    PERLVER="5.18.4"
    PERL_INLINE_DIRECTORY="/home/david/.Inline-5.18.4"
    PERL_MM_USE_DEFAULT="1"
    PERL_USE_UNSAFE_INC="0"
  @INC:
    /home/david/cpantesting/perl-5.18.4/lib/site_perl/5.18.4/x86_64-linux-thread-multi
    /home/david/cpantesting/perl-5.18.4/lib/site_perl/5.18.4
    /home/david/cpantesting/perl-5.18.4/lib/5.18.4/x86_64-linux-thread-multi
    /home/david/cpantesting/perl-5.18.4/lib/5.18.4
    .