MooseX-Types-Common v0.001015 Perl 5 v5.43.3 darwin-2level

Status
Pass
From
John SJ Anderson
Dist
MooseX-Types-Common v0.001015
Platform
Perl 5 v5.43.3 darwin-2level
Date
2025-09-23 17:08:12
ID
e2e42ebc-989f-11f0-985c-bccfd4524ab1
This distribution has been tested as part of the CPAN Testers
project, supporting the Perl programming language.  See
http://wiki.cpantesters.org/ for more information or email
questions to cpan-testers-discuss@perl.org


--
Dear ETHER,

This is a computer-generated report for MooseX-Types-Common-0.001015
on perl 5.43.3, created by App::cpanminus::reporter 0.22 (1.7048).

Thank you for uploading your work to CPAN.  Congratulations!
All tests were successful.

Sections of this report:

    * Tester comments
    * Program output
    * Prerequisites
    * Environment and other context

------------------------------
TESTER COMMENTS
------------------------------

Additional comments from tester:

none provided

------------------------------
PROGRAM OUTPUT
------------------------------

Output from '':

Building and testing MooseX-Types-Common-0.001015
cp lib/MooseX/Types/Common.pm blib/lib/MooseX/Types/Common.pm
cp lib/MooseX/Types/Common/Numeric.pm blib/lib/MooseX/Types/Common/Numeric.pm
cp lib/MooseX/Types/Common/String.pm blib/lib/MooseX/Types/Common/String.pm
# 
# Versions for all modules listed in MYMETA.json (including optional ones):
# 
# === Configure Requires ===
# 
#     Module                  Want     Have
#     ------------------- -------- --------
#     Module::Build::Tiny    0.034    0.052
#     perl                5.006001 5.043003
# 
# === Test Requires ===
# 
#     Module            Want     Have
#     ---------------- ----- --------
#     File::Spec         any     3.94
#     Module::Metadata   any 1.000038
#     Term::ANSIColor    any     5.01
#     Test::Deep         any    1.205
#     Test::More        0.88 1.302214
#     Test::Warnings   0.005    0.038
#     open               any     1.13
#     perl             5.008 5.043003
#     utf8               any     1.29
# 
# === Test Recommends ===
# 
#     Module         Want     Have
#     ---------- -------- --------
#     CPAN::Meta 2.120900 2.150010
# 
# === Runtime Requires ===
# 
#     Module                Want     Have
#     -------------------- ----- --------
#     Carp                   any     1.54
#     Moose                  any   2.4000
#     MooseX::Types          any     0.51
#     MooseX::Types::Moose   any     0.51
#     if                     any   0.0610
#     perl                 5.008 5.043003
#     strict                 any     1.14
#     warnings               any     1.74
# 
# === Other Modules ===
# 
#     Module                 Have
#     -------------------- ------
#     Dist::CheckConflicts   0.11
#     Encode                 3.21
#     File::Temp           0.2312
#     JSON::PP               4.16
#     Module::Runtime       0.018
#     Sub::Name              0.28
#     YAML                   1.31
#     autodie                2.37
#     namespace::clean       0.27
# 
t/00-report-prereqs.t ... ok
t/01-string.t ........... ok
t/02-numeric.t .......... ok
t/03-idiot.t ............ ok
t/04-coerce.t ........... ok
t/05-unicode.t .......... ok
t/06-fully-qualified.t .. ok
t/zzz-check-breaks.t .... ok
All tests successful.
Files=8, Tests=98,  1 wallclock secs ( 0.00 usr  0.01 sys +  0.59 cusr  0.06 csys =  0.66 CPU)
Result: PASS

------------------------------
PREREQUISITES
------------------------------

Prerequisite modules loaded:

runtime:

    Module               Need     Have    
    -------------------- -------- --------
    Carp                 0        1.54    
    if                   0        0.0610  
    Moose                0        2.4000  
    MooseX::Types        0        0.51    
    MooseX::Types::Moose 0        0.51    
    perl                 5.008    5.043003
    strict               0        1.14    
    warnings             0        1.74    

configure:

    Module               Need     Have    
    -------------------- -------- --------
    Module::Build::Tiny  0.034    0.052   
    perl                 5.006001 5.043003


------------------------------
ENVIRONMENT AND OTHER CONTEXT
------------------------------

Environment variables:

    LANG = en_US.UTF-8
    LC_ALL = en_US.UTF-8
    LC_TERMINAL = iTerm2
    LC_TERMINAL_VERSION = 3.5.14
    PATH = /opt/plenv/versions/5.43.3/bin:/opt/plenv/libexec:/opt/plenv/plugins/perl-build/bin:/opt/rbenv/shims:/Users/genehack/src/git-subrepo/lib:/opt/nextstrain-env/cli-standalone:/Users/genehack/bin:/opt/rust/cargo/bin:/opt/plenv/shims:/opt/plenv/bin:/opt/git/bin:/opt/homebrew/bin:/opt/local/bin:/usr/bin:/bin:/usr/sbin:/sbin
    PERL_CPANM_OPT = --skip-installed --prompt
    SHELL = /bin/zsh
    TERM = screen-256color
    TMPDIR = /var/folders/p0/j7mly95s4nd__w74h26sqqkc0000gn/T/

Perl special variables (and OS-specific diagnostics, for MSWin32):

    EGID = 20 20 12 61 79 80 81 98 701 33 100 204 250 395 398 101 400
    EUID = 501
    EXECUTABLE_NAME = /opt/plenv/versions/5.43.3/bin/perl5.43.3
    GID = 20 20 12 61 79 80 81 98 701 33 100 204 250 395 398 101 400
    UID = 501

Perl module toolchain versions installed:

    Module              Have    
    ------------------- --------
    CPAN                2.38    
    CPAN::Meta          2.150010
    Cwd                 3.94    
    ExtUtils::CBuilder  0.280242
    ExtUtils::Command   7.76    
    ExtUtils::Install   2.22    
    ExtUtils::MakeMaker 7.76    
    ExtUtils::Manifest  1.75    
    ExtUtils::ParseXS   3.60    
    File::Spec          3.94    
    JSON                4.10    
    JSON::PP            4.16    
    Module::Build       0.4234  
    Module::Signature   n/a     
    Parse::CPAN::Meta   2.150010
    Test::Harness       3.52    
    Test::More          1.302214
    YAML                1.31    
    YAML::Syck          n/a     
    version             0.9933  


--

Summary of my perl5 (revision 5 version 43 subversion 3) configuration:
   
  Platform:
    osname=darwin
    osvers=24.6.0
    archname=darwin-2level
    uname='darwin nextmac.home.genehack.org 24.6.0 darwin kernel version 24.6.0: mon jul 14 11:30:55 pdt 2025; root:xnu-11417.140.69~1release_arm64_t6031 arm64 arm darwin '
    config_args='-Dprefix=/opt/plenv/versions/5.43.3 -de -Dversiononly -Dusedevel -A'eval:scriptdir=/opt/plenv/versions/5.43.3/bin''
    hint=recommended
    useposix=true
    d_sigaction=define
    useithreads=undef
    usemultiplicity=undef
    use64bitint=define
    use64bitall=define
    uselongdouble=undef
    usemymalloc=n
    default_inc_excludes_dot=define
  Compiler:
    cc='cc'
    ccflags ='-fno-common -DPERL_DARWIN -DNO_THREAD_SAFE_QUERYLOCALE -DNO_POSIX_2008_LOCALE -DHAS_BROKEN_LANGINFO_CODESET -DNO_LOCALE_COLLATE -fno-strict-aliasing -pipe -fstack-protector-strong'
    optimize='-O3'
    cppflags='-fno-common -DPERL_DARWIN -DNO_THREAD_SAFE_QUERYLOCALE -DNO_POSIX_2008_LOCALE -DHAS_BROKEN_LANGINFO_CODESET -DNO_LOCALE_COLLATE -fno-strict-aliasing -pipe -fstack-protector-strong'
    ccversion=''
    gccversion='Apple LLVM 17.0.0 (clang-1700.3.19.1)'
    gccosandvers=''
    intsize=4
    longsize=8
    ptrsize=8
    doublesize=8
    byteorder=12345678
    doublekind=3
    d_longlong=define
    longlongsize=8
    d_longdbl=define
    longdblsize=8
    longdblkind=0
    ivtype='long'
    ivsize=8
    nvtype='double'
    nvsize=8
    Off_t='off_t'
    lseeksize=8
    alignbytes=8
    prototype=define
  Linker and Libraries:
    ld='cc'
    ldflags =' -fstack-protector-strong'
    libpth=/Applications/Xcode.app/Contents/Developer/Toolchains/XcodeDefault.xctoolchain/usr/lib/clang/17/lib /Applications/Xcode.app/Contents/Developer/Platforms/MacOSX.platform/Developer/SDKs/MacOSX.sdk/usr/lib /Applications/Xcode.app/Contents/Developer/Toolchains/XcodeDefault.xctoolchain/usr/lib /usr/lib
    libs= 
    perllibs=
    libc=
    so=dylib
    useshrplib=false
    libperl=libperl.a
    gnulibc_version=''
  Dynamic Linking:
    dlsrc=dl_dlopen.xs
    dlext=bundle
    d_dlsymun=undef
    ccdlflags=' '
    cccdlflags=' '
    lddlflags='-bundle -undefined dynamic_lookup -fstack-protector-strong'


Characteristics of this binary (from libperl): 
  Compile-time options:
    HAS_LONG_DOUBLE
    HAS_STRTOLD
    HAS_TIMES
    PERLIO_LAYERS
    PERL_COPY_ON_WRITE
    PERL_DONT_CREATE_GVSV
    PERL_HASH_FUNC_SIPHASH13
    PERL_HASH_USE_SBOX32
    PERL_MALLOC_WRAP
    PERL_OP_PARENT
    PERL_PRESERVE_IVUV
    PERL_USE_DEVEL
    PERL_USE_SAFE_PUTENV
    USE_64_BIT_ALL
    USE_64_BIT_INT
    USE_LARGE_FILES
    USE_LOCALE
    USE_LOCALE_CTYPE
    USE_LOCALE_NUMERIC
    USE_LOCALE_TIME
    USE_PERLIO
    USE_PERL_ATOF
  Built under darwin
  Compiled at Sep 23 2025 08:49:03
  %ENV:
    PERL_CPANM_OPT="--skip-installed --prompt"
  @INC:
    /opt/plenv/versions/5.43.3/lib/perl5/site_perl/5.43.3/darwin-2level
    /opt/plenv/versions/5.43.3/lib/perl5/site_perl/5.43.3
    /opt/plenv/versions/5.43.3/lib/perl5/5.43.3/darwin-2level
    /opt/plenv/versions/5.43.3/lib/perl5/5.43.3