Report for String-Formatter-0.102082

Back
From: metabase:user:322078bc-2aae-11df-837a-5e0a49663a4f
Subject: PASS String-Formatter-0.102082 v5.8.8 NetBSD
Date: 2010-10-19T20:46:02Z

This distribution has been tested as part of the CPAN Testers
project, supporting the Perl programming language.  See
http://wiki.cpantesters.org/ for more information or email
questions to cpan-testers-discuss@perl.org


--

Dear Ricardo SIGNES,
    
This is a computer-generated error report created automatically by
CPANPLUS, version 0.9007. Testers personal comments may appear 
at the end of this report.

MAKE TEST passed: PERL_DL_NONLAZY=1 /usr/bin/perl "-MExtUtils::Command::MM" "-e" "test_harness(0, 'blib/lib', 'blib/arch')" t/*.t
t/basic.t ............... ok
t/braces.t .............. ok
t/method.t .............. ok
t/params.t .............. ok
t/release-pod-syntax.t .. skipped: these tests are for release candidate testing
t/stringf.t ............. ok
All tests successful.
Files=6, Tests=19,  1 wallclock secs ( 0.21 usr  0.07 sys +  1.19 cusr  0.18 csys =  1.65 CPU)
Result: PASS

[MSG] [Tue Oct 19 21:46:02 2010] Sending test report for 'String-Formatter-0.102082'

This report was machine-generated by CPANPLUS::Dist::YACSmoke 0.58.

------------------------------
ENVIRONMENT AND OTHER CONTEXT
------------------------------

Environment variables:

    AUTOMATED_TESTING = 1
    PATH = /sbin:/usr/sbin:/bin:/usr/bin:/usr/pkg/sbin:/usr/pkg/bin:/usr/X11R6/bin:/usr/local/sbin:/usr/local/bin
    PERL5LIB = :/root/.cpanplus/5.8.8/build/String-Formatter-0.102082/blib/lib:/root/.cpanplus/5.8.8/build/String-Formatter-0.102082/blib/arch
    PERL5_CPANIDX_URL = http://conker.bingosnet.co.uk/cpanidx/
    PERL5_CPANPLUS_IS_RUNNING = 937
    PERL5_CPANPLUS_IS_VERSION = 0.9007
    PERL_EXTUTILS_AUTOINSTALL = --defaultdeps
    PERL_MM_USE_DEFAULT = 1
    SHELL = /bin/ksh
    TERM = screen

Perl special variables (and OS-specific diagnostics, for MSWin32):

    Perl: $^X = perl
    UID:  $<  = 0
    EUID: $>  = 0
    GID:  $(  = 0 31 20 5 4 3 2 0
    EGID: $)  = 0 31 20 5 4 3 2 0


-------------------------------


--

Summary of my perl5 (revision 5 version 8 subversion 8) configuration:
  Platform:
    osname=netbsd, osvers=3.1, archname=i386-netbsd-thread-multi-64int
    uname='netbsd canker.bingosnet.co.uk 3.1 netbsd 3.1 (generic_laptop) #0: tue oct 31 04:32:05 utc 2006 builds@b0.netbsd.org:homebuildsabnetbsd-3-1-releasei386200610302053z-objhomebuildsabnetbsd-3-1-releasesrcsysarchi386compilegeneric_laptop i386 '
    config_args=''
    hint=recommended, useposix=true, d_sigaction=define
    usethreads=define use5005threads=undef useithreads=define usemultiplicity=define
    useperlio=define d_sfio=undef uselargefiles=define usesocks=undef
    use64bitint=define use64bitall=undef uselongdouble=undef
    usemymalloc=n, bincompat5005=undef
  Compiler:
    cc='cc', ccflags ='-fno-strict-aliasing -pipe -I/usr/pkg/include',
    optimize='-O',
    cppflags='-fno-strict-aliasing -pipe -I/usr/pkg/include'
    ccversion='', gccversion='3.3.3 (NetBSD nb3 20040520)', gccosandvers=''
    intsize=4, longsize=4, ptrsize=4, doublesize=8, byteorder=12345678
    d_longlong=define, longlongsize=8, d_longdbl=define, longdblsize=12
    ivtype='long long', ivsize=8, nvtype='double', nvsize=8, Off_t='off_t', lseeksize=8
    alignbytes=4, prototype=define
  Linker and Libraries:
    ld='cc', ldflags =' -Wl,-rpath,/usr/pkg/lib -Wl,-rpath,/usr/local/lib -L/usr/pkg/lib'
    libpth=/usr/pkg/lib /lib /usr/lib
    libs=-lm -lcrypt -lutil -lc -lposix -lpthread
    perllibs=-lm -lcrypt -lutil -lc -lposix -lpthread
    libc=/lib/libc.so, so=so, useshrplib=true, libperl=libperl.so
    gnulibc_version=''
  Dynamic Linking:
    dlsrc=dl_dlopen.xs, dlext=so, d_dlsymun=undef, ccdlflags='-Wl,-E  -Wl,-R/usr/lib/perl5/5.8.8/i386-netbsd-thread-multi-64int/CORE'
    cccdlflags='-DPIC -fPIC ', lddlflags='--whole-archive -shared  -L/usr/pkg/lib'


Characteristics of this binary (from libperl): 
  Compile-time options: MULTIPLICITY PERL_IMPLICIT_CONTEXT
                        PERL_MALLOC_WRAP USE_64_BIT_INT USE_ITHREADS
                        USE_LARGE_FILES USE_PERLIO USE_REENTRANT_API
  Built under netbsd
  Compiled at Feb 28 2007 11:10:04
  %ENV:
    PERL5LIB=":/root/.cpanplus/5.8.8/build/String-Formatter-0.102082/blib/lib:/root/.cpanplus/5.8.8/build/String-Formatter-0.102082/blib/arch"
    PERL5_CPANIDX_URL="http://conker.bingosnet.co.uk/cpanidx/"
    PERL5_CPANPLUS_IS_RUNNING="937"
    PERL5_CPANPLUS_IS_VERSION="0.9007"
    PERL_EXTUTILS_AUTOINSTALL="--defaultdeps"
    PERL_MM_USE_DEFAULT="1"
  @INC:
    /root/.cpanplus/5.8.8/build/String-Formatter-0.102082/blib/lib
    /root/.cpanplus/5.8.8/build/String-Formatter-0.102082/blib/arch
    /usr/lib/perl5/5.8.8/i386-netbsd-thread-multi-64int
    /usr/lib/perl5/5.8.8
    /usr/lib/perl5/site_perl/5.8.8/i386-netbsd-thread-multi-64int
    /usr/lib/perl5/site_perl/5.8.8
    /usr/lib/perl5/site_perl
    .