Report for Class-InsideOut-1.13

Back
From: metabase:user:320bfe00-2aae-11df-837a-5e0a49663a4f
Subject: PASS Class-InsideOut-1.13 v5.23.5 GNU/Linux
Date: 2016-03-29T05:48:39Z

This distribution has been tested as part of the CPAN Testers
project, supporting the Perl programming language.  See
http://wiki.cpantesters.org/ for more information or email
questions to cpan-testers-discuss@perl.org


--
Dear David Golden,

This is a computer-generated report for Class-InsideOut-1.13
on perl 5.23.5, created by CPAN-Reporter-1.2015.

Thank you for uploading your work to CPAN.  Congratulations!
All tests were successful.

Sections of this report:

    * Tester comments
    * Program output
    * Prerequisites
    * Environment and other context

------------------------------
TESTER COMMENTS
------------------------------

Additional comments from tester:

this report is from an automated smoke testing program
and was not reviewed by a human for accuracy

------------------------------
PROGRAM OUTPUT
------------------------------

Output from '/usr/bin/make test':

PERL_DL_NONLAZY=1 "/home/sand/src/perl/repoperls/installed-perls/perl/v5.23.5/109d/bin/perl" "-MExtUtils::Command::MM" "-MTest::Harness" "-e" "undef *Test::Harness::Switches; test_harness(0, 'blib/lib', 'blib/arch')" t/*.t
t/00-compile.t ..................... ok
# Prerequisite Report:
#        Version Module               
#   ------------ ---------------------
#           1.38 Carp                 
#           0.36 Class::ISA           
#       5.023005 Config               
#           1.36 DynaLoader           
#           5.72 Exporter             
#        7.11_05 ExtUtils::MakeMaker  
#           1.32 File::Find           
#           3.62 File::Spec           
#           3.62 File::Spec::Functions
#         0.2304 File::Temp           
#           1.16 IO::File             
#           1.45 List::Util           
#           1.45 Scalar::Util         
#           2.54 Storable             
#   1.302013_014 Test::More           
#           0.21 XSLoader             
#           1.26 overload             
#           1.09 strict               
#           2.04 threads              
#           1.03 vars                 
#           1.35 warnings             
t/00-report-prereqs.t .............. ok
t/01_load.t ........................ ok
t/02_register.t .................... ok
t/03_properties.t .................. ok
t/04_threaded.t .................... ok
t/05_forking.t ..................... ok
t/06_export_ok.t ................... ok
t/07_synopsis_obj.t ................ ok
t/08_DEMOLISH.t .................... ok
t/09_foreign.t ..................... ok
t/10_storable_values.t ............. ok
t/11_storable_refs.t ............... ok
t/12_storable_hooks.t .............. ok
t/13_options.t ..................... ok
t/14_accessor_hooks.t .............. ok
t/15_no_weaken_fallback.t .......... skipped: Your Scalar::Util is XS only
t/16_property_argument_checking.t .. ok
t/17_option_argument_checking.t .... ok
t/18_register_argument_checking.t .. ok
t/19_storable_singleton.t .......... ok
t/20_storable_singleton_error.t .... ok
t/21_optional_new.t ................ ok
t/22_readonly.t .................... ok
t/23_accessor_hooks_blessed.t ...... ok
t/24_accessor_hooks_overloaded.t ... ok
t/25_accessor_hooks_typetiny.t ..... ok
All tests successful.
Files=27, Tests=444,  5 wallclock secs ( 0.16 usr  0.11 sys +  2.13 cusr  0.50 csys =  2.90 CPU)
Result: PASS

------------------------------
PREREQUISITES
------------------------------

Prerequisite modules loaded:

requires:

    Module                Need Have        
    --------------------- ---- ------------
    Carp                  0    1.38        
    Class::ISA            0    0.36        
    Exporter              0    5.72        
    overload              0    1.26        
    Scalar::Util          1.09 1.45        
    Storable              0    2.54        
    strict                0    1.09        
    vars                  0    1.03        

build_requires:

    Module                Need Have        
    --------------------- ---- ------------
    Config                0    5.023005    
    DynaLoader            0    1.36        
    ExtUtils::MakeMaker   0    7.11_05     
    File::Find            0    1.32        
    File::Spec            0    3.62        
    File::Spec::Functions 0    3.62        
    File::Temp            0    0.2304      
    IO::File              0    1.16        
    List::Util            0    1.45        
    Test::More            0.45 1.302013_014
    threads               0    2.04        
    warnings              0    1.35        
    XSLoader              0    0.21        

configure_requires:

    Module                Need Have        
    --------------------- ---- ------------
    ExtUtils::MakeMaker   6.30 7.11_05     


------------------------------
ENVIRONMENT AND OTHER CONTEXT
------------------------------

Environment variables:

    AUTOMATED_TESTING = 1
    LANG = en_US.UTF-8
    LANGUAGE = en_US:en
    PATH = /usr/lib/ccache:/home/sand/bin:/usr/local/bin:/usr/lib/ccache:/usr/bin:/bin:/usr/games:/usr/local/perl/bin:/usr/X11/bin:/sbin:/usr/sbin
    PERL5LIB = 
    PERL5OPT = 
    PERL5_CPANPLUS_IS_RUNNING = 18314
    PERL5_CPAN_IS_RUNNING = 18314
    PERL_MM_USE_DEFAULT = 1
    SHELL = /usr/bin/zsh
    TERM = screen

Perl special variables (and OS-specific diagnostics, for MSWin32):

    $^X = /home/sand/src/perl/repoperls/installed-perls/perl/v5.23.5/109d/bin/perl
    $UID/$EUID = 1005 / 1005
    $GID = 1005 1005
    $EGID = 1005 1005

Perl module toolchain versions installed:

    Module              Have        
    ------------------- ------------
    CPAN                2.11        
    CPAN::Meta          2.150005    
    Cwd                 3.62        
    ExtUtils::CBuilder  0.280224    
    ExtUtils::Command   7.11_05     
    ExtUtils::Install   2.04        
    ExtUtils::MakeMaker 7.11_05     
    ExtUtils::Manifest  1.70        
    ExtUtils::ParseXS   3.30        
    File::Spec          3.62        
    JSON                2.90        
    JSON::PP            2.27300     
    Module::Build       0.42_17     
    Module::Signature   0.79        
    Parse::CPAN::Meta   1.4417      
    Test::Harness       3.36        
    Test::More          1.302013_014
    YAML                1.15        
    YAML::Syck          1.29        
    version             0.9916      


--

Summary of my perl5 (revision 5 version 23 subversion 5) configuration:
  Derived from: e1ad135da437c09f811d4667b8ae1c137ed192a2
  Platform:
    osname=linux, osvers=4.3.0-1-amd64, archname=x86_64-linux-thread-multi-ld
    uname='linux k83 4.3.0-1-amd64 #1 smp debian 4.3.3-7 (2016-01-19) x86_64 gnulinux '
    config_args='-Dprefix=/home/sand/src/perl/repoperls/installed-perls/perl/v5.23.5/109d -Dmyhostname=k83 -Dinstallusrbinperl=n -Uversiononly -Dusedevel -des -Ui_db -Dlibswanted=cl pthread socket inet nsl gdbm dbm malloc dl ld sun m crypt sec util c cposix posix ucb BSD gdbm_compat -Duseithreads -Duselongdouble -DDEBUGGING=-g'
    hint=recommended, useposix=true, d_sigaction=define
    useithreads=define, usemultiplicity=define
    use64bitint=define, use64bitall=define, uselongdouble=define
    usemymalloc=n, bincompat5005=undef
  Compiler:
    cc='cc', ccflags ='-D_REENTRANT -D_GNU_SOURCE -fwrapv -fno-strict-aliasing -pipe -fstack-protector-strong -I/usr/local/include -D_LARGEFILE_SOURCE -D_FILE_OFFSET_BITS=64 -D_FORTIFY_SOURCE=2',
    optimize='-O2 -g',
    cppflags='-D_REENTRANT -D_GNU_SOURCE -fwrapv -fno-strict-aliasing -pipe -fstack-protector-strong -I/usr/local/include'
    ccversion='', gccversion='5.3.1 20160121', gccosandvers=''
    intsize=4, longsize=8, ptrsize=8, doublesize=8, byteorder=12345678, doublekind=3
    d_longlong=define, longlongsize=8, d_longdbl=define, longdblsize=16, longdblkind=3
    ivtype='long', ivsize=8, nvtype='long double', nvsize=16, Off_t='off_t', lseeksize=8
    alignbytes=16, prototype=define
  Linker and Libraries:
    ld='cc', ldflags =' -fstack-protector-strong -L/usr/local/lib'
    libpth=/usr/local/lib /usr/lib/gcc/x86_64-linux-gnu/5/include-fixed /usr/include/x86_64-linux-gnu /usr/lib /lib/x86_64-linux-gnu /lib/../lib /usr/lib/x86_64-linux-gnu /usr/lib/../lib /lib
    libs=-lpthread -lnsl -lgdbm -ldl -lm -lcrypt -lutil -lc -lgdbm_compat
    perllibs=-lpthread -lnsl -ldl -lm -lcrypt -lutil -lc
    libc=libc-2.21.so, so=so, useshrplib=false, libperl=libperl.a
    gnulibc_version='2.21'
  Dynamic Linking:
    dlsrc=dl_dlopen.xs, dlext=so, d_dlsymun=undef, ccdlflags='-Wl,-E'
    cccdlflags='-fPIC', lddlflags='-shared -O2 -g -L/usr/local/lib -fstack-protector-strong'


Characteristics of this binary (from libperl): 
  Compile-time options: HAS_TIMES MULTIPLICITY PERLIO_LAYERS
                        PERL_COPY_ON_WRITE PERL_DONT_CREATE_GVSV
                        PERL_HASH_FUNC_ONE_AT_A_TIME_HARD
                        PERL_IMPLICIT_CONTEXT PERL_MALLOC_WRAP
                        PERL_PRESERVE_IVUV PERL_USE_DEVEL USE_64_BIT_ALL
                        USE_64_BIT_INT USE_ITHREADS USE_LARGE_FILES
                        USE_LOCALE USE_LOCALE_COLLATE USE_LOCALE_CTYPE
                        USE_LOCALE_NUMERIC USE_LOCALE_TIME USE_LONG_DOUBLE
                        USE_PERLIO USE_PERL_ATOF USE_REENTRANT_API
  Locally applied patches:
	uncommitted-changes
	Devel::PatchPerl 1.40
  Built under linux
  Compiled at Feb  1 2016 02:51:30
  %ENV:
    PERL5LIB=""
    PERL5OPT=""
    PERL5_CPANPLUS_IS_RUNNING="18314"
    PERL5_CPAN_IS_RUNNING="18314"
    PERL_MM_USE_DEFAULT="1"
  @INC:
    /home/sand/src/perl/repoperls/installed-perls/perl/v5.23.5/109d/lib/site_perl/5.23.5/x86_64-linux-thread-multi-ld
    /home/sand/src/perl/repoperls/installed-perls/perl/v5.23.5/109d/lib/site_perl/5.23.5
    /home/sand/src/perl/repoperls/installed-perls/perl/v5.23.5/109d/lib/5.23.5/x86_64-linux-thread-multi-ld
    /home/sand/src/perl/repoperls/installed-perls/perl/v5.23.5/109d/lib/5.23.5
    .