Catalyst-Engine-Apache v1.16 Perl 5 v5.24.0 x86_64-linux

Status
Pass
From
Slaven Rezić (SREZIC)
Dist
Catalyst-Engine-Apache v1.16
Platform
Perl 5 v5.24.0 x86_64-linux
Date
2018-04-19 15:39:45
ID
e2cd722c-43e7-11e8-8d2b-9af01fc5f0ef
This distribution has been tested as part of the CPAN Testers
project, supporting the Perl programming language.  See
http://wiki.cpantesters.org/ for more information or email
questions to cpan-testers-discuss@perl.org


--
Dear Florian Ragwitz,

This is a computer-generated report for Catalyst-Engine-Apache-1.16
on perl 5.24.0, created by CPAN-Reporter-1.2018.

Thank you for uploading your work to CPAN.  Congratulations!
All tests were successful.

Sections of this report:

    * Tester comments
    * Program output
    * Prerequisites
    * Environment and other context

------------------------------
TESTER COMMENTS
------------------------------

Additional comments from tester:

none provided

------------------------------
PROGRAM OUTPUT
------------------------------

Output from '/usr/bin/make test':

PERL_DL_NONLAZY=1 "/opt/perl-5.24.0/bin/perl" "-MExtUtils::Command::MM" "-MTest::Harness" "-e" "undef *Test::Harness::Switches; test_harness(0, 'blib/lib', 'blib/arch')" t/*.t
t/00compiles.t ........................................... ok
t/author-live_component_controller_action_action.t ....... skipped: these tests are for testing by the author
t/author-live_component_controller_action_auto.t ......... skipped: these tests are for testing by the author
t/author-live_component_controller_action_begin.t ........ skipped: these tests are for testing by the author
t/author-live_component_controller_action_chained.t ...... skipped: these tests are for testing by the author
t/author-live_component_controller_action_default.t ...... skipped: these tests are for testing by the author
t/author-live_component_controller_action_detach.t ....... skipped: these tests are for testing by the author
t/author-live_component_controller_action_end.t .......... skipped: these tests are for testing by the author
t/author-live_component_controller_action_forward.t ...... skipped: these tests are for testing by the author
t/author-live_component_controller_action_global.t ....... skipped: these tests are for testing by the author
t/author-live_component_controller_action_index.t ........ skipped: these tests are for testing by the author
t/author-live_component_controller_action_inheritance.t .. skipped: these tests are for testing by the author
t/author-live_component_controller_action_local.t ........ skipped: these tests are for testing by the author
t/author-live_component_controller_action_multipath.t .... skipped: these tests are for testing by the author
t/author-live_component_controller_action_path.t ......... skipped: these tests are for testing by the author
t/author-live_component_controller_action_private.t ...... skipped: these tests are for testing by the author
t/author-live_component_controller_action_regexp.t ....... skipped: these tests are for testing by the author
t/author-live_component_controller_action_streaming.t .... skipped: these tests are for testing by the author
t/author-live_component_controller_args.t ................ skipped: these tests are for testing by the author
t/author-live_engine_request_body.t ...................... skipped: these tests are for testing by the author
t/author-live_engine_request_body_demand.t ............... skipped: these tests are for testing by the author
t/author-live_engine_request_cookies.t ................... skipped: these tests are for testing by the author
t/author-live_engine_request_headers.t ................... skipped: these tests are for testing by the author
t/author-live_engine_request_parameters.t ................ skipped: these tests are for testing by the author
t/author-live_engine_request_uploads.t ................... skipped: these tests are for testing by the author
t/author-live_engine_request_uri.t ....................... skipped: these tests are for testing by the author
t/author-live_engine_response_cookies.t .................. skipped: these tests are for testing by the author
t/author-live_engine_response_errors.t ................... skipped: these tests are for testing by the author
t/author-live_engine_response_headers.t .................. skipped: these tests are for testing by the author
t/author-live_engine_response_large.t .................... skipped: these tests are for testing by the author
t/author-live_engine_response_redirect.t ................. skipped: these tests are for testing by the author
t/author-live_engine_response_status.t ................... skipped: these tests are for testing by the author
t/author-live_engine_setup_basics.t ...................... skipped: these tests are for testing by the author
t/author-live_engine_setup_plugins.t ..................... skipped: these tests are for testing by the author
t/author-live_fork.t ..................................... skipped: these tests are for testing by the author
t/author-live_loop.t ..................................... skipped: these tests are for testing by the author
t/author-live_plugin_loaded.t ............................ skipped: these tests are for testing by the author
t/author-live_priorities.t ............................... skipped: these tests are for testing by the author
t/author-live_recursion.t ................................ skipped: these tests are for testing by the author
t/author-notabs.t ........................................ skipped: these tests are for testing by the author
t/author-pod.t ........................................... skipped: these tests are for testing by the author
t/author-podcoverage.t ................................... skipped: these tests are for testing by the author
t/release-no-tabs.t ...................................... skipped: these tests are for release candidate testing
t/release-pod-syntax.t ................................... skipped: these tests are for release candidate testing
All tests successful.
Files=44, Tests=1,  2 wallclock secs ( 0.06 usr  0.07 sys +  0.80 cusr  0.35 csys =  1.28 CPU)
Result: PASS

------------------------------
PREREQUISITES
------------------------------

Prerequisite modules loaded:

requires:

    Module              Need Have   
    ------------------- ---- -------
    Catalyst::Runtime   5.80 5.90112

configure_requires:

    Module              Need Have   
    ------------------- ---- -------
    ExtUtils::MakeMaker 6.31 7.24   


------------------------------
ENVIRONMENT AND OTHER CONTEXT
------------------------------

Environment variables:

    LANG = en_US.UTF-8
    LANGUAGE = en_US:en
    LC_ALL = en_US.UTF-8
    PATH = /usr/local/bin:/usr/bin:/bin:/usr/local/sbin:/usr/sbin:/sbin:/home/cpansand/bin/linux-gnu:/home/cpansand/bin/sh:/home/cpansand/bin:/usr/games:/home/cpansand/devel:/home/eserte/src/srezic-misc/scripts
    PERL5LIB = 
    PERL5OPT = 
    PERL5_CPANPLUS_IS_RUNNING = 18396
    PERL5_CPAN_IS_RUNNING = 18396
    PERL5_CPAN_IS_RUNNING_IN_RECURSION = 11558,18396
    PERLDOC = -MPod::Perldoc::ToTextOverstrike
    PERL_BATCH = yes
    PERL_CANARY_STABILITY_NOPROMPT = 1
    PERL_CPAN_REPORTER_CONFIG = /var/tmp/cpansmoker-1023/2018041915/cpanreporter_000_config.ini
    PERL_EXTUTILS_AUTOINSTALL = --defaultdeps
    PERL_PARALLEL_SMOKER = yes
    PERL_USE_UNSAFE_INC = 1
    SHELL = /bin/zsh
    TERM = screen
    TMPDIR = /var/tmp/cpansmoker-1023/2018041915

Perl special variables (and OS-specific diagnostics, for MSWin32):

    $^X = /opt/perl-5.24.0/bin/perl
    $UID/$EUID = 1023 / 1023
    $GID = 1023 1023
    $EGID = 1023 1023

Perl module toolchain versions installed:

    Module              Have    
    ------------------- --------
    CPAN                2.14    
    CPAN::Meta          2.150010
    Cwd                 3.63    
    ExtUtils::CBuilder  0.280225
    ExtUtils::Command   7.24    
    ExtUtils::Install   2.04    
    ExtUtils::MakeMaker 7.24    
    ExtUtils::Manifest  1.70    
    ExtUtils::ParseXS   3.31    
    File::Spec          3.63    
    JSON                2.90    
    JSON::PP            2.27300 
    Module::Build       0.4220  
    Module::Signature   0.80    
    Parse::CPAN::Meta   2.150010
    Test::Harness       3.36    
    Test::More          1.302052
    YAML                1.17    
    YAML::Syck          1.29    
    version             0.9916  


--

Summary of my perl5 (revision 5 version 24 subversion 0) configuration:
   
  Platform:
    osname=linux, osvers=3.2.0-4-amd64, archname=x86_64-linux
    uname='linux cvrsnica-wheezy 3.2.0-4-amd64 #1 smp debian 3.2.54-2 x86_64 gnulinux '
    config_args='-ds -e -Dprefix=/opt/perl-5.24.0 -Dcf_email=srezic@cpan.org'
    hint=recommended, useposix=true, d_sigaction=define
    useithreads=undef, usemultiplicity=undef
    use64bitint=define, use64bitall=define, uselongdouble=undef
    usemymalloc=n, bincompat5005=undef
  Compiler:
    cc='cc', ccflags ='-fwrapv -fno-strict-aliasing -pipe -fstack-protector -I/usr/local/include -D_LARGEFILE_SOURCE -D_FILE_OFFSET_BITS=64 -D_FORTIFY_SOURCE=2',
    optimize='-O2',
    cppflags='-fwrapv -fno-strict-aliasing -pipe -fstack-protector -I/usr/local/include'
    ccversion='', gccversion='4.7.2', gccosandvers=''
    intsize=4, longsize=8, ptrsize=8, doublesize=8, byteorder=12345678, doublekind=3
    d_longlong=define, longlongsize=8, d_longdbl=define, longdblsize=16, longdblkind=3
    ivtype='long', ivsize=8, nvtype='double', nvsize=8, Off_t='off_t', lseeksize=8
    alignbytes=8, prototype=define
  Linker and Libraries:
    ld='cc', ldflags =' -fstack-protector -L/usr/local/lib'
    libpth=/usr/local/lib /usr/lib/gcc/x86_64-linux-gnu/4.7/include-fixed /usr/include/x86_64-linux-gnu /usr/lib /lib/x86_64-linux-gnu /lib/../lib /usr/lib/x86_64-linux-gnu /usr/lib/../lib /lib
    libs=-lpthread -lnsl -ldb -ldl -lm -lcrypt -lutil -lc
    perllibs=-lpthread -lnsl -ldl -lm -lcrypt -lutil -lc
    libc=libc-2.13.so, so=so, useshrplib=false, libperl=libperl.a
    gnulibc_version='2.13'
  Dynamic Linking:
    dlsrc=dl_dlopen.xs, dlext=so, d_dlsymun=undef, ccdlflags='-Wl,-E'
    cccdlflags='-fPIC', lddlflags='-shared -O2 -L/usr/local/lib -fstack-protector'


Characteristics of this binary (from libperl): 
  Compile-time options: HAS_TIMES PERLIO_LAYERS PERL_COPY_ON_WRITE
                        PERL_DONT_CREATE_GVSV
                        PERL_HASH_FUNC_ONE_AT_A_TIME_HARD PERL_MALLOC_WRAP
                        PERL_PRESERVE_IVUV USE_64_BIT_ALL USE_64_BIT_INT
                        USE_LARGE_FILES USE_LOCALE USE_LOCALE_COLLATE
                        USE_LOCALE_CTYPE USE_LOCALE_NUMERIC USE_LOCALE_TIME
                        USE_PERLIO USE_PERL_ATOF
  Built under linux
  Compiled at May 30 2016 08:43:25
  %ENV:
    PERL5LIB=""
    PERL5OPT=""
    PERL5_CPANPLUS_IS_RUNNING="18396"
    PERL5_CPAN_IS_RUNNING="18396"
    PERL5_CPAN_IS_RUNNING_IN_RECURSION="11558,18396"
    PERLDOC="-MPod::Perldoc::ToTextOverstrike"
    PERL_BATCH="yes"
    PERL_CANARY_STABILITY_NOPROMPT="1"
    PERL_CPAN_REPORTER_CONFIG="/var/tmp/cpansmoker-1023/2018041915/cpanreporter_000_config.ini"
    PERL_EXTUTILS_AUTOINSTALL="--defaultdeps"
    PERL_PARALLEL_SMOKER="yes"
    PERL_USE_UNSAFE_INC="1"
  @INC:
    /opt/perl-5.24.0/lib/site_perl/5.24.0/x86_64-linux
    /opt/perl-5.24.0/lib/site_perl/5.24.0
    /opt/perl-5.24.0/lib/5.24.0/x86_64-linux
    /opt/perl-5.24.0/lib/5.24.0
    .