Report for Net-IANA-Services-0.004000

Back
From: metabase:user:5f77f54e-6c0d-1014-966e-55cac1b3e646
Subject: PASS Net-IANA-Services-0.004000 v5.16.3 
Date: 2014-08-26T20:48:55Z

This distribution has been tested as part of the CPAN Testers
project, supporting the Perl programming language.  See
http://wiki.cpantesters.org/ for more information or email
questions to cpan-testers-discuss@perl.org


--
Dear Adam Lesperance,

This is a computer-generated report for Net-IANA-Services-0.004000
on perl 5.16.3, created by CPAN-Reporter-1.2011.

Thank you for uploading your work to CPAN.  Congratulations!
All tests were successful.

Sections of this report:

    * Tester comments
    * Program output
    * Prerequisites
    * Environment and other context

------------------------------
TESTER COMMENTS
------------------------------

Additional comments from tester:

none provided

------------------------------
PROGRAM OUTPUT
------------------------------

Output from 'C:\VS10\VC\bin\nmake.exe test':


Microsoft (R) Program Maintenance Utility Version 10.00.30319.01
Copyright (C) Microsoft Corporation.  All rights reserved.

Skip blib\lib\auto\share\dist\Net-IANA-Services\services_hashes_dump.yml (unchanged)
	C:\Perl\bin\perl.EXE "-MExtUtils::Command::MM" "-MTest::Harness" "-e" "undef *Test::Harness::Switches; test_harness(0, 'blib\lib', 'blib\arch')" t/*.t
t/00-compile.t .................. ok
# 
# 
# Generated by Dist::Zilla::Plugin::ReportVersions::Tiny v1.10
# perl: 5.016003 (wanted 5.008) on MSWin32 from C:\Perl\bin\perl.EXE
# 
# Exporter::Easy                                => 0.17       (want any version)
# File::ShareDir                                => 1.102      (want any version)
# File::ShareDir::Install                       => 0.09       (want 0.03)   
# File::Spec                                    => 3.47       (want any version)
# IO::Handle                                    => 1.33       (want any version)
# IPC::Open3                                    => 1.12       (want any version)
# Module::Build                                 => 0.4208     (want 0.3601) 
# Test::More                                    => 1.001003   (want 0.88)   
# Test::Most                                    => 0.34       (want any version)
# YAML::Any                                     => 1.01       (want any version)
# YAML::XS                                      => 0.41       (want any version)
# strict                                        => 1.07       (want any version)
# utf8                                          => 1.09       (want any version)
# warnings                                      => 1.13       (want any version)
# 
# Thanks for using my code.  I hope it works for you.
# If not, please try and include this output in the bug report.
# That will help me reproduce the issue and solve your problem.
# 
t/000-report-versions-tiny.t .... ok
Name "YAML::LoadCode" used only once: possible typo at C:/Perl/site/lib/YAML/Any.pm line 90.
Name "YAML::UseCode" used only once: possible typo at C:/Perl/site/lib/YAML/Any.pm line 90.
t/01_quick.t .................... ok
Name "YAML::LoadCode" used only once: possible typo at C:/Perl/site/lib/YAML/Any.pm line 90.
Name "YAML::UseCode" used only once: possible typo at C:/Perl/site/lib/YAML/Any.pm line 90.
t/02_examples.t ................. ok
t/author-critic.t ............... skipped: these tests are for testing by the author
t/author-test-eol.t ............. skipped: these tests are for testing by the author
t/release-common_spelling.t ..... skipped: these tests are for release candidate testing
t/release-consistent-version.t .. skipped: these tests are for release candidate testing
t/release-cpan-changes.t ........ skipped: these tests are for release candidate testing
t/release-dist-manifest.t ....... skipped: these tests are for release candidate testing
t/release-distmeta.t ............ skipped: these tests are for release candidate testing
t/release-has-version.t ......... skipped: these tests are for release candidate testing
t/release-kwalitee.t ............ skipped: these tests are for release candidate testing
t/release-minimum-version.t ..... skipped: these tests are for release candidate testing
t/release-no-tabs.t ............. skipped: these tests are for release candidate testing
t/release-pod-coverage.t ........ skipped: these tests are for release candidate testing
t/release-pod-syntax.t .......... skipped: these tests are for release candidate testing
t/release-portability.t ......... skipped: these tests are for release candidate testing
t/release-synopsis.t ............ skipped: these tests are for release candidate testing
All tests successful.
Files=19, Tests=126,  3 wallclock secs ( 0.06 usr +  0.11 sys =  0.17 CPU)
Result: PASS

------------------------------
PREREQUISITES
------------------------------

Prerequisite modules loaded:

requires:

    Module                  Need   Have    
    ----------------------- ------ --------
    Exporter::Easy          0      0.17    
    File::ShareDir          0      1.102   
    strict                  0      1.07    
    utf8                    0      1.09    
    warnings                0      1.13    
    YAML::Any               0      1.01    

build_requires:

    Module                  Need   Have    
    ----------------------- ------ --------
    File::Spec              0      3.47    
    IO::Handle              0      1.33    
    IPC::Open3              0      1.12    
    Module::Build           0.3601 0.4208  
    Test::More              0.88   1.001003
    Test::Most              0      0.34    

configure_requires:

    Module                  Need   Have    
    ----------------------- ------ --------
    File::ShareDir::Install 0.03   0.09    
    Module::Build           0.3601 0.4208  


------------------------------
ENVIRONMENT AND OTHER CONTEXT
------------------------------

Environment variables:

    COMSPEC = C:\TCMD\TCC.EXE
    INCLUDE = c:\openssl\include;c:\VS10\VC\INCLUDE;c:\VS10\VC\ATLMFC\INCLUDE;C:\Program Files (x86)\Microsoft SDKs\Windows\v7.0A\include;c:\tcl\include
    LIB = c:\openssl\lib;c:\VS10\VC\LIB;c:\VS10\VC\ATLMFC\LIB;C:\Program Files (x86)\Microsoft SDKs\Windows\v7.0A\lib;c:\tcl\lib
    NUMBER_OF_PROCESSORS = 4
    PATH = C:\Windows;C:\Windows\System32;C:\Windows\System32\WBEM;C:\Program Files (x86)\ActiveState Komodo IDE 8;C:\Perl\PDK\bin;C:\Python;C:\Python\Scripts;C:\Program Files\RSA SecurID Token Common;C:\Program Files (x86)\ImageMagick-6.8.7-Q16;C:\Tcl\bin;C:\Program Files (x86)\ImageMagick-6.8.7-Q16;C:\Oracle\product\11.2.0\client\bin;C:\Program Files (x86)\ActiveState Komodo IDE 7;C:\TCMD;C:\Utils;C:\openssl\bin;C:\Python;C:\Perl\PDK\bin;C:\Perl\site\bin;C:\Perl\bin;C:\VS10\VC\bin;C:\Program Files (x86)\Nmap;C:\Windows\IDMU\COMMON;C:\Program Files (x86)\Microsoft F#\v4.0;C:\VS10\VSTSDB\Deploy;C:\VS10\Common7\IDE;C:\VS10\Common7\Tools;C:\Windows\Microsoft.NET\Framework\v4.0.30319;C:\Windows\Microsoft.NET\Framework\v3.5;C:\VS10\VC\vcpackages;C:\Program Files (x86)\Microsoft SDKs\Windows\v7.0A\Bin\NETFX 4.0 Tools;C:\Program Files (x86)\Microsoft SDKs\Windows\v7.0A\Bin;C:\Program Files (x86)\Graphviz 2.28\bin;C:\Windows\SYSTEM32\WINDOWSPOWERSHELL\V1.0\;C:\Apache24\bin;C:\Windows\SYSTEM32\WINDOWSPOWERSHELL\V1.0\;C:\Program Files (x86)\QuickTime\QTSystem;C:\Program Files (x86)\Java\JRE\bin;C:\Program Files\VanDyke Software\Clients;C:\Program Files (x86)\Intel\OpenCL SDK\2.0\bin\x86;C:\Program Files (x86)\Intel\OpenCL SDK\2.0\bin\x64;C:\Program Files\Intel\WiFi\bin;C:\Program Files\Common Files\Intel\WirelessCommon;C:\Program Files\VanDyke Software\Clients;C:\Program Files (x86)\WinSCP;C:\Program Files (x86)\QuickTime\QTSystem;C:\Program Files (x86)\Intel\OpenCL SDK\2.0\bin\x86;C:\Program Files (x86)\Intel\OpenCL SDK\2.0\bin\x64;C:\Program Files\VanDyke Software\Clients;C:\Program Files (x86)\WinSCP;C:\Program Files\VanDyke Software\Clients;C:\GnuPG\pub;
    PERL5LIB = 
    PERL5OPT = 
    PERL5_CPANPLUS_IS_RUNNING = 11096
    PERL5_CPAN_IS_RUNNING = 11096
    PROCESSOR_IDENTIFIER = Intel64 Family 6 Model 42 Stepping 7, GenuineIntel
    TEMP = \tmp
    TERM = dumb

Perl special variables (and OS-specific diagnostics, for MSWin32):

    $^X = C:\Perl\bin\perl.EXE
    $UID/$EUID = 0 / 0
    $GID = 0
    $EGID = 0
    Win32::GetOSName = Win7
    Win32::GetOSVersion = Service Pack 1, 6, 1, 7601, 2, 1, 0, 256, 1
    Win32::FsType = NTFS
    Win32::IsAdminUser = 1

Perl module toolchain versions installed:

    Module              Have    
    ------------------- --------
    CPAN                2.05    
    CPAN::Meta          2.142060
    Cwd                 3.47    
    ExtUtils::CBuilder  0.280217
    ExtUtils::Command   1.18    
    ExtUtils::Install   1.68    
    ExtUtils::MakeMaker 6.98    
    ExtUtils::Manifest  1.65    
    ExtUtils::ParseXS   3.24    
    File::Spec          3.47    
    JSON                2.90    
    JSON::PP            2.27203 
    Module::Build       0.4208  
    Module::Signature   0.73    
    Parse::CPAN::Meta   1.4414  
    Test::Harness       3.32    
    Test::More          1.001003
    YAML                1.01    
    YAML::Syck          1.27    
    version             0.9904  


--

Summary of my perl5 (revision 5 version 16 subversion 3) configuration:
   
  Platform:
    osname=MSWin32, osvers=5.2, archname=MSWin32-x86-multi-thread
    uname=''
    config_args='undef'
    hint=recommended, useposix=true, d_sigaction=undef
    useithreads=define, usemultiplicity=define
    useperlio=define, d_sfio=undef, uselargefiles=define, usesocks=undef
    use64bitint=undef, use64bitall=undef, uselongdouble=undef
    usemymalloc=n, bincompat5005=undef
  Compiler:
    cc='cl', ccflags ='-nologo -GF -W3 -MD -Zi -DNDEBUG -O1 -DWIN32 -D_CONSOLE -DNO_STRICT -DPERL_TEXTMODE_SCRIPTS -DUSE_SITECUSTOMIZE -DPERL_IMPLICIT_CONTEXT -DPERL_IMPLICIT_SYS -DUSE_PERLIO -D_USE_32BIT_TIME_T',
    optimize='-MD -Zi -DNDEBUG -O1',
    cppflags='-DWIN32'
    ccversion='16.0.40219', gccversion='', gccosandvers=''
    intsize=4, longsize=4, ptrsize=4, doublesize=8, byteorder=1234
    d_longlong=undef, longlongsize=8, d_longdbl=define, longdblsize=8
    ivtype='long', ivsize=4, nvtype='double', nvsize=8, Off_t='__int64', lseeksize=8
    alignbytes=8, prototype=define
  Linker and Libraries:
    ld='link', ldflags ='-nologo -nodefaultlib -debug -opt:ref,icf  -libpath:"C:\Perl\lib\CORE"  -machine:x86'
    libpth=\lib
    libs=oldnames.lib kernel32.lib user32.lib gdi32.lib winspool.lib  comdlg32.lib advapi32.lib shell32.lib ole32.lib oleaut32.lib  netapi32.lib uuid.lib ws2_32.lib mpr.lib winmm.lib  version.lib odbc32.lib odbccp32.lib comctl32.lib msvcrt.lib
    perllibs=oldnames.lib kernel32.lib user32.lib gdi32.lib winspool.lib  comdlg32.lib advapi32.lib shell32.lib ole32.lib oleaut32.lib  netapi32.lib uuid.lib ws2_32.lib mpr.lib winmm.lib  version.lib odbc32.lib odbccp32.lib comctl32.lib msvcrt.lib
    libc=msvcrt.lib, so=dll, useshrplib=true, libperl=perl516.lib
    gnulibc_version=''
  Dynamic Linking:
    dlsrc=dl_win32.xs, dlext=dll, d_dlsymun=undef, ccdlflags=' '
    cccdlflags=' ', lddlflags='-dll -nologo -nodefaultlib -debug -opt:ref,icf  -libpath:"C:\Perl\lib\CORE"  -machine:x86'


Characteristics of this binary (from libperl): 
  Compile-time options: HAS_TIMES HAVE_INTERP_INTERN MULTIPLICITY
                        PERLIO_LAYERS PERL_DONT_CREATE_GVSV
                        PERL_IMPLICIT_CONTEXT PERL_IMPLICIT_SYS
                        PERL_MALLOC_WRAP PERL_PRESERVE_IVUV PL_OP_SLAB_ALLOC
                        USE_ITHREADS USE_LARGE_FILES USE_LOCALE
                        USE_LOCALE_COLLATE USE_LOCALE_CTYPE
                        USE_LOCALE_NUMERIC USE_PERLIO USE_PERL_ATOF
                        USE_SITECUSTOMIZE
  Locally applied patches:
	ActivePerl Build 1604 [298023]
  Built under MSWin32
  Compiled at Apr 14 2014 14:32:20
  %ENV:
    PERL5_CPANPLUS_IS_RUNNING="11096"
    PERL5_CPAN_IS_RUNNING="11096"
  @INC:
    C:/Perl/site/lib
    C:/Perl/lib
    .