Org-Parser v0.561 Perl 5 v5.36.3 x86_64-linux

Status
Pass
From
Slaven Rezić
Dist
Org-Parser v0.561
Platform
Perl 5 v5.36.3 x86_64-linux
Date
2024-01-09 07:58:33
ID
e2b48f20-aec4-11ee-adc0-d9ea6d8775ea
This distribution has been tested as part of the CPAN Testers
project, supporting the Perl programming language.  See
http://wiki.cpantesters.org/ for more information or email
questions to cpan-testers-discuss@perl.org


--
Dear perlancar,

This is a computer-generated report for Org-Parser-0.561
on perl 5.36.3, created by CPAN-Reporter-1.2019.

Thank you for uploading your work to CPAN.  Congratulations!
All tests were successful.

Sections of this report:

    * Tester comments
    * Program output
    * Prerequisites
    * Environment and other context

------------------------------
TESTER COMMENTS
------------------------------

Additional comments from tester:

none provided

------------------------------
PROGRAM OUTPUT
------------------------------

Output from '/usr/bin/make test':

PERL_DL_NONLAZY=1 "/opt/perl-5.36.3/bin/perl" "-MExtUtils::Command::MM" "-MTest::Harness" "-e" "undef *Test::Harness::Switches; test_harness(0, 'blib/lib', 'blib/arch')" t/*.t
t/00-compile.t ............... ok
t/01-basics.t ................ ok
t/author-critic.t ............ skipped: these tests are for testing by the author
t/author-pod-coverage.t ...... skipped: these tests are for testing by the author
t/author-pod-syntax.t ........ skipped: these tests are for testing by the author
t/base_element-field_name.t .. ok
t/base_element.t ............. ok
t/block.t .................... ok
t/comment.t .................. ok
t/document.t ................. ok
t/drawer.t ................... ok
t/fixed_width_section.t ...... ok
t/footnote.t ................. ok
t/headline-get_property.t .... ok
t/headline.t ................. ok
t/link_and_target.t .......... ok
t/list.t ..................... ok
t/radio_target.t ............. ok
t/regression-rt68443.t ....... ok
t/rt98375.t .................. ok
t/setting-todo.t ............. ok
t/setting.t .................. ok
t/table.t .................... ok
t/text.t ..................... ok
t/timerange.t ................ ok
t/timestamp.t ................ ok
t/unicode.t .................. ok
t/various.t .................. ok
All tests successful.
Files=28, Tests=120, 10 wallclock secs ( 0.11 usr  0.04 sys +  4.61 cusr  1.07 csys =  5.83 CPU)
Result: PASS

------------------------------
PREREQUISITES
------------------------------

Prerequisite modules loaded:

requires:

    Module                      Need   Have    
    --------------------------- ------ --------
    Cwd                         0      3.84    
    DateTime                    0      1.65    
    DateTime::Event::Recurrence 0      0.19    
    Digest::MD5                 0      2.58    
    File::Slurper               0      0.014   
    if                          0      0.0610  
    List::MoreUtils             0      0.430   
    locale                      0      1.10    
    Log::ger                    0.038  0.040   
    Module::List                0      0.004   
    Module::Load                0      0.36    
    Moo                         0      2.005005
    Moo::Role                   0      2.005005
    perl                        5.014  5.036003
    Scalar::Util                0      1.63    
    Storable                    3.08   3.26    
    strict                      0      1.12    
    Time::HiRes                 0      1.9770  
    utf8                        0      1.24    
    warnings                    0      1.58    

build_requires:

    Module                      Need   Have    
    --------------------------- ------ --------
    ExtUtils::MakeMaker         0      7.64    
    File::Spec                  0      3.84    
    File::Temp                  0.2307 0.2311  
    FindBin                     0      1.53    
    IO::Handle                  0      1.55    
    IPC::Open3                  0      1.22    
    lib                         0      0.65    
    Module::Loaded              0      0.08    
    Org::Dump                   0.551  0.552   
    Test::Exception             0      0.43    
    Test::More                  0.98   1.302198

configure_requires:

    Module                      Need   Have    
    --------------------------- ------ --------
    ExtUtils::MakeMaker         0      7.64    


------------------------------
ENVIRONMENT AND OTHER CONTEXT
------------------------------

Environment variables:

    LANG = en_US.UTF-8
    PATH = /usr/local/bin:/usr/bin:/bin:/usr/local/sbin:/usr/sbin:/sbin:/home/cpansand/bin/linux-gnu:/home/cpansand/bin/sh:/home/cpansand/bin:/usr/games:/home/cpansand/devel:/home/eserte/src/srezic-misc/scripts
    PERL5LIB = /home/cpansand/.cpan/build/2024010905/Org-Dump-0.552-0/blib/arch:/home/cpansand/.cpan/build/2024010905/Org-Dump-0.552-0/blib/lib:/home/cpansand/.cpan/build/2024010905/File-Slurper-Dash-0.001-0/blib/arch:/home/cpansand/.cpan/build/2024010905/File-Slurper-Dash-0.001-0/blib/lib:/home/cpansand/.cpan/build/2024010905/Data-Sah-Filter-perl-Str-replace_dashes_with_underscores-0.004-0/blib/arch:/home/cpansand/.cpan/build/2024010905/Data-Sah-Filter-perl-Str-replace_dashes_with_underscores-0.004-0/blib/lib:/home/cpansand/.cpan/build/2024010905/Browser-Open-0.04-1/blib/arch:/home/cpansand/.cpan/build/2024010905/Browser-Open-0.04-1/blib/lib
    PERL5OPT = 
    PERL5_CPANPLUS_IS_RUNNING = 661371
    PERL5_CPAN_IS_RUNNING = 661371
    PERL5_CPAN_IS_RUNNING_IN_RECURSION = 656270,661371
    PERLDOC = -MPod::Perldoc::ToTextOverstrike
    PERL_BATCH = yes
    PERL_CANARY_STABILITY_NOPROMPT = 1
    PERL_CPAN_REPORTER_CONFIG = /var/tmp/cpansmoker-1023/2024010905/cpanreporter_000_config.ini
    PERL_EXTUTILS_AUTOINSTALL = --defaultdeps
    PERL_USE_UNSAFE_INC = 1
    SHELL = /usr/bin/zsh
    TERM = screen
    TMPDIR = /var/tmp/cpansmoker-1023/2024010905

Perl special variables (and OS-specific diagnostics, for MSWin32):

    $^X = /opt/perl-5.36.3/bin/perl
    $UID/$EUID = 1023 / 1023
    $GID = 1023 1023
    $EGID = 1023 1023

Perl module toolchain versions installed:

    Module              Have    
    ------------------- --------
    CPAN                2.33    
    CPAN::Meta          2.150010
    Cwd                 3.84    
    ExtUtils::CBuilder  0.280236
    ExtUtils::Command   7.64    
    ExtUtils::Install   2.20    
    ExtUtils::MakeMaker 7.64    
    ExtUtils::Manifest  1.73    
    ExtUtils::ParseXS   3.45    
    File::Spec          3.84    
    JSON                4.10    
    JSON::PP            4.16    
    Module::Build       0.4234  
    Module::Signature   0.88    
    Parse::CPAN::Meta   2.150010
    Test2               1.302198
    Test::Harness       3.44    
    Test::More          1.302198
    YAML                1.31    
    YAML::Syck          1.34    
    version             0.9929  


--

Summary of my perl5 (revision 5 version 36 subversion 3) configuration:
   
  Platform:
    osname=linux
    osvers=6.6.8-100.fc38.x86_64
    archname=x86_64-linux
    uname='linux fedora39-2gb-hil 6.6.8-100.fc38.x86_64 #1 smp preempt_dynamic thu dec 21 04:01:45 utc 2023 x86_64 gnulinux '
    config_args='-ds -e -Dprefix=/opt/perl-5.36.3 -Dcf_email=srezic@cpan.org'
    hint=recommended
    useposix=true
    d_sigaction=define
    useithreads=undef
    usemultiplicity=undef
    use64bitint=define
    use64bitall=define
    uselongdouble=undef
    usemymalloc=n
    default_inc_excludes_dot=define
  Compiler:
    cc='cc'
    ccflags ='-fwrapv -fno-strict-aliasing -pipe -fstack-protector-strong -I/usr/local/include -D_LARGEFILE_SOURCE -D_FILE_OFFSET_BITS=64 -D_FORTIFY_SOURCE=2'
    optimize='-O2'
    cppflags='-fwrapv -fno-strict-aliasing -pipe -fstack-protector-strong -I/usr/local/include'
    ccversion=''
    gccversion='13.2.1 20231205 (Red Hat 13.2.1-6)'
    gccosandvers=''
    intsize=4
    longsize=8
    ptrsize=8
    doublesize=8
    byteorder=12345678
    doublekind=3
    d_longlong=define
    longlongsize=8
    d_longdbl=define
    longdblsize=16
    longdblkind=3
    ivtype='long'
    ivsize=8
    nvtype='double'
    nvsize=8
    Off_t='off_t'
    lseeksize=8
    alignbytes=8
    prototype=define
  Linker and Libraries:
    ld='cc'
    ldflags =' -fstack-protector-strong -L/usr/local/lib'
    libpth=/usr/local/lib /usr/lib /usr/lib64 /usr/local/lib64
    libs=-lpthread -ldb -ldl -lm -lcrypt -lutil -lc
    perllibs=-lpthread -ldl -lm -lcrypt -lutil -lc
    libc=/lib/../lib64/libc.so.6
    so=so
    useshrplib=false
    libperl=libperl.a
    gnulibc_version='2.38'
  Dynamic Linking:
    dlsrc=dl_dlopen.xs
    dlext=so
    d_dlsymun=undef
    ccdlflags='-Wl,-E'
    cccdlflags='-fPIC'
    lddlflags='-shared -O2 -L/usr/local/lib -fstack-protector-strong'


Characteristics of this binary (from libperl): 
  Compile-time options:
    HAS_TIMES
    PERLIO_LAYERS
    PERL_COPY_ON_WRITE
    PERL_DONT_CREATE_GVSV
    PERL_MALLOC_WRAP
    PERL_OP_PARENT
    PERL_PRESERVE_IVUV
    USE_64_BIT_ALL
    USE_64_BIT_INT
    USE_LARGE_FILES
    USE_LOCALE
    USE_LOCALE_COLLATE
    USE_LOCALE_CTYPE
    USE_LOCALE_NUMERIC
    USE_LOCALE_TIME
    USE_PERLIO
    USE_PERL_ATOF
  Built under linux
  Compiled at Dec 26 2023 08:08:23
  %ENV:
    PERL5LIB="/home/cpansand/.cpan/build/2024010905/Org-Dump-0.552-0/blib/arch:/home/cpansand/.cpan/build/2024010905/Org-Dump-0.552-0/blib/lib:/home/cpansand/.cpan/build/2024010905/File-Slurper-Dash-0.001-0/blib/arch:/home/cpansand/.cpan/build/2024010905/File-Slurper-Dash-0.001-0/blib/lib:/home/cpansand/.cpan/build/2024010905/Data-Sah-Filter-perl-Str-replace_dashes_with_underscores-0.004-0/blib/arch:/home/cpansand/.cpan/build/2024010905/Data-Sah-Filter-perl-Str-replace_dashes_with_underscores-0.004-0/blib/lib:/home/cpansand/.cpan/build/2024010905/Browser-Open-0.04-1/blib/arch:/home/cpansand/.cpan/build/2024010905/Browser-Open-0.04-1/blib/lib"
    PERL5OPT=""
    PERL5_CPANPLUS_IS_RUNNING="661371"
    PERL5_CPAN_IS_RUNNING="661371"
    PERL5_CPAN_IS_RUNNING_IN_RECURSION="656270,661371"
    PERLDOC="-MPod::Perldoc::ToTextOverstrike"
    PERL_BATCH="yes"
    PERL_CANARY_STABILITY_NOPROMPT="1"
    PERL_CPAN_REPORTER_CONFIG="/var/tmp/cpansmoker-1023/2024010905/cpanreporter_000_config.ini"
    PERL_EXTUTILS_AUTOINSTALL="--defaultdeps"
    PERL_USE_UNSAFE_INC="1"
  @INC:
    /home/cpansand/.cpan/build/2024010905/Org-Dump-0.552-0/blib/arch
    /home/cpansand/.cpan/build/2024010905/Org-Dump-0.552-0/blib/lib
    /home/cpansand/.cpan/build/2024010905/File-Slurper-Dash-0.001-0/blib/arch
    /home/cpansand/.cpan/build/2024010905/File-Slurper-Dash-0.001-0/blib/lib
    /home/cpansand/.cpan/build/2024010905/Data-Sah-Filter-perl-Str-replace_dashes_with_underscores-0.004-0/blib/arch
    /home/cpansand/.cpan/build/2024010905/Data-Sah-Filter-perl-Str-replace_dashes_with_underscores-0.004-0/blib/lib
    /home/cpansand/.cpan/build/2024010905/Browser-Open-0.04-1/blib/arch
    /home/cpansand/.cpan/build/2024010905/Browser-Open-0.04-1/blib/lib
    /opt/perl-5.36.3/lib/site_perl/5.36.3/x86_64-linux
    /opt/perl-5.36.3/lib/site_perl/5.36.3
    /opt/perl-5.36.3/lib/5.36.3/x86_64-linux
    /opt/perl-5.36.3/lib/5.36.3
    .