Wasm v0.23 Perl 5 v5.18.0 x86_64-linux

Status
Pass
From
Andreas J. König (ANDK)
Dist
Wasm v0.23
Platform
Perl 5 v5.18.0 x86_64-linux
Date
2022-11-06 05:50:14
ID
e2ac60c8-5d96-11ed-86d7-db10f3e160c8
This distribution has been tested as part of the CPAN Testers
project, supporting the Perl programming language.  See
http://wiki.cpantesters.org/ for more information or email
questions to cpan-testers-discuss@perl.org


--
Dear Graham Ollis,

This is a computer-generated report for Wasm-0.23
on perl 5.18.0, created by CPAN-Reporter-1.2018.

Thank you for uploading your work to CPAN.  Congratulations!
All tests were successful.

Sections of this report:

    * Tester comments
    * Program output
    * Prerequisites
    * Environment and other context

------------------------------
TESTER COMMENTS
------------------------------

Additional comments from tester:

this report is from an automated smoke testing program
and was not reviewed by a human for accuracy

------------------------------
PROGRAM OUTPUT
------------------------------

Output from '/usr/bin/make test':

PERL_DL_NONLAZY=1 "/home/sand/src/perl/repoperls/installed-perls/host/k93msid/v5.18.0/bb7f/bin/perl" "-MExtUtils::Command::MM" "-MTest::Harness" "-e" "undef *Test::Harness::Switches; test_harness(0, 'blib/lib', 'blib/arch')" t/*.t
# 
# 
# 
# HARNESS_ACTIVE=1
# HARNESS_VERSION=3.44
# LANG=en_US.UTF-8
# PERL5LIB=/tmp/loop_over_bdir-3267309-odzMIZ/Wasm-0.23-0/blib/lib:/tmp/loop_over_bdir-3267309-odzMIZ/Wasm-0.23-0/blib/arch:
# PERL5OPT=
# PERL5_CPANPLUS_IS_RUNNING=1819482
# PERL5_CPAN_IS_RUNNING=1819482
# PERL_CANARY_STABILITY_NOPROMPT=1
# PERL_DL_NONLAZY=1
# PERL_MM_USE_DEFAULT=1
# PERL_USE_UNSAFE_INC=1
# SHELL=/usr/bin/zsh
# 
# 
# 
# PERL5LIB path
# /tmp/loop_over_bdir-3267309-odzMIZ/Wasm-0.23-0/blib/lib
# /tmp/loop_over_bdir-3267309-odzMIZ/Wasm-0.23-0/blib/arch
# 
# 
# 
# perl                           5.018000 linux x86_64-linux
# Alien::wasmtime                0.17
# Capture::Tiny                  0.48
# Devel::GlobalDestruction       0.14
# ExtUtils::MakeMaker            7.6501
# FFI::C                         0.12
# FFI::C::StructDef              0.12
# FFI::C::Util                   0.12
# FFI::CheckLib                  0.29
# FFI::Platypus                  1.58
# FFI::Platypus::Buffer          1.58
# FFI::Platypus::Memory          1.58
# FFI::Platypus::Record          1.58
# FFI::Platypus::Type::PtrObject 0.03
# Path::Tiny                     0.124
# Ref::Util                      0.204
# Sub::Install                   0.928
# Test2::API                     1.302191
# Test2::Mock                    0.000145
# Test2::V0                      0.000145
# Test::Alien::Diag              2.66
# YAML                           1.30
# autodie                        2.13
# 
# 
# 
# 
# 
# 
# Alien::wasmtime->cflags        = -I/home/sand/src/perl/repoperls/installed-perls/host/k93msid/v5.18.0/bb7f/lib/site_perl/5.18.0/x86_64-linux/auto/share/dist/Alien-wasmtime/include 
# Alien::wasmtime->cflags_static = -I/home/sand/src/perl/repoperls/installed-perls/host/k93msid/v5.18.0/bb7f/lib/site_perl/5.18.0/x86_64-linux/auto/share/dist/Alien-wasmtime/include 
# Alien::wasmtime->libs          = -L/home/sand/src/perl/repoperls/installed-perls/host/k93msid/v5.18.0/bb7f/lib/site_perl/5.18.0/x86_64-linux/auto/share/dist/Alien-wasmtime/lib -lwasmtime 
# Alien::wasmtime->libs_static   = -L/home/sand/src/perl/repoperls/installed-perls/host/k93msid/v5.18.0/bb7f/lib/site_perl/5.18.0/x86_64-linux/auto/share/dist/Alien-wasmtime/lib -lwasmtime 
# Alien::wasmtime->version       = 0.27.0
# Alien::wasmtime->install_type  = share
# Alien::wasmtime->dynamic_libs  = /home/sand/src/perl/repoperls/installed-perls/host/k93msid/v5.18.0/bb7f/lib/site_perl/5.18.0/x86_64-linux/auto/share/dist/Alien-wasmtime/lib/libwasmtime.so
# 
# 
# 
# 
# 
t/00_diag.t ......................... ok
t/test2_plugin_wasm.t ............... ok
t/wasm.t ............................ ok
t/wasm__linker.t .................... ok
t/wasm_func.t ....................... ok
t/wasm_global.t ..................... ok
t/wasm_hook.t ....................... ok
t/wasm_memory.t ..................... ok
t/wasm_trap.t ....................... ok
t/wasm_wasmtime.t ................... ok
t/wasm_wasmtime_bytevec.t ........... ok
t/wasm_wasmtime_caller.t ............ ok
t/wasm_wasmtime_config.t ............ ok
t/wasm_wasmtime_engine.t ............ ok
t/wasm_wasmtime_exporttype.t ........ ok
t/wasm_wasmtime_extern.t ............ ok
t/wasm_wasmtime_externtype.t ........ ok
t/wasm_wasmtime_ffi.t ............... ok
Attempt to pack pointer to temporary value at /home/sand/src/perl/repoperls/installed-perls/host/k93msid/v5.18.0/bb7f/lib/site_perl/5.18.0/x86_64-linux/FFI/Platypus/Buffer.pm line 24.
t/wasm_wasmtime_func.t .............. ok
t/wasm_wasmtime_functype.t .......... ok
t/wasm_wasmtime_global.t ............ ok
t/wasm_wasmtime_globaltype.t ........ ok
t/wasm_wasmtime_importtype.t ........ ok
t/wasm_wasmtime_instance.t .......... ok
t/wasm_wasmtime_instance_exports.t .. ok
t/wasm_wasmtime_linker.t ............ ok
t/wasm_wasmtime_memory.t ............ ok
t/wasm_wasmtime_memorytype.t ........ ok
t/wasm_wasmtime_module.t ............ ok
t/wasm_wasmtime_module_exports.t .... ok
t/wasm_wasmtime_module_imports.t .... ok
t/wasm_wasmtime_store.t ............. ok
t/wasm_wasmtime_table.t ............. ok
t/wasm_wasmtime_tabletype.t ......... ok
t/wasm_wasmtime_trap.t .............. ok
t/wasm_wasmtime_valtype.t ........... ok
t/wasm_wasmtime_wasiconfig.t ........ ok
t/wasm_wasmtime_wasiinstance.t ...... ok
t/wasm_wasmtime_wat2wasm.t .......... ok
All tests successful.
Files=39, Tests=250, 31 wallclock secs ( 0.12 usr  0.22 sys + 12.90 cusr  6.88 csys = 20.12 CPU)
Result: PASS

------------------------------
PREREQUISITES
------------------------------

Prerequisite modules loaded:

requires:

    Module                         Need     Have    
    ------------------------------ -------- --------
    Alien::wasmtime                0.17     0.17    
    autodie                        0        2.13    
    Devel::GlobalDestruction       0        0.14    
    FFI::C                         0.05     0.12    
    FFI::C::StructDef              0        0.12    
    FFI::C::Util                   0        0.12    
    FFI::CheckLib                  0.26     0.29    
    FFI::Platypus                  1.26     1.58    
    FFI::Platypus::Buffer          0        1.58    
    FFI::Platypus::Memory          0        1.58    
    FFI::Platypus::Record          0        1.58    
    FFI::Platypus::Type::PtrObject 0.02     0.03    
    Path::Tiny                     0        0.124   
    perl                           5.008004 5.018000
    Ref::Util                      0        0.204   
    Sub::Install                   0        0.928   
    Test2::API                     1.302015 1.302191
    Test2::Mock                    0.000121 0.000145

build_requires:

    Module                         Need     Have    
    ------------------------------ -------- --------
    Capture::Tiny                  0        0.48    
    ExtUtils::MakeMaker            0        7.65_01 
    Test2::V0                      0.000121 0.000145
    YAML                           0        1.30    

configure_requires:

    Module                         Need     Have    
    ------------------------------ -------- --------
    ExtUtils::MakeMaker            0        7.65_01 
    FFI::CheckLib                  0.26     0.29    
    perl                           5.008004 5.018000


------------------------------
ENVIRONMENT AND OTHER CONTEXT
------------------------------

Environment variables:

    AUTOMATED_TESTING = 1
    LANG = en_US.UTF-8
    LANGUAGE = en_US:en
    PATH = /home/sand/bin:/usr/local/bin:/usr/bin:/bin:/usr/games:/usr/local/perl/bin:/usr/X11/bin:/sbin:/usr/sbin
    PERL5LIB = 
    PERL5OPT = 
    PERL5_CPANPLUS_IS_RUNNING = 1819482
    PERL5_CPAN_IS_RUNNING = 1819482
    PERL_CANARY_STABILITY_NOPROMPT = 1
    PERL_MM_USE_DEFAULT = 1
    PERL_USE_UNSAFE_INC = 1
    SHELL = /usr/bin/zsh
    TERM = screen

Perl special variables (and OS-specific diagnostics, for MSWin32):

    $^X = /home/sand/src/perl/repoperls/installed-perls/host/k93msid/v5.18.0/bb7f/bin/perl
    $UID/$EUID = 1005 / 1005
    $GID = 1005 1005
    $EGID = 1005 1005

Perl module toolchain versions installed:

    Module              Have    
    ------------------- --------
    CPAN                2.34    
    CPAN::Meta          2.150010
    Cwd                 3.75    
    ExtUtils::CBuilder  0.280236
    ExtUtils::Command   7.65_01 
    ExtUtils::Install   2.06    
    ExtUtils::MakeMaker 7.65_01 
    ExtUtils::Manifest  1.70    
    ExtUtils::ParseXS   3.44    
    File::Spec          3.75    
    JSON                4.07    
    JSON::PP            4.12    
    Module::Build       0.4231  
    Module::Signature   0.88    
    Parse::CPAN::Meta   2.150010
    Test::Harness       3.44    
    Test::More          1.302191
    YAML                1.30    
    YAML::Syck          1.34    
    version             0.9929  


--

Summary of my perl5 (revision 5 version 18 subversion 0) configuration:
  Derived from: a9acda3b5f74585852a57b51b724804ac586cb0b
  Platform:
    osname=linux, osvers=5.3.0-2-amd64, archname=x86_64-linux
    uname='linux k93msid 5.3.0-2-amd64 #1 smp debian 5.3.9-3 (2019-11-19) x86_64 gnulinux '
    config_args='-Dprefix=/home/sand/src/perl/repoperls/installed-perls/host/k93msid/v5.18.0/bb7f -Dmyhostname=k93msid -Dinstallusrbinperl=n -Uversiononly -Dusedevel -des -Ui_db -Dlibswanted=cl pthread socket inet nsl gdbm dbm malloc dl ld sun m crypt sec util c cposix posix ucb BSD gdbm_compat -Uuseithreads -Uuselongdouble -DEBUGGING=both'
    hint=recommended, useposix=true, d_sigaction=define
    useithreads=undef, usemultiplicity=undef
    useperlio=define, d_sfio=undef, uselargefiles=define, usesocks=undef
    use64bitint=define, use64bitall=define, uselongdouble=undef
    usemymalloc=n, bincompat5005=undef
  Compiler:
    cc='cc', ccflags ='-fwrapv -DDEBUGGING -fno-strict-aliasing -pipe -fstack-protector -I/usr/local/include -D_LARGEFILE_SOURCE -D_FILE_OFFSET_BITS=64',
    optimize='-O2 -g',
    cppflags='-fwrapv -DDEBUGGING -fno-strict-aliasing -pipe -fstack-protector -I/usr/local/include'
    ccversion='', gccversion='9.2.1 20191109', gccosandvers=''
    intsize=4, longsize=8, ptrsize=8, doublesize=8, byteorder=12345678
    d_longlong=define, longlongsize=8, d_longdbl=define, longdblsize=16
    ivtype='long', ivsize=8, nvtype='double', nvsize=8, Off_t='off_t', lseeksize=8
    alignbytes=8, prototype=define
  Linker and Libraries:
    ld='cc', ldflags =' -fstack-protector -L/usr/local/lib'
    libpth=/usr/local/lib /lib/x86_64-linux-gnu /lib/../lib /usr/lib/x86_64-linux-gnu /usr/lib/../lib /lib /usr/lib
    libs=-lpthread -lnsl -ldl -lm -lcrypt -lutil -lc
    perllibs=-lpthread -lnsl -ldl -lm -lcrypt -lutil -lc
    libc=libc-2.29.so, so=so, useshrplib=false, libperl=libperl.a
    gnulibc_version='2.29'
  Dynamic Linking:
    dlsrc=dl_dlopen.xs, dlext=so, d_dlsymun=undef, ccdlflags='-Wl,-E'
    cccdlflags='-fPIC', lddlflags='-shared -O2 -g -L/usr/local/lib -fstack-protector'


Characteristics of this binary (from libperl): 
  Compile-time options: DEBUGGING HAS_TIMES PERLIO_LAYERS
                        PERL_DONT_CREATE_GVSV
                        PERL_HASH_FUNC_ONE_AT_A_TIME_HARD PERL_MALLOC_WRAP
                        PERL_PRESERVE_IVUV PERL_SAWAMPERSAND PERL_USE_DEVEL
                        USE_64_BIT_ALL USE_64_BIT_INT USE_LARGE_FILES
                        USE_LOCALE USE_LOCALE_COLLATE USE_LOCALE_CTYPE
                        USE_LOCALE_NUMERIC USE_PERLIO USE_PERL_ATOF
  Locally applied patches:
	uncommitted-changes
  Built under linux
  Compiled at May 18 2020 02:00:48
  %ENV:
    PERL5LIB=""
    PERL5OPT=""
    PERL5_CPANPLUS_IS_RUNNING="1819482"
    PERL5_CPAN_IS_RUNNING="1819482"
    PERL_CANARY_STABILITY_NOPROMPT="1"
    PERL_MM_USE_DEFAULT="1"
    PERL_USE_UNSAFE_INC="1"
  @INC:
    /home/sand/src/perl/repoperls/installed-perls/host/k93msid/v5.18.0/bb7f/lib/site_perl/5.18.0/x86_64-linux
    /home/sand/src/perl/repoperls/installed-perls/host/k93msid/v5.18.0/bb7f/lib/site_perl/5.18.0
    /home/sand/src/perl/repoperls/installed-perls/host/k93msid/v5.18.0/bb7f/lib/5.18.0/x86_64-linux
    /home/sand/src/perl/repoperls/installed-perls/host/k93msid/v5.18.0/bb7f/lib/5.18.0
    .