Report for HTTP-Message-6.06

Back
From: metabase:user:bde34802-c222-11e2-9634-0f85d716587b
Subject: PASS HTTP-Message-6.06 v5.20.0 GNU/Linux
Date: 2014-06-17T18:47:51Z

This distribution has been tested as part of the CPAN Testers
project, supporting the Perl programming language.  See
http://wiki.cpantesters.org/ for more information or email
questions to cpan-testers-discuss@perl.org


--
Dear GAAS,

This is a computer-generated report for HTTP-Message-6.06
on perl 5.20.0, created by App::cpanminus::reporter 0.10 (1.7001).

Thank you for uploading your work to CPAN.  Congratulations!
All tests were successful.

Sections of this report:

    * Tester comments
    * Program output
    * Prerequisites
    * Environment and other context

------------------------------
TESTER COMMENTS
------------------------------

Additional comments from tester:

none provided

------------------------------
PROGRAM OUTPUT
------------------------------

Output from '':

Building and testing HTTP-Message-6.06
cp lib/HTTP/Request.pm blib/lib/HTTP/Request.pm
cp lib/HTTP/Status.pm blib/lib/HTTP/Status.pm
cp lib/HTTP/Message.pm blib/lib/HTTP/Message.pm
cp lib/HTTP/Response.pm blib/lib/HTTP/Response.pm
cp lib/HTTP/Headers/Auth.pm blib/lib/HTTP/Headers/Auth.pm
cp lib/HTTP/Request/Common.pm blib/lib/HTTP/Request/Common.pm
cp lib/HTTP/Config.pm blib/lib/HTTP/Config.pm
cp lib/HTTP/Headers.pm blib/lib/HTTP/Headers.pm
cp lib/HTTP/Headers/Util.pm blib/lib/HTTP/Headers/Util.pm
cp lib/HTTP/Headers/ETag.pm blib/lib/HTTP/Headers/ETag.pm
Manifying blib/man3/HTTP::Config.3
Manifying blib/man3/HTTP::Headers.3
Manifying blib/man3/HTTP::Headers::Util.3
Manifying blib/man3/HTTP::Message.3
Manifying blib/man3/HTTP::Request.3
Manifying blib/man3/HTTP::Request::Common.3
Manifying blib/man3/HTTP::Response.3
Manifying blib/man3/HTTP::Status.3
PERL_DL_NONLAZY=1 /home/rsrchboy/perl5/perlbrew/perls/5.20.0/bin/perl "-MExtUtils::Command::MM" "-MTest::Harness" "-e" "undef *Test::Harness::Switches; test_harness(0, 'blib/lib', 'blib/arch')" t/*.t
t/common-req.t .......... ok
t/headers-auth.t ........ ok
t/headers-etag.t ........ ok
t/headers-util.t ........ ok
t/headers.t ............. ok
t/http-config.t ......... ok
t/message-charset.t ..... ok
t/message-decode-xml.t .. ok
t/message-old.t ......... ok
t/message-parts.t ....... ok
t/message.t ............. ok
t/request.t ............. ok
t/response.t ............ ok
t/status-old.t .......... ok
t/status.t .............. ok
All tests successful.
Files=15, Tests=554,  0 wallclock secs ( 0.05 usr  0.01 sys +  0.31 cusr  0.04 csys =  0.41 CPU)
Result: PASS

------------------------------
PREREQUISITES
------------------------------

Prerequisite modules loaded:

    No requirements found

------------------------------
ENVIRONMENT AND OTHER CONTEXT
------------------------------

Environment variables:

    LANG = en_US.UTF-8
    LANGUAGE = en_US
    LC_CTYPE = en_US.UTF-8
    PATH = /home/rsrchboy/.perlbrew/libs/5.20.0@master/bin:/home/rsrchboy/perl5/perlbrew/bin:/home/rsrchboy/perl5/perlbrew/perls/5.20.0/bin:/home/rsrchboy/.rbenv/shims:/home/rsrchboy/bin:/home/rsrchboy/.nodejs/bin:/home/rsrchboy/.gem/ruby/1.8/bin:/opt/OpenPrinting-Gutenprint/sbin:/opt/OpenPrinting-Gutenprint/bin:/usr/local/sbin:/usr/local/bin:/usr/sbin:/usr/bin:/sbin:/bin:/usr/games:/usr/local/games:/home/rsrchboy/.go/bin
    PERL5LIB = /home/rsrchboy/.perlbrew/libs/5.20.0@master/lib/perl5
    PERLBREW = command perlbrew
    PERLBREW_BASHRC_VERSION = 0.66
    PERLBREW_HOME = /home/rsrchboy/.perlbrew
    PERLBREW_LIB = master
    PERLBREW_MANPATH = /home/rsrchboy/.perlbrew/libs/5.20.0@master/man:/home/rsrchboy/perl5/perlbrew/perls/5.20.0/man
    PERLBREW_PATH = /home/rsrchboy/.perlbrew/libs/5.20.0@master/bin:/home/rsrchboy/perl5/perlbrew/bin:/home/rsrchboy/perl5/perlbrew/perls/5.20.0/bin
    PERLBREW_PERL = 5.20.0
    PERLBREW_ROOT = /home/rsrchboy/perl5/perlbrew
    PERLBREW_VERSION = 0.66
    PERL_CPANM_OPT = --mirror file:///srv/mirrors/CPAN --mirror-only
    PERL_LOCAL_LIB_ROOT = /home/rsrchboy/.perlbrew/libs/5.20.0@master
    PERL_MB_OPT = --install_base /home/rsrchboy/.perlbrew/libs/5.20.0@master
    PERL_MM_OPT = INSTALL_BASE=/home/rsrchboy/.perlbrew/libs/5.20.0@master
    SHELL = /bin/zsh
    TEMP = /tmp/user/1000
    TERM = screen-256color
    TMPDIR = /tmp/user/1000

Perl special variables (and OS-specific diagnostics, for MSWin32):

    EGID = 1000 4 20 24 27 29 30 46 104 112 121 124 147 999 1000
    EUID = 1000
    EXECUTABLE_NAME = /home/rsrchboy/perl5/perlbrew/perls/5.20.0/bin/perl
    GID = 1000 4 20 24 27 29 30 46 104 112 121 124 147 999 1000
    UID = 1000

Perl module toolchain versions installed:

    Module              Have    
    ------------------- --------
    CPAN                2.05    
    CPAN::Meta          2.140640
    Cwd                 3.47    
    ExtUtils::CBuilder  0.280216
    ExtUtils::Command   1.18    
    ExtUtils::Install   1.67    
    ExtUtils::MakeMaker 6.98    
    ExtUtils::Manifest  1.63    
    ExtUtils::ParseXS   3.24    
    File::Spec          3.47    
    JSON                2.90    
    JSON::PP            2.27203 
    Module::Build       0.4205  
    Module::Signature   n/a     
    Parse::CPAN::Meta   1.4414  
    Test::Harness       3.30    
    Test::More          1.001002
    YAML                n/a     
    YAML::Syck          n/a     
    version             0.9908  


--

Summary of my perl5 (revision 5 version 20 subversion 0) configuration:
   
  Platform:
    osname=linux, osvers=3.11.0-19-generic, archname=x86_64-linux
    uname='linux tychon 3.11.0-19-generic #33-ubuntu smp tue mar 11 18:48:34 utc 2014 x86_64 x86_64 x86_64 gnulinux '
    config_args='-de -Dprefix=/home/rsrchboy/perl5/perlbrew/perls/5.20.0 -Aeval:scriptdir=/home/rsrchboy/perl5/perlbrew/perls/5.20.0/bin'
    hint=recommended, useposix=true, d_sigaction=define
    useithreads=undef, usemultiplicity=undef
    use64bitint=define, use64bitall=define, uselongdouble=undef
    usemymalloc=n, bincompat5005=undef
  Compiler:
    cc='cc', ccflags ='-fwrapv -fno-strict-aliasing -pipe -fstack-protector -I/usr/local/include -D_LARGEFILE_SOURCE -D_FILE_OFFSET_BITS=64',
    optimize='-O2',
    cppflags='-fwrapv -fno-strict-aliasing -pipe -fstack-protector -I/usr/local/include'
    ccversion='', gccversion='4.8.2', gccosandvers=''
    intsize=4, longsize=8, ptrsize=8, doublesize=8, byteorder=12345678
    d_longlong=define, longlongsize=8, d_longdbl=define, longdblsize=16
    ivtype='long', ivsize=8, nvtype='double', nvsize=8, Off_t='off_t', lseeksize=8
    alignbytes=8, prototype=define
  Linker and Libraries:
    ld='cc', ldflags =' -fstack-protector -L/usr/local/lib'
    libpth=/usr/local/lib /usr/lib/gcc/x86_64-linux-gnu/4.8/include-fixed /usr/include/x86_64-linux-gnu /usr/lib /lib/x86_64-linux-gnu /lib/../lib /usr/lib/x86_64-linux-gnu /usr/lib/../lib /lib
    libs=-lnsl -ldl -lm -lcrypt -lutil -lc
    perllibs=-lnsl -ldl -lm -lcrypt -lutil -lc
    libc=libc-2.19.so, so=so, useshrplib=false, libperl=libperl.a
    gnulibc_version='2.19'
  Dynamic Linking:
    dlsrc=dl_dlopen.xs, dlext=so, d_dlsymun=undef, ccdlflags='-Wl,-E'
    cccdlflags='-fPIC', lddlflags='-shared -O2 -L/usr/local/lib -fstack-protector'


Characteristics of this binary (from libperl): 
  Compile-time options: HAS_TIMES PERLIO_LAYERS PERL_DONT_CREATE_GVSV
                        PERL_HASH_FUNC_ONE_AT_A_TIME_HARD PERL_MALLOC_WRAP
                        PERL_NEW_COPY_ON_WRITE PERL_PRESERVE_IVUV
                        USE_64_BIT_ALL USE_64_BIT_INT USE_LARGE_FILES
                        USE_LOCALE USE_LOCALE_COLLATE USE_LOCALE_CTYPE
                        USE_LOCALE_NUMERIC USE_PERLIO USE_PERL_ATOF
  Built under linux
  Compiled at Jun 17 2014 11:25:15
  %ENV:
    PERL5LIB="/home/rsrchboy/.perlbrew/libs/5.20.0@master/lib/perl5"
    PERLBREW="command perlbrew"
    PERLBREW_BASHRC_VERSION="0.66"
    PERLBREW_HOME="/home/rsrchboy/.perlbrew"
    PERLBREW_LIB="master"
    PERLBREW_MANPATH="/home/rsrchboy/.perlbrew/libs/5.20.0@master/man:/home/rsrchboy/perl5/perlbrew/perls/5.20.0/man"
    PERLBREW_PATH="/home/rsrchboy/.perlbrew/libs/5.20.0@master/bin:/home/rsrchboy/perl5/perlbrew/bin:/home/rsrchboy/perl5/perlbrew/perls/5.20.0/bin"
    PERLBREW_PERL="5.20.0"
    PERLBREW_ROOT="/home/rsrchboy/perl5/perlbrew"
    PERLBREW_VERSION="0.66"
    PERL_CPANM_OPT="--mirror file:///srv/mirrors/CPAN --mirror-only"
    PERL_LOCAL_LIB_ROOT="/home/rsrchboy/.perlbrew/libs/5.20.0@master"
    PERL_MB_OPT="--install_base /home/rsrchboy/.perlbrew/libs/5.20.0@master"
    PERL_MM_OPT="INSTALL_BASE=/home/rsrchboy/.perlbrew/libs/5.20.0@master"
  @INC:
    /home/rsrchboy/.perlbrew/libs/5.20.0@master/lib/perl5/x86_64-linux
    /home/rsrchboy/.perlbrew/libs/5.20.0@master/lib/perl5
    /home/rsrchboy/perl5/perlbrew/perls/5.20.0/lib/site_perl/5.20.0/x86_64-linux
    /home/rsrchboy/perl5/perlbrew/perls/5.20.0/lib/site_perl/5.20.0
    /home/rsrchboy/perl5/perlbrew/perls/5.20.0/lib/5.20.0/x86_64-linux
    /home/rsrchboy/perl5/perlbrew/perls/5.20.0/lib/5.20.0
    .