Sys-Filesystem v1.408 Perl 5 v5.35.11 x86_64-linux-thread-multi-ld

Status
Pass
From
Andreas J. König (ANDK)
Dist
Sys-Filesystem v1.408
Platform
Perl 5 v5.35.11 x86_64-linux-thread-multi-ld
Date
2022-05-19 06:42:43
ID
e292203e-d73e-11ec-ba2c-e5247f95d84d
This distribution has been tested as part of the CPAN Testers
project, supporting the Perl programming language.  See
http://wiki.cpantesters.org/ for more information or email
questions to cpan-testers-discuss@perl.org


--
Dear Jens Rehsack,

This is a computer-generated report for Sys-Filesystem-1.408
on perl 5.35.11, created by CPAN-Reporter-1.2018.

Thank you for uploading your work to CPAN.  Congratulations!
All tests were successful.

Sections of this report:

    * Tester comments
    * Program output
    * Prerequisites
    * Environment and other context

------------------------------
TESTER COMMENTS
------------------------------

Additional comments from tester:

this report is from an automated smoke testing program
and was not reviewed by a human for accuracy

------------------------------
PROGRAM OUTPUT
------------------------------

Output from '/usr/bin/make test':

PERL_DL_NONLAZY=1 "/tmp/basesmoker-reloperl-OYtS/bin/perl" "-MExtUtils::Command::MM" "-MTest::Harness" "-e" "undef *Test::Harness::Switches; test_harness(0, 'blib/lib', 'blib/arch')" t/*.t xt/*.t
# Testing Sys::Filesystem 1.408, Perl 5.035011 (/tmp/basesmoker-reloperl-OYtS/bin/perl) on linux-5.4.0-107-generic
t/01_load.t ...... ok
# filesystem - mounted - special - device - options - format - volume - label - type
# / - 1 - 0 - /dev/xvda1 - rw,noatime,nodiratime,errors=remount-ro - ext4 - 1 - 1 - ext4
# /dev - 1 - 0 - udev - rw,nosuid,noexec,relatime,size=6053640k,nr_inodes=1513410,mode=755 - devtmpfs - 1 - 1 - devtmpfs
# /dev/mqueue - 1 - 0 - mqueue - rw,nosuid,nodev,noexec,relatime - mqueue - 1 - 1 - mqueue
# /dev/pts - 1 - 1 - devpts - rw,nosuid,noexec,relatime,gid=5,mode=620,ptmxmode=000 - devpts - 1 - 1 - devpts
# /dev/shm - 1 - 1 - tmpfs - rw,nosuid,nodev - tmpfs - 1 - 1 - tmpfs
# /home/ftp - 1 - 0 - 192.168.0.85:/home/ftp - rw,nosuid,nodev,noatime,nodiratime,vers=3,rsize=32768,wsize=32768,namlen=255,acregmin=300,acregmax=300,acdirmin=300,acdirmax=300,hard,proto=tcp,timeo=600,retrans=2,sec=sys,mountaddr=192.168.0.85,mountvers=3,mountport=47147,mountproto=tcp,local_lock=none,addr=192.168.0.85 - nfs - 1 - 1 - nfs
# /home/sand - 1 - 0 - 192.168.0.85:/home/sand - rw,nosuid,nodev,noatime,nodiratime,vers=3,rsize=32768,wsize=32768,namlen=255,acregmin=300,acregmax=300,acdirmin=300,acdirmax=300,hard,proto=tcp,timeo=600,retrans=2,sec=sys,mountaddr=192.168.0.85,mountvers=3,mountport=47147,mountproto=tcp,local_lock=none,addr=192.168.0.85 - nfs - 1 - 1 - nfs
# /proc - 1 - 1 - proc - rw,relatime - proc - 1 - 1 - proc
# /proc/sys/fs/binfmt_misc - 1 - 1 - binfmt_misc - rw,nosuid,nodev,noexec,relatime - binfmt_misc - 1 - 1 - binfmt_misc
# /run - 1 - 1 - tmpfs - rw,nosuid,nodev,noexec,relatime,size=1213308k,mode=755 - tmpfs - 1 - 1 - tmpfs
# /run/lock - 1 - 1 - tmpfs - rw,nosuid,nodev,noexec,relatime,size=5120k - tmpfs - 1 - 1 - tmpfs
# /run/rpc_pipefs - 1 - 0 - sunrpc - rw,relatime - rpc_pipefs - 1 - 1 - rpc_pipefs
# /run/user/1005 - 1 - 1 - tmpfs - rw,nosuid,nodev,relatime,size=1213304k,mode=700,uid=1005,gid=1005 - tmpfs - 1 - 1 - tmpfs
# /sys - 1 - 1 - sysfs - rw,nosuid,nodev,noexec,relatime - sysfs - 1 - 1 - sysfs
# /sys/fs/bpf - 1 - 0 - none - rw,nosuid,nodev,noexec,relatime,mode=700 - bpf - 1 - 1 - bpf
# /sys/fs/cgroup - 1 - 1 - tmpfs - ro,nosuid,nodev,noexec,mode=755 - tmpfs - 1 - 1 - tmpfs
# /sys/fs/cgroup/blkio - 1 - 0 - cgroup - rw,nosuid,nodev,noexec,relatime,blkio - cgroup - 1 - 1 - cgroup
# /sys/fs/cgroup/cpu,cpuacct - 1 - 0 - cgroup - rw,nosuid,nodev,noexec,relatime,cpu,cpuacct - cgroup - 1 - 1 - cgroup
# /sys/fs/cgroup/cpuset - 1 - 0 - cgroup - rw,nosuid,nodev,noexec,relatime,cpuset - cgroup - 1 - 1 - cgroup
# /sys/fs/cgroup/devices - 1 - 0 - cgroup - rw,nosuid,nodev,noexec,relatime,devices - cgroup - 1 - 1 - cgroup
# /sys/fs/cgroup/freezer - 1 - 0 - cgroup - rw,nosuid,nodev,noexec,relatime,freezer - cgroup - 1 - 1 - cgroup
# /sys/fs/cgroup/hugetlb - 1 - 0 - cgroup - rw,nosuid,nodev,noexec,relatime,hugetlb - cgroup - 1 - 1 - cgroup
# /sys/fs/cgroup/memory - 1 - 0 - cgroup - rw,nosuid,nodev,noexec,relatime,memory - cgroup - 1 - 1 - cgroup
# /sys/fs/cgroup/net_cls,net_prio - 1 - 0 - cgroup - rw,nosuid,nodev,noexec,relatime,net_cls,net_prio - cgroup - 1 - 1 - cgroup
# /sys/fs/cgroup/perf_event - 1 - 0 - cgroup - rw,nosuid,nodev,noexec,relatime,perf_event - cgroup - 1 - 1 - cgroup
# /sys/fs/cgroup/pids - 1 - 0 - cgroup - rw,nosuid,nodev,noexec,relatime,pids - cgroup - 1 - 1 - cgroup
# /sys/fs/cgroup/rdma - 1 - 0 - cgroup - rw,nosuid,nodev,noexec,relatime,rdma - cgroup - 1 - 1 - cgroup
# /sys/fs/cgroup/systemd - 1 - 0 - cgroup - rw,nosuid,nodev,noexec,relatime,xattr,name=systemd - cgroup - 1 - 1 - cgroup
# /sys/fs/cgroup/unified - 1 - 0 - cgroup2 - rw,nosuid,nodev,noexec,relatime,nsdelegate - cgroup2 - 1 - 1 - cgroup2
# /sys/fs/fuse/connections - 1 - 1 - fusectl - rw,nosuid,nodev,noexec,relatime - fusectl - 1 - 1 - fusectl
# /sys/fs/pstore - 1 - 0 - pstore - rw,nosuid,nodev,noexec,relatime - pstore - 1 - 1 - pstore
# /sys/kernel/config - 1 - 0 - configfs - rw,nosuid,nodev,noexec,relatime - configfs - 1 - 1 - configfs
# /sys/kernel/debug - 1 - 1 - debugfs - rw,nosuid,nodev,noexec,relatime - debugfs - 1 - 1 - debugfs
# /sys/kernel/security - 1 - 1 - securityfs - rw,nosuid,nodev,noexec,relatime - securityfs - 1 - 1 - securityfs
# /sys/kernel/tracing - 1 - 0 - tracefs - rw,nosuid,nodev,noexec,relatime - tracefs - 1 - 1 - tracefs
t/02_basic.t ..... ok
t/03_whereami.t .. ok
t/04_special.t ... ok
t/05_error.t ..... ok
t/06_settings.t .. ok
All tests successful.

Test Summary Report
-------------------
t/03_whereami.t (Wstat: 0 Tests: 3 Failed: 0)
  TODO passed:   2-3
Files=6, Tests=437,  0 wallclock secs ( 0.05 usr  0.03 sys +  0.52 cusr  0.12 csys =  0.72 CPU)
Result: PASS

------------------------------
PREREQUISITES
------------------------------

Prerequisite modules loaded:

requires:

    Module              Need     Have    
    ------------------- -------- --------
    Carp                0        1.52    
    Cwd                 0        3.84    
    File::Spec          0        3.84    
    FindBin             0        1.53    
    IO                  0        1.49_01 
    IPC::Cmd            0.80     1.04    
    Module::Pluggable   4.8      5.2     
    Params::Util        1.00     1.102   
    perl                5.008001 5.035011

build_requires:

    Module              Need     Have    
    ------------------- -------- --------
    Test::More          0.9      1.302190

configure_requires:

    Module              Need     Have    
    ------------------- -------- --------
    Carp                0        1.52    
    Cwd                 0        3.84    
    ExtUtils::MakeMaker 0        7.64    
    File::Spec          0        3.84    
    FindBin             0        1.53    
    IO                  0        1.49_01 
    IPC::Cmd            0.80     1.04    
    Module::Pluggable   4.8      5.2     
    Params::Util        1.00     1.102   

opt_requires:

    Module              Need     Have    
    ------------------- -------- --------
    perl                5.018001 5.035011


------------------------------
ENVIRONMENT AND OTHER CONTEXT
------------------------------

Environment variables:

    AUTOMATED_TESTING = 1
    LANG = en_US.utf8
    PATH = /home/sand/bin:/usr/local/bin:/usr/local/sbin:/usr/sbin:/usr/bin:/sbin:/bin:/usr/games:/usr/local/games:/snap/bin:/usr/local/perl/bin:/usr/X11/bin
    PERL5LIB = 
    PERL5OPT = 
    PERL5_CPANPLUS_IS_RUNNING = 512335
    PERL5_CPAN_IS_RUNNING = 512335
    PERL_CANARY_STABILITY_NOPROMPT = 1
    PERL_MM_USE_DEFAULT = 1
    PERL_USE_UNSAFE_INC = 1
    SHELL = /usr/bin/zsh
    TERM = screen

Perl special variables (and OS-specific diagnostics, for MSWin32):

    $^X = /tmp/basesmoker-reloperl-OYtS/bin/perl
    $UID/$EUID = 1005 / 1005
    $GID = 1005 1005
    $EGID = 1005 1005

Perl module toolchain versions installed:

    Module              Have    
    ------------------- --------
    CPAN                2.34    
    CPAN::Meta          2.150010
    Cwd                 3.84    
    ExtUtils::CBuilder  0.280236
    ExtUtils::Command   7.64    
    ExtUtils::Install   2.20    
    ExtUtils::MakeMaker 7.64    
    ExtUtils::Manifest  1.73    
    ExtUtils::ParseXS   3.45    
    File::Spec          3.84    
    JSON                4.05    
    JSON::PP            4.08    
    Module::Build       0.4231  
    Module::Signature   0.88    
    Parse::CPAN::Meta   2.150010
    Test::Harness       3.44    
    Test::More          1.302190
    YAML                1.30    
    YAML::Syck          1.34    
    version             0.9929  


--

Summary of my perl5 (revision 5 version 35 subversion 11) configuration:
  Commit id: 6309b8c0e379d2ae5a9d50fe46b4c1f52ec1b012
  Platform:
    osname=linux
    osvers=5.4.0-107-generic
    archname=x86_64-linux-thread-multi-ld
    uname='linux k93focal 5.4.0-107-generic #121-ubuntu smp thu mar 24 16:04:27 utc 2022 x86_64 x86_64 x86_64 gnulinux '
    config_args='-Dprefix=/home/sand/src/perl/repoperls/installed-perls/host/k93focal/v5.35.11/e463 -Dmyhostname=k93focal -Dinstallusrbinperl=n -Uversiononly -Dusedevel -des -Ui_db -Dlibswanted=cl pthread socket inet nsl gdbm dbm malloc dl ld sun m crypt sec util c cposix posix ucb BSD gdbm_compat -Duseithreads -Duselongdouble -DEBUGGING=both'
    hint=recommended
    useposix=true
    d_sigaction=define
    useithreads=define
    usemultiplicity=define
    use64bitint=define
    use64bitall=define
    uselongdouble=define
    usemymalloc=n
    default_inc_excludes_dot=define
  Compiler:
    cc='cc'
    ccflags ='-D_REENTRANT -D_GNU_SOURCE -fwrapv -DDEBUGGING -fno-strict-aliasing -pipe -fstack-protector-strong -I/usr/local/include -D_LARGEFILE_SOURCE -D_FILE_OFFSET_BITS=64'
    optimize='-O2 -g'
    cppflags='-D_REENTRANT -D_GNU_SOURCE -fwrapv -DDEBUGGING -fno-strict-aliasing -pipe -fstack-protector-strong -I/usr/local/include'
    ccversion=''
    gccversion='9.4.0'
    gccosandvers=''
    intsize=4
    longsize=8
    ptrsize=8
    doublesize=8
    byteorder=12345678
    doublekind=3
    d_longlong=define
    longlongsize=8
    d_longdbl=define
    longdblsize=16
    longdblkind=3
    ivtype='long'
    ivsize=8
    nvtype='long double'
    nvsize=16
    Off_t='off_t'
    lseeksize=8
    alignbytes=16
    prototype=define
  Linker and Libraries:
    ld='cc'
    ldflags =' -fstack-protector-strong -L/usr/local/lib'
    libpth=/usr/local/lib /usr/lib/x86_64-linux-gnu /usr/lib /usr/lib64
    libs=-lpthread -lnsl -ldl -lm -lcrypt -lutil -lc
    perllibs=-lpthread -lnsl -ldl -lm -lcrypt -lutil -lc
    libc=libc-2.31.so
    so=so
    useshrplib=false
    libperl=libperl.a
    gnulibc_version='2.31'
  Dynamic Linking:
    dlsrc=dl_dlopen.xs
    dlext=so
    d_dlsymun=undef
    ccdlflags='-Wl,-E'
    cccdlflags='-fPIC'
    lddlflags='-shared -O2 -g -L/usr/local/lib -fstack-protector-strong'


Characteristics of this binary (from libperl): 
  Compile-time options:
    DEBUGGING
    HAS_TIMES
    MULTIPLICITY
    PERLIO_LAYERS
    PERL_COPY_ON_WRITE
    PERL_DONT_CREATE_GVSV
    PERL_MALLOC_WRAP
    PERL_OP_PARENT
    PERL_PRESERVE_IVUV
    PERL_TRACK_MEMPOOL
    PERL_USE_DEVEL
    USE_64_BIT_ALL
    USE_64_BIT_INT
    USE_ITHREADS
    USE_LARGE_FILES
    USE_LOCALE
    USE_LOCALE_COLLATE
    USE_LOCALE_CTYPE
    USE_LOCALE_NUMERIC
    USE_LOCALE_TIME
    USE_LONG_DOUBLE
    USE_PERLIO
    USE_PERL_ATOF
    USE_REENTRANT_API
    USE_THREAD_SAFE_LOCALE
  Built under linux
  Compiled at May 16 2022 23:26:40
  %ENV:
    PERL5LIB=""
    PERL5OPT=""
    PERL5_CPANPLUS_IS_RUNNING="512335"
    PERL5_CPAN_IS_RUNNING="512335"
    PERL_CANARY_STABILITY_NOPROMPT="1"
    PERL_MM_USE_DEFAULT="1"
    PERL_USE_UNSAFE_INC="1"
  @INC:
    /home/sand/src/perl/repoperls/installed-perls/host/k93focal/v5.35.11/e463/lib/site_perl/5.35.11/x86_64-linux-thread-multi-ld
    /home/sand/src/perl/repoperls/installed-perls/host/k93focal/v5.35.11/e463/lib/site_perl/5.35.11
    /home/sand/src/perl/repoperls/installed-perls/host/k93focal/v5.35.11/e463/lib/5.35.11/x86_64-linux-thread-multi-ld
    /home/sand/src/perl/repoperls/installed-perls/host/k93focal/v5.35.11/e463/lib/5.35.11
    .