File-Find-Object v0.3.9 Perl 5 v5.32.0 i86pc-solaris-thread-multi-64

Status
Pass
From
Roland van Ipenburg (IPENBURG)
Dist
File-Find-Object v0.3.9
Platform
Perl 5 v5.32.0 i86pc-solaris-thread-multi-64
Date
2025-02-05 14:24:18
ID
e2896a5a-e3cc-11ef-96d0-df467e69863c
This distribution has been tested as part of the CPAN Testers
project, supporting the Perl programming language.  See
http://wiki.cpantesters.org/ for more information or email
questions to cpan-testers-discuss@perl.org


--
Dear Shlomi Fish,

This is a computer-generated report for File-Find-Object-0.3.9
on perl 5.32.0, created by CPAN-Reporter-1.2020.

Thank you for uploading your work to CPAN.  Congratulations!
All tests were successful.

Sections of this report:

    * Tester comments
    * Program output
    * Prerequisites
    * Environment and other context

------------------------------
TESTER COMMENTS
------------------------------

Additional comments from tester:

none provided

------------------------------
PROGRAM OUTPUT
------------------------------

Output from './Build test':

t/00-compile.t ........ ok
t/01ffo.t ............. ok
t/02tree-create.t ..... ok
t/03traverse.t ........ ok
t/04destroy.t ......... ok
t/05prune.t ........... ok
t/06trailing-slash.t .. ok
All tests successful.
Files=7, Tests=83,  1 wallclock secs ( 0.04 usr  0.03 sys +  0.45 cusr  0.18 csys =  0.70 CPU)
Result: PASS

------------------------------
PREREQUISITES
------------------------------

Prerequisite modules loaded:

requires:

    Module              Need  Have    
    ------------------- ----- --------
    Carp                0     1.50    
    Class::XSAccessor   0     1.19    
    Fcntl               0     1.13    
    File::Spec          0     3.78    
    integer             0     1.01    
    List::Util          0     1.65    
    parent              0     0.242   
    perl                5.008 5.032000
    strict              0     1.11    
    warnings            0     1.47    

build_requires:

    Module              Need  Have    
    ------------------- ----- --------
    File::Path          0     2.18    
    File::Spec          0     3.78    
    File::TreeCreate    0     0.0.1   
    IO::Handle          0     1.55    
    IPC::Open3          0     1.21    
    lib                 0     0.65    
    Module::Build       0.28  0.4234  
    Test::File          1.993 1.993   
    Test::More          0.88  1.302209
    vars                0     1.05    

configure_requires:

    Module              Need  Have    
    ------------------- ----- --------
    ExtUtils::MakeMaker 0     7.70    
    Module::Build       0.28  0.4234  


------------------------------
ENVIRONMENT AND OTHER CONTEXT
------------------------------

Environment variables:

    LANG = en_US.UTF-8
    LC_ALL = 
    LC_COLLATE = 
    LC_CTYPE = 
    LC_MESSAGES = 
    NONINTERACTIVE_TESTING = 1
    PATH = /usr/bin:/usr/bin:/usr/sbin
    PERL5LIB = 
    PERL5OPT = 
    PERL5_CPANPLUS_IS_RUNNING = 1440
    PERL5_CPAN_IS_RUNNING = 1440
    PERL_MM_USE_DEFAULT = 1
    PERL_USE_UNSAFE_INC = 1
    SHELL = /usr/bin/bash
    TERM = xterm-256color

Perl special variables (and OS-specific diagnostics, for MSWin32):

    $^X = /usr/perl5/5.32/bin/perl
    $UID/$EUID = 100 / 100
    $GID = 10 10
    $EGID = 10 10

Perl module toolchain versions installed:

    Module              Have    
    ------------------- --------
    CPAN                2.38    
    CPAN::Meta          2.150010
    Cwd                 3.78    
    ExtUtils::CBuilder  0.280236
    ExtUtils::Command   7.70    
    ExtUtils::Install   2.22    
    ExtUtils::MakeMaker 7.70    
    ExtUtils::Manifest  1.75    
    ExtUtils::ParseXS   3.51    
    File::Spec          3.78    
    JSON                4.10    
    JSON::PP            4.16    
    Module::Build       0.4234  
    Module::Signature   0.88    
    Parse::CPAN::Meta   2.150010
    Test2               1.302209
    Test::Harness       3.50    
    Test::More          1.302209
    YAML                1.31    
    YAML::Syck          n/a     
    version             0.9933  


--

Summary of my perl5 (revision 5 version 32 subversion 0) configuration:
   
  Platform:
    osname=solaris
    osvers=2.11
    archname=i86pc-solaris-thread-multi-64
    uname='sunos localhost 5.11 i86pc i386 i86pc'
    config_args='-de -Dmksymlinks -Ulocincpth= -Dbin=/usr/perl5/5.32/bin -Dcc=gcc -Dcf_by=perl-bugs -Dcf_email=first.last@example.invalid -Dlibperl=libperl.so -Dmyhostname=localhost -Dmydomain=foobar.example.org -Dperl_static_inline=static -Dprefix=/usr/perl5/5.32 -Dprivlib=/usr/perl5/5.32/lib -Dsitelib=/usr/perl5/site_perl/5.32 -Dsiteprefix=/usr/perl5/5.32 -Dvendorlib=/usr/perl5/vendor_perl/5.32 -Dvendorprefix=/usr/perl5/5.32 -Duseshrplib -Dusedtrace -Duse64bitall -Dusethreads -Dlibpth=/lib/64 /usr/lib/64 -Doptimize=-O3   '
    hint=recommended
    useposix=true
    d_sigaction=define
    useithreads=define
    usemultiplicity=define
    use64bitint=define
    use64bitall=define
    uselongdouble=undef
    usemymalloc=n
    default_inc_excludes_dot=define
    bincompat5005=undef
  Compiler:
    cc='gcc'
    ccflags ='-D_REENTRANT -m64 -fwrapv -fno-strict-aliasing -pipe -fstack-protector-strong -D_LARGEFILE64_SOURCE -D_FORTIFY_SOURCE=2 -DPERL_USE_SAFE_PUTENV'
    optimize='-O3 '
    cppflags='-D_REENTRANT -m64 -fwrapv -fno-strict-aliasing -pipe -fstack-protector-strong'
    ccversion=''
    gccversion='10.3.0'
    gccosandvers=''
    intsize=4
    longsize=8
    ptrsize=8
    doublesize=8
    byteorder=12345678
    doublekind=3
    d_longlong=define
    longlongsize=8
    d_longdbl=define
    longdblsize=16
    longdblkind=3
    ivtype='long'
    ivsize=8
    nvtype='double'
    nvsize=8
    Off_t='off_t'
    lseeksize=8
    alignbytes=8
    prototype=define
  Linker and Libraries:
    ld='gcc'
    ldflags =' -m64 -fstack-protector-strong -L/usr/gnu/lib '
    libpth=/lib/64 /usr/lib/64 /usr/gcc/10/lib /usr/gcc/10/lib/gcc/x86_64-pc-solaris2.11/10.3.0/include-fixed /usr/lib /usr/gnu/lib /usr/ccs/lib
    libs=-lpthread -lsocket -lnsl -lgdbm -ldb -ldl -lm -lc
    perllibs=-lpthread -lsocket -lnsl -ldl -lm -lc
    libc=/lib/libc.so
    so=so
    useshrplib=true
    libperl=libperl.so
    gnulibc_version=''
  Dynamic Linking:
    dlsrc=dl_dlopen.xs
    dlext=so
    d_dlsymun=undef
    ccdlflags='  -R /usr/perl5/5.32/lib/i86pc-solaris-thread-multi-64/CORE'
    cccdlflags='-fPIC'
    lddlflags=' -shared -m64 -L/usr/gnu/lib -fstack-protector-strong'


Characteristics of this binary (from libperl): 
  Compile-time options:
    HAS_TIMES
    MULTIPLICITY
    PERLIO_LAYERS
    PERL_COPY_ON_WRITE
    PERL_DONT_CREATE_GVSV
    PERL_IMPLICIT_CONTEXT
    PERL_MALLOC_WRAP
    PERL_OP_PARENT
    PERL_PRESERVE_IVUV
    PERL_USE_SAFE_PUTENV
    USE_64_BIT_ALL
    USE_64_BIT_INT
    USE_ITHREADS
    USE_LARGE_FILES
    USE_LOCALE
    USE_LOCALE_COLLATE
    USE_LOCALE_CTYPE
    USE_LOCALE_NUMERIC
    USE_LOCALE_TIME
    USE_PERLIO
    USE_PERL_ATOF
    USE_REENTRANT_API
    USE_THREAD_SAFE_LOCALE
  Built under solaris
  Compiled at Nov 19 2021 12:12:16
  %ENV:
    PERL5LIB=""
    PERL5OPT=""
    PERL5_CPANPLUS_IS_RUNNING="1440"
    PERL5_CPAN_IS_RUNNING="1440"
    PERL_MM_USE_DEFAULT="1"
    PERL_USE_UNSAFE_INC="1"
  @INC:
    /usr/perl5/site_perl/5.32/i86pc-solaris-thread-multi-64
    /usr/perl5/site_perl/5.32
    /usr/perl5/vendor_perl/5.32/i86pc-solaris-thread-multi-64
    /usr/perl5/vendor_perl/5.32
    /usr/perl5/5.32/lib/i86pc-solaris-thread-multi-64
    /usr/perl5/5.32/lib
    .