Report for TaskForest-1.37

Back
From: metabase:user:313dc9fe-2aae-11df-837a-5e0a49663a4f
Subject: PASS TaskForest-1.37 v5.10.1 GNU/Linux
Date: 2010-10-28T16:03:20Z

This distribution has been tested as part of the CPAN Testers
project, supporting the Perl programming language.  See
http://wiki.cpantesters.org/ for more information or email
questions to cpan-testers-discuss@perl.org


--
Dear Aijaz Ansari,

This is a computer-generated report for TaskForest-1.37
on perl 5.10.1, created by CPAN-Reporter-1.1805.

Thank you for uploading your work to CPAN.  Congratulations!
All tests were successful.

Sections of this report:

    * Tester comments
    * Program output
    * Prerequisites
    * Environment and other context

------------------------------
TESTER COMMENTS
------------------------------

Additional comments from tester:

this report is from an automated smoke testing program
and was not reviewed by a human for accuracy

------------------------------
PROGRAM OUTPUT
------------------------------

Output from '/usr/bin/make test':

PERL_DL_NONLAZY=1 /home/perl5101/perl/bin/perl "-MExtUtils::Command::MM" "-e" "test_harness(0, 'blib/lib', 'blib/arch')" t/*.t
t/000_Bailout.t ........................ ok
t/001_DateTime.t ....................... ok
t/002_TimeDependency.t ................. ok
t/003_Options.t ........................ ok
t/004_LogDir.t ......................... ok
t/005_Job.t ............................ ok

Ignore this line: Hello, world!

Back to stderr - Ignore this line
Ignore this line: This is the first line
Ignore this line: This is the second line
t/0065_StringHandle.t .................. ok
t/006_Family.t ......................... ok
t/007_TaskForest.t ..................... ok
t/008_Repeat.t ......................... ok
t/009_Display.t ........................ ok
t/010_LongRunningJobs.t ................ ok
t/011_NotEnoughTime.t .................. ok
t/012_Collapse.t ....................... ok
t/013_Rerun.t .......................... ok
t/014_Mark.t ........................... ok
Odd number of elements in hash assignment at /home/perl5101/.cpan/build/TaskForest-1.37-Ztk1Ch/blib/lib/TaskForest/Family.pm line 1188.
Use of uninitialized value in list assignment at /home/perl5101/.cpan/build/TaskForest-1.37-Ztk1Ch/blib/lib/TaskForest/Family.pm line 1188.
t/015_Syntax.t ......................... ok
t/016_Cascade.t ........................ ok
t/017_IgnoreRegex.t .................... ok
# 
# **********************************************************************
# 
# No web server was found at port 1111.  Skipping the rest of
# these tests.  If you want, you can start the web server and
# rerun 'make test'.
# 
# To start the web server enter:
# 
# perl -T -I lib ./blib/script/taskforestd --config_file=./taskforestd.test.cfg
# 
# For more help, see http://www.taskforest.com
# 
# **********************************************************************
# 
t/018TaskForestDaemon.t ................ ok
t/019_FamilyRemoval.t .................. ok
t/020_Run_With_Log.t ................... ok
t/021_Release.t ........................ ok
t/022_Debug.t .......................... ok
t/023_Tokens.t ......................... ok
t/024_Midnight.t ....................... ok
t/025_Midnight_Ready.t ................. ok
t/026_Tomorrows_Logs.t ................. ok
t/027_MultiTokens.t .................... ok
t/028_TokenDemo.t ...................... ok
t/029_FindDaysOfWeek.t ................. ok
t/030_Calendar.t ....................... ok
t/031_Calendar_Simple.t ................ ok
t/032_Calendar_Weekdays.t .............. ok
t/033_DST.t ............................ ok
t/034_External.t ....................... ok
t/035_ExternalSameName.t ............... ok
t/036_ExternalMultiple.t ............... ok
t/037_ExternalDeep.t ................... ok
t/038_ExternalTokens.t ................. ok
t/039_ExternalFirstLineOnly.t .......... ok
t/040_ExternalFirstLineOnly2.t ......... ok
t/041_ExternalSecondSection.t .......... ok
t/042_ExternalMultipleSections.t ....... ok
t/043_ExternalSecondSectionParallel.t .. ok
t/044_Hold.t ........................... ok
Cannot release hold on job SMALL_CASCADE::J7 since it is not in the 'Hold' state - it's in the Waiting state.
 at t/045_ReleaseHold.t line 75
t/045_ReleaseHold.t .................... ok
t/046_Retry.t .......................... ok
t/047_Fail.t ........................... ok
t/048_FailRetry.t ...................... ok
All tests successful.
Files=50, Tests=11080, 208 wallclock secs ( 2.39 usr  0.22 sys + 49.87 cusr  1.72 csys = 54.20 CPU)
Result: PASS

------------------------------
PREREQUISITES
------------------------------

Prerequisite modules loaded:

requires:

    Module          Need  Have 
    --------------- ----- -----
    Config::General 2.38  2.49 
    DateTime        0     0.55 
    HTTP::Daemon    5.818 5.827
    HTTP::Request   5.818 5.827
    HTTP::Response  5.82  5.836
    HTTP::Status    5.817 5.817
    Log::Log4perl   1.16  1.31 
    Net::SMTP       2.31  2.31 
    Test::Simple    0.44  0.94 


------------------------------
ENVIRONMENT AND OTHER CONTEXT
------------------------------

Environment variables:

    AUTOMATED_TESTING = 1
    LANG = en_US.UTF-8
    PATH = /usr/local/sbin:/usr/local/bin:/usr/sbin:/usr/bin:/sbin:/bin:/usr/games
    PERL5LIB = /home/perl5101/.cpan/build/Log-Log4perl-1.31-8Dne8o/blib/arch:/home/perl5101/.cpan/build/Log-Log4perl-1.31-8Dne8o/blib/lib:/home/perl5101/.cpan/build/Config-General-2.49-nD12Ve/blib/arch:/home/perl5101/.cpan/build/Config-General-2.49-nD12Ve/blib/lib
    PERL5OPT = 
    PERL5_CPANPLUS_IS_RUNNING = 5299
    PERL5_CPAN_IS_RUNNING = 5299
    PERL5_CPAN_IS_RUNNING_IN_RECURSION = 4139,5299
    PERL_CR_SMOKER_CURRENT = TaskForest-1.37
    PERL_EXTUTILS_AUTOINSTALL = --defaultdeps
    PERL_MM_USE_DEFAULT = 1
    SHELL = /bin/bash
    TERM = xterm

Perl special variables (and OS-specific diagnostics, for MSWin32):

    $^X = /home/perl5101/perl/bin/perl
    $UID/$EUID = 1004 / 1004
    $GID = 1004 1004
    $EGID = 1004 1004

Perl module toolchain versions installed:

    Module              Have  
    ------------------- ------
    CPAN                1.9402
    Cwd                 3.31  
    ExtUtils::CBuilder  0.2703
    ExtUtils::Command   1.16  
    ExtUtils::Install   1.54  
    ExtUtils::MakeMaker 6.56  
    ExtUtils::Manifest  1.58  
    ExtUtils::ParseXS   2.2205
    File::Spec          3.31  
    Module::Build       0.3607
    Module::Signature   n/a   
    Test::Harness       3.21  
    Test::More          0.94  
    YAML                0.71  
    YAML::Syck          1.09  
    version             0.82  


--

Summary of my perl5 (revision 5 version 10 subversion 1) configuration:
   
  Platform:
    osname=linux, osvers=2.6.31-20-generic, archname=i686-linux-thread-multi
    uname='linux st47-laptop 2.6.31-20-generic #57-ubuntu smp mon feb 8 09:05:19 utc 2010 i686 gnulinux '
    config_args=''
    hint=previous, useposix=true, d_sigaction=define
    useithreads=define, usemultiplicity=define
    useperlio=define, d_sfio=undef, uselargefiles=define, usesocks=undef
    use64bitint=undef, use64bitall=undef, uselongdouble=undef
    usemymalloc=n, bincompat5005=undef
  Compiler:
    cc='cc', ccflags ='-D_REENTRANT -D_GNU_SOURCE -fno-strict-aliasing -pipe -fstack-protector -I/usr/local/include -D_LARGEFILE_SOURCE -D_FILE_OFFSET_BITS=64',
    optimize='-O2',
    cppflags='-D_REENTRANT -D_GNU_SOURCE -fno-strict-aliasing -pipe -fstack-protector -I/usr/local/include -D_REENTRANT -D_GNU_SOURCE -fno-strict-aliasing -pipe -fstack-protector -I/usr/local/include -D_LARGEFILE_SOURCE -D_FILE_OFFSET_BITS=64'
    ccversion='', gccversion='4.4.1', gccosandvers=''
    intsize=4, longsize=4, ptrsize=4, doublesize=8, byteorder=1234
    d_longlong=define, longlongsize=8, d_longdbl=define, longdblsize=12
    ivtype='long', ivsize=4, nvtype='double', nvsize=8, Off_t='off_t', lseeksize=8
    alignbytes=4, prototype=define
  Linker and Libraries:
    ld='cc', ldflags =' -fstack-protector -L/usr/local/lib'
    libpth=/usr/local/lib /lib /usr/lib
    libs=-lnsl -ldl -lm -lcrypt -lutil -lpthread -lc
    perllibs=-lnsl -ldl -lm -lcrypt -lutil -lpthread -lc
    libc=/lib/libc-2.10.1.so, so=so, useshrplib=false, libperl=libperl.a
    gnulibc_version='2.10.1'
  Dynamic Linking:
    dlsrc=dl_dlopen.xs, dlext=so, d_dlsymun=undef, ccdlflags='-Wl,-E'
    cccdlflags='-fPIC', lddlflags='-shared -O2 -L/usr/local/lib -fstack-protector'


Characteristics of this binary (from libperl): 
  Compile-time options: MULTIPLICITY PERL_DONT_CREATE_GVSV
                        PERL_IMPLICIT_CONTEXT PERL_MALLOC_WRAP USE_ITHREADS
                        USE_LARGE_FILES USE_PERLIO USE_REENTRANT_API
  Built under linux
  Compiled at Mar 12 2010 10:45:32
  %ENV:
    PERL5LIB="/home/perl5101/.cpan/build/Log-Log4perl-1.31-8Dne8o/blib/arch:/home/perl5101/.cpan/build/Log-Log4perl-1.31-8Dne8o/blib/lib:/home/perl5101/.cpan/build/Config-General-2.49-nD12Ve/blib/arch:/home/perl5101/.cpan/build/Config-General-2.49-nD12Ve/blib/lib"
    PERL5OPT=""
    PERL5_CPANPLUS_IS_RUNNING="5299"
    PERL5_CPAN_IS_RUNNING="5299"
    PERL5_CPAN_IS_RUNNING_IN_RECURSION="4139,5299"
    PERL_CR_SMOKER_CURRENT="TaskForest-1.37"
    PERL_EXTUTILS_AUTOINSTALL="--defaultdeps"
    PERL_MM_USE_DEFAULT="1"
  @INC:
    /home/perl5101/.cpan/build/Log-Log4perl-1.31-8Dne8o/blib/arch
    /home/perl5101/.cpan/build/Log-Log4perl-1.31-8Dne8o/blib/lib
    /home/perl5101/.cpan/build/Config-General-2.49-nD12Ve/blib/arch
    /home/perl5101/.cpan/build/Config-General-2.49-nD12Ve/blib/lib
    /home/perl5101/perl/lib/5.10.1
    /home/perl5101/perl/lib/5.10.1
    .