Back
From: metabase:user:320bfe00-2aae-11df-837a-5e0a49663a4f
Subject: PASS Crypt-Password-Util-0.17 v5.25.2 GNU/Linux
Date: 2016-10-18T18:08:33Z
This distribution has been tested as part of the CPAN Testers
project, supporting the Perl programming language. See
http://wiki.cpantesters.org/ for more information or email
questions to cpan-testers-discuss@perl.org
--
Dear perlancar,
This is a computer-generated report for Crypt-Password-Util-0.17
on perl 5.25.2, created by CPAN-Reporter-1.2018.
Thank you for uploading your work to CPAN. Congratulations!
All tests were successful.
Sections of this report:
* Tester comments
* Program output
* Prerequisites
* Environment and other context
------------------------------
TESTER COMMENTS
------------------------------
Additional comments from tester:
this report is from an automated smoke testing program
and was not reviewed by a human for accuracy
------------------------------
PROGRAM OUTPUT
------------------------------
Output from '/usr/bin/make test':
PERL_DL_NONLAZY=1 "/home/sand/src/perl/repoperls/installed-perls/perl/v5.25.2/79cc/bin/perl" "-MExtUtils::Command::MM" "-MTest::Harness" "-e" "undef *Test::Harness::Switches; test_harness(0, 'blib/lib', 'blib/arch')" t/*.t
t/00-compile.t ........... ok
# Some crypt() results on this system: [
# '$6$rounds=15000$cxhRpwc4YXAGhYFZ$vKO8K2goXtnQzp0wwNv8KSe7LTWjjTa7T2285do0Wfik.Ni9LIdHWrversHBlmYS.6QtDtjDeFLF1UK.c6eyx/',
# '$6$rounds=15000$ExOi1clSzI5q79hy$hr0xsaGQ2dqIItgI3s3rTQe99MSF6MdfAksUODBeDzaT2m6tHbH09SunHNEjRuNoY..3bVA27.oFCUvzgjcxU/',
# '$6$rounds=15000$QyzumHYLJG45Zwpe$nptGeQkrF7spOnnLE4EiS3LNqMUNGsUzufI1RU3N/IFqytvl27TFbXZfZ7tmvRrGSs6ho6ra9NvcCqlksSYzt0',
# '$6$rounds=15000$M5jcGuN.BVJsWgzg$Yxew40CAPeAuyYumv2t0MISAbD4sKunhd0OznF5awv8Qx28/jiGEMn1ircXeGKAYaI8Qo62124HRWMsd7zobj1',
# '$6$rounds=15000$U07XnoFCR5weIv9l$SmQEtlg25fzzjHdFv5DMlCpPh5KyfEn4IcyI/yi10gZ32BHXEglDH7GzkEBlnGAddKWB.hfYtGaJdYIkqkiOX.'
# ]
t/01-basics.t ............ ok
t/author-pod-coverage.t .. skipped: these tests are for testing by the author
t/author-pod-syntax.t .... skipped: these tests are for testing by the author
All tests successful.
Files=4, Tests=27, 0 wallclock secs ( 0.03 usr 0.01 sys + 0.34 cusr 0.03 csys = 0.41 CPU)
Result: PASS
------------------------------
PREREQUISITES
------------------------------
Prerequisite modules loaded:
requires:
Module Need Have
--------------------- -------- --------
Bytes::Random::Secure 0 0.29
Config 0 5.025002
perl 5.010001 5.025002
build_requires:
Module Need Have
--------------------- -------- --------
ExtUtils::MakeMaker 0 7.24
File::Spec 0 3.64
IO::Handle 0 1.36
IPC::Open3 0 1.20
Sort::Versions 0 1.62
Test::More 0.98 1.302061
configure_requires:
Module Need Have
--------------------- -------- --------
ExtUtils::MakeMaker 0 7.24
------------------------------
ENVIRONMENT AND OTHER CONTEXT
------------------------------
Environment variables:
AUTOMATED_TESTING = 1
LANG = en_US.UTF-8
LANGUAGE = en_US:en
PATH = /home/sand/bin:/usr/local/bin:/usr/bin:/bin:/usr/games:/usr/local/perl/bin:/usr/X11/bin:/sbin:/usr/sbin
PERL5LIB =
PERL5OPT =
PERL5_CPANPLUS_IS_RUNNING = 8284
PERL5_CPAN_IS_RUNNING = 8284
PERL_CANARY_STABILITY_NOPROMPT = 1
PERL_MM_USE_DEFAULT = 1
SHELL = /usr/bin/zsh
TERM = screen
Perl special variables (and OS-specific diagnostics, for MSWin32):
$^X = /home/sand/src/perl/repoperls/installed-perls/perl/v5.25.2/79cc/bin/perl
$UID/$EUID = 1005 / 1005
$GID = 1005 1005
$EGID = 1005 1005
Perl module toolchain versions installed:
Module Have
------------------- --------
CPAN 2.15
CPAN::Meta 2.150010
Cwd 3.64
ExtUtils::CBuilder 0.280225
ExtUtils::Command 7.24
ExtUtils::Install 2.04
ExtUtils::MakeMaker 7.24
ExtUtils::Manifest 1.70
ExtUtils::ParseXS 3.32
File::Spec 3.64
JSON 2.90
JSON::PP 2.27400
Module::Build 0.4220
Module::Signature 0.81
Parse::CPAN::Meta 2.150010
Test::Harness 3.36
Test::More 1.302061
YAML 1.18
YAML::Syck 1.29
version 0.9917
--
Summary of my perl5 (revision 5 version 25 subversion 2) configuration:
Commit id: d6e0ab90d221e0e0cbfcd8c68c96c721a688265f
Platform:
osname=linux
osvers=4.7.0-1-amd64
archname=x86_64-linux
uname='linux k83 4.7.0-1-amd64 #1 smp debian 4.7.2-1 (2016-08-28) x86_64 gnulinux '
config_args='-Dprefix=/home/sand/src/perl/repoperls/installed-perls/perl/v5.25.2/79cc -Dmyhostname=k83 -Dinstallusrbinperl=n -Uversiononly -Dusedevel -des -Ui_db -Dlibswanted=cl pthread socket inet nsl gdbm dbm malloc dl ld sun m crypt sec util c cposix posix ucb BSD gdbm_compat -Uuseithreads -Uuselongdouble -DDEBUGGING=-g'
hint=recommended
useposix=true
d_sigaction=define
useithreads=undef
usemultiplicity=undef
use64bitint=define
use64bitall=define
uselongdouble=undef
usemymalloc=n
bincompat5005=undef
Compiler:
cc='cc'
ccflags ='-fwrapv -fno-strict-aliasing -pipe -fstack-protector-strong -I/usr/local/include -D_LARGEFILE_SOURCE -D_FILE_OFFSET_BITS=64'
optimize='-O2 -g'
cppflags='-fwrapv -fno-strict-aliasing -pipe -fstack-protector-strong -I/usr/local/include'
ccversion=''
gccversion='6.2.0 20160830'
gccosandvers=''
intsize=4
longsize=8
ptrsize=8
doublesize=8
byteorder=12345678
doublekind=3
d_longlong=define
longlongsize=8
d_longdbl=define
longdblsize=16
longdblkind=3
ivtype='long'
ivsize=8
nvtype='double'
nvsize=8
Off_t='off_t'
lseeksize=8
alignbytes=8
prototype=define
Linker and Libraries:
ld='cc'
ldflags =' -fstack-protector-strong -L/usr/local/lib'
libpth=/usr/local/lib /usr/lib/gcc/x86_64-linux-gnu/6/include-fixed /usr/include/x86_64-linux-gnu /usr/lib /lib/x86_64-linux-gnu /lib/../lib /usr/lib/x86_64-linux-gnu /usr/lib/../lib /lib
libs=-lpthread -lnsl -lgdbm -ldl -lm -lcrypt -lutil -lc -lgdbm_compat
perllibs=-lpthread -lnsl -ldl -lm -lcrypt -lutil -lc
libc=libc-2.24.so
so=so
useshrplib=false
libperl=libperl.a
gnulibc_version='2.24'
Dynamic Linking:
dlsrc=dl_dlopen.xs
dlext=so
d_dlsymun=undef
ccdlflags='-Wl,-E'
cccdlflags='-fPIC'
lddlflags='-shared -O2 -g -L/usr/local/lib -fstack-protector-strong'
Characteristics of this binary (from libperl):
Compile-time options:
HAS_TIMES
PERLIO_LAYERS
PERL_COPY_ON_WRITE
PERL_DONT_CREATE_GVSV
PERL_HASH_FUNC_ONE_AT_A_TIME_HARD
PERL_MALLOC_WRAP
PERL_OP_PARENT
PERL_PRESERVE_IVUV
PERL_USE_DEVEL
USE_64_BIT_ALL
USE_64_BIT_INT
USE_LARGE_FILES
USE_LOCALE
USE_LOCALE_COLLATE
USE_LOCALE_CTYPE
USE_LOCALE_NUMERIC
USE_LOCALE_TIME
USE_PERLIO
USE_PERL_ATOF
Built under linux
Compiled at Sep 4 2016 19:59:35
%ENV:
PERL5LIB=""
PERL5OPT=""
PERL5_CPANPLUS_IS_RUNNING="8284"
PERL5_CPAN_IS_RUNNING="8284"
PERL_CANARY_STABILITY_NOPROMPT="1"
PERL_MM_USE_DEFAULT="1"
@INC:
/home/sand/src/perl/repoperls/installed-perls/perl/v5.25.2/79cc/lib/site_perl/5.25.2/x86_64-linux
/home/sand/src/perl/repoperls/installed-perls/perl/v5.25.2/79cc/lib/site_perl/5.25.2
/home/sand/src/perl/repoperls/installed-perls/perl/v5.25.2/79cc/lib/5.25.2/x86_64-linux
/home/sand/src/perl/repoperls/installed-perls/perl/v5.25.2/79cc/lib/5.25.2
.