CatalystX-InjectModule v0.19 Perl 5 v5.29.0 x86_64-linux

Status
Pass
From
Serguei Trouchelle (STRO)
Dist
CatalystX-InjectModule v0.19
Platform
Perl 5 v5.29.0 x86_64-linux
Date
2018-11-22 10:17:57
ID
e1f7f02c-ee3f-11e8-9d22-c12a8c7c0682
This distribution has been tested as part of the CPAN Testers
project, supporting the Perl programming language.  See
http://wiki.cpantesters.org/ for more information or email
questions to cpan-testers-discuss@perl.org


--
Dear Daniel Brosseau,

This is a computer-generated report for CatalystX-InjectModule-0.19
on perl 5.29.0, created by CPAN-Reporter-1.2018.

Thank you for uploading your work to CPAN.  Congratulations!
All tests were successful.

Sections of this report:

    * Tester comments
    * Program output
    * Prerequisites
    * Environment and other context

------------------------------
TESTER COMMENTS
------------------------------

Additional comments from tester:

this report is from an automated smoke testing program
and was not reviewed by a human for accuracy

------------------------------
PROGRAM OUTPUT
------------------------------

Output from '/usr/bin/make test':

PERL_DL_NONLAZY=1 "/home/stro/perl/5.29.0/bin/perl" "-MExtUtils::Command::MM" "-MTest::Harness" "-e" "undef *Test::Harness::Switches; test_harness(0, 'blib/lib', 'blib/arch')" t/*.t
# Testing CatalystX::InjectModule 0.19, Perl 5.029000, /home/stro/perl/5.29.0/bin/perl
t/00-load.t .............. ok
t/10-app.t ............... ok
t/20-resolv.t ............ ok
[warn] Attempted to use view 'MyApp::View::TT', but does not exist
t/30-mergeconfig.t ....... ok
[warn] Attempted to use view 'MyApp::View::TT', but does not exist
t/40-lib.t ............... ok
[warn] Attempted to use view 'MyApp::View::TT', but does not exist
t/50-install.t ........... ok
[warn] Attempted to use view 'MyApp::View::TT', but does not exist
t/51-install_fixtures.t .. ok
t/60-template.t .......... ok
[warn] Attempted to use view 'MyApp::View::TT', but does not exist
t/70-static.t ............ ok
t/80-traitfor.t .......... ok
t/author-pod-coverage.t .. skipped: these tests are for testing by the author
t/author-pod-syntax.t .... skipped: these tests are for testing by the author
t/manifest.t ............. skipped: Author tests not required for installation
t/pod-coverage.t ......... skipped: Author tests not required for installation
t/pod.t .................. skipped: Author tests not required for installation
All tests successful.
Files=15, Tests=46, 10 wallclock secs ( 0.04 usr  0.01 sys +  8.29 cusr  0.35 csys =  8.69 CPU)
Result: PASS

------------------------------
PREREQUISITES
------------------------------

Prerequisite modules loaded:

requires:

    Module                             Need     Have    
    ---------------------------------- -------- --------
    Catalyst                           5.9      5.90119 
    Catalyst::Model::DBIC::Schema      0        0.65    
    Catalyst::Plugin::ConfigLoader     0.34     0.34    
    Catalyst::Plugin::EnableMiddleware 0        0.006   
    Catalyst::Plugin::Static::Simple   0.33     0.36    
    CatalystX::SimpleLogin             0.18     0.20    
    Class::Load                        0.23     0.25    
    Data::Clone                        0        0.004   
    DBIx::Class::DateTime::Epoch       0.10     0.10    
    DBIx::Class::EncodedColumn         0        0.00015 
    DBIx::Class::Fixtures              1.001036 1.001039
    DBIx::Class::Migration             0        0.060   
    DBIx::Class::TimeStamp             0.14     0.14    
    Dependency::Resolver               0.07     0.07    
    Devel::InnerPackage                0.4      0.4     
    ExtUtils::Installed                2.14     2.14    
    File::Path                         2.09     2.16    
    List::MoreUtils                    0.415    0.428   
    Moose                              2.1405   2.2011  
    MooseX::NonMoose                   0.26     0.26    
    namespace::autoclean               0.28     0.28    
    Path::Class                        0        0.37    
    Path::Tiny                         0        0.108   
    Term::ANSIColor                    4.05     4.06    
    YAML                               1.15     1.26    

build_requires:

    Module                             Need     Have    
    ---------------------------------- -------- --------
    ExtUtils::MakeMaker                0        7.34    
    Pod::Coverage::TrustPod            0        0.100005
    Test::More                         1.001014 1.302140
    Test::Pod                          1.48     1.52    
    Test::Pod::Coverage                1.10     1.10    

configure_requires:

    Module                             Need     Have    
    ---------------------------------- -------- --------
    ExtUtils::MakeMaker                0        7.34    


------------------------------
ENVIRONMENT AND OTHER CONTEXT
------------------------------

Environment variables:

    AUTOMATED_TESTING = 1
    LANG = en_US.UTF-8
    PATH = /usr/local/bin:/usr/bin:/bin:/usr/local/games:/usr/games
    PERL5LIB = 
    PERL5OPT = 
    PERL5_CPANPLUS_IS_RUNNING = 9927
    PERL5_CPAN_IS_RUNNING = 9927
    PERL5_CPAN_IS_RUNNING_IN_RECURSION = 19164,9927
    PERL_CR_SMOKER_CURRENT = CatalystX-InjectModule-0.19
    PERL_EXTUTILS_AUTOINSTALL = --defaultdeps
    PERL_MM_USE_DEFAULT = 1
    PERL_USE_UNSAFE_INC = 1
    SHELL = /bin/bash
    TERM = xterm

Perl special variables (and OS-specific diagnostics, for MSWin32):

    $^X = /home/stro/perl/5.29.0/bin/perl
    $UID/$EUID = 1000 / 1000
    $GID = 1000 24 25 29 30 44 46 108 114 1000
    $EGID = 1000 24 25 29 30 44 46 108 114 1000

Perl module toolchain versions installed:

    Module              Have    
    ------------------- --------
    CPAN                2.20    
    CPAN::Meta          2.150010
    Cwd                 3.75    
    ExtUtils::CBuilder  0.280230
    ExtUtils::Command   7.34    
    ExtUtils::Install   2.14    
    ExtUtils::MakeMaker 7.34    
    ExtUtils::Manifest  1.70    
    ExtUtils::ParseXS   3.39    
    File::Spec          3.75    
    JSON                2.97001 
    JSON::PP            2.97001 
    Module::Build       0.4224  
    Module::Signature   0.83    
    Parse::CPAN::Meta   2.150010
    Test::Harness       3.42    
    Test::More          1.302140
    YAML                1.26    
    YAML::Syck          1.30    
    version             0.9923  


--

Summary of my perl5 (revision 5 version 29 subversion 0) configuration:
   
  Platform:
    osname=linux
    osvers=3.16.0-4-amd64
    archname=x86_64-linux
    uname='linux vm-debian-001 3.16.0-4-amd64 #1 smp debian 3.16.7-ckt11-1 (2015-05-24) x86_64 gnulinux '
    config_args=''
    hint=recommended
    useposix=true
    d_sigaction=define
    useithreads=undef
    usemultiplicity=undef
    use64bitint=define
    use64bitall=define
    uselongdouble=undef
    usemymalloc=n
    default_inc_excludes_dot=define
    bincompat5005=undef
  Compiler:
    cc='cc'
    ccflags ='-fwrapv -fno-strict-aliasing -pipe -fstack-protector-strong -I/usr/local/include -D_LARGEFILE_SOURCE -D_FILE_OFFSET_BITS=64 -D_FORTIFY_SOURCE=2'
    optimize='-O2'
    cppflags='-fwrapv -fno-strict-aliasing -pipe -fstack-protector-strong -I/usr/local/include'
    ccversion=''
    gccversion='4.9.2'
    gccosandvers=''
    intsize=4
    longsize=8
    ptrsize=8
    doublesize=8
    byteorder=12345678
    doublekind=3
    d_longlong=define
    longlongsize=8
    d_longdbl=define
    longdblsize=16
    longdblkind=3
    ivtype='long'
    ivsize=8
    nvtype='double'
    nvsize=8
    Off_t='off_t'
    lseeksize=8
    alignbytes=8
    prototype=define
  Linker and Libraries:
    ld='cc'
    ldflags =' -fstack-protector-strong -L/usr/local/lib'
    libpth=/usr/local/lib /usr/lib/gcc/x86_64-linux-gnu/4.9/include-fixed /usr/include/x86_64-linux-gnu /usr/lib /lib/x86_64-linux-gnu /lib/../lib /usr/lib/x86_64-linux-gnu /usr/lib/../lib /lib
    libs=-lpthread -lnsl -ldl -lm -lcrypt -lutil -lc
    perllibs=-lpthread -lnsl -ldl -lm -lcrypt -lutil -lc
    libc=libc-2.19.so
    so=so
    useshrplib=false
    libperl=libperl.a
    gnulibc_version='2.19'
  Dynamic Linking:
    dlsrc=dl_dlopen.xs
    dlext=so
    d_dlsymun=undef
    ccdlflags='-Wl,-E'
    cccdlflags='-fPIC'
    lddlflags='-shared -O2 -L/usr/local/lib -fstack-protector-strong'


Characteristics of this binary (from libperl): 
  Compile-time options:
    HAS_TIMES
    PERLIO_LAYERS
    PERL_COPY_ON_WRITE
    PERL_DONT_CREATE_GVSV
    PERL_MALLOC_WRAP
    PERL_OP_PARENT
    PERL_PRESERVE_IVUV
    USE_64_BIT_ALL
    USE_64_BIT_INT
    USE_LARGE_FILES
    USE_LOCALE
    USE_LOCALE_COLLATE
    USE_LOCALE_CTYPE
    USE_LOCALE_NUMERIC
    USE_LOCALE_TIME
    USE_PERLIO
    USE_PERL_ATOF
  Built under linux
  Compiled at Aug 13 2018 11:27:32
  %ENV:
    PERL5LIB=""
    PERL5OPT=""
    PERL5_CPANPLUS_IS_RUNNING="9927"
    PERL5_CPAN_IS_RUNNING="9927"
    PERL5_CPAN_IS_RUNNING_IN_RECURSION="19164,9927"
    PERL_CR_SMOKER_CURRENT="CatalystX-InjectModule-0.19"
    PERL_EXTUTILS_AUTOINSTALL="--defaultdeps"
    PERL_MM_USE_DEFAULT="1"
    PERL_USE_UNSAFE_INC="1"
  @INC:
    /home/stro/perl/5.29.0/lib/site_perl/5.29.0/x86_64-linux
    /home/stro/perl/5.29.0/lib/site_perl/5.29.0
    /home/stro/perl/5.29.0/lib/5.29.0/x86_64-linux
    /home/stro/perl/5.29.0/lib/5.29.0
    .