Class-Method-Modifiers v2.15 Perl 5 v5.20.3 cygwin-thread-multi

Status
Pass
From
Peter John Acklam (PJACKLAM)
Dist
Class-Method-Modifiers v2.15
Platform
Perl 5 v5.20.3 cygwin-thread-multi
Date
2024-06-05 06:25:28
ID
e1f6f1ee-7ba5-1014-ac21-f51529d1fe99
This distribution has been tested as part of the CPAN Testers
project, supporting the Perl programming language.  See
http://wiki.cpantesters.org/ for more information or email
questions to cpan-testers-discuss@perl.org


--
Dear Karen Etheridge,

This is a computer-generated report for Class-Method-Modifiers-2.15
on perl 5.20.3, created by CPAN-Reporter-1.2019.

Thank you for uploading your work to CPAN.  Congratulations!
All tests were successful.

Sections of this report:

    * Tester comments
    * Program output
    * Prerequisites
    * Environment and other context

------------------------------
TESTER COMMENTS
------------------------------

Additional comments from tester:

this report is from an automated smoke testing program
and was not reviewed by a human for accuracy

------------------------------
PROGRAM OUTPUT
------------------------------

Output from '/usr/bin/make test':

PERL_DL_NONLAZY=1 /cygdrive/d/opt/perl5/cygwin_nt-10.0/3.4.5/x86_64/perl/5.20.3/x86_64-cygwin-thread-multi/bin/perl5.20.3.exe "-MExtUtils::Command::MM" "-MTest::Harness" "-e" "undef *Test::Harness::Switches; test_harness(0, 'blib/lib', 'blib/arch')" t/*.t
# 
# Versions for all modules listed in MYMETA.json (including optional ones):
# 
# === Configure Requires ===
# 
#     Module               Want     Have
#     ------------------- ----- --------
#     ExtUtils::MakeMaker   any     6.98
#     perl                5.006 5.020003
# 
# === Build Requires ===
# 
#     Module              Want Have
#     ------------------- ---- ----
#     ExtUtils::MakeMaker  any 6.98
# 
# === Test Requires ===
# 
#     Module               Want     Have
#     ------------------- ----- --------
#     ExtUtils::MakeMaker   any     6.98
#     File::Spec            any  3.48_01
#     Test::More           0.88 1.302199
#     if                    any   0.0603
#     perl                5.006 5.020003
# 
# === Test Recommends ===
# 
#     Module         Want     Have
#     ---------- -------- --------
#     CPAN::Meta 2.120900 2.150010
# 
# === Runtime Requires ===
# 
#     Module    Want     Have
#     -------- ----- --------
#     B          any     1.48
#     Carp       any   1.3301
#     Exporter   any     5.71
#     base       any     2.22
#     perl     5.006 5.020003
#     strict     any     1.08
#     warnings   any     1.23
# 
# === Other Modules ===
# 
#     Module                   Have
#     -------------------- --------
#     Encode                   2.60
#     File::Temp             0.2304
#     JSON::PP                 4.16
#     Module::Runtime         0.016
#     Moo                   missing
#     Moose                 missing
#     Pod::Coverage         missing
#     Role::Tiny           2.002004
#     Sub::Install          missing
#     Sub::Name                0.27
#     YAML                     1.31
#     autodie                  2.23
#     namespace::autoclean  missing
#     namespace::clean      missing
# 
t/00-report-prereqs.t ............... ok
t/000-load.t ........................ ok
t/001-error.t ....................... ok
t/002-cache.t ....................... ok
t/003-basic.t ....................... ok
t/004-around.t ...................... ok
t/005-return.t ...................... ok
t/010-before-args.t ................. ok
t/011-after-args.t .................. ok
t/012-around-args.t ................. ok
t/020-multiple-inheritance.t ........ ok
t/030-multiple-before.t ............. ok
t/031-multiple-after.t .............. ok
t/032-multiple-around.t ............. ok
t/034-multiple-everything.t ......... ok
t/035-multiple-everything-twice.t ... ok
t/040-twice-orig.t .................. ok
t/041-modify-parent.t ............... ok
t/051-undef-list-ctxt.t ............. ok
t/060-caller.t ...................... ok
t/070-modify-multiple-at-once.t ..... ok
t/080-multiple-modifiers.t .......... ok
t/081-sub-and-modifier.t ............ ok
t/090-diamond.t ..................... ok
t/100-class-mop-method-modifiers.t .. ok
t/110-namespace-clean.t ............. ok
t/120-fresh.t ....................... ok
t/130-clean-underscore.t ............ ok
t/140-lvalue.t ...................... ok
All tests successful.
Files=29, Tests=131, 54 wallclock secs ( 0.22 usr  0.81 sys +  9.12 cusr 41.41 csys = 51.57 CPU)
Result: PASS

------------------------------
PREREQUISITES
------------------------------

Prerequisite modules loaded:

requires:

    Module              Need     Have    
    ------------------- -------- --------
    B                   0        1.48    
    base                0        2.22    
    Carp                0        1.3301  
    Exporter            0        5.71    
    perl                5.006    5.020003
    strict              0        1.08    
    warnings            0        1.23    

build_requires:

    Module              Need     Have    
    ------------------- -------- --------
    ExtUtils::MakeMaker 0        6.98    
    File::Spec          0        3.48_01 
    if                  0        0.0603  
    Test::More          0.88     1.302199

configure_requires:

    Module              Need     Have    
    ------------------- -------- --------
    ExtUtils::MakeMaker 0        6.98    
    perl                5.006    5.020003

opt_build_requires:

    Module              Need     Have    
    ------------------- -------- --------
    CPAN::Meta          2.120900 2.150010


------------------------------
ENVIRONMENT AND OTHER CONTEXT
------------------------------

Environment variables:

    AUTOMATED_TESTING = 1
    COMSPEC = C:\WINDOWS\system32\cmd.exe
    NUMBER_OF_PROCESSORS = 8
    PATH = /opt/perl5/cygwin_nt-10.0/3.4.5/x86_64/perl/5.20.3/x86_64-cygwin-thread-multi/bin:/opt/perl5/cygwin_nt-10.0/3.4.5/x86_64/perl/5.20.3/x86_64-cygwin-thread-multi/local/bin:/usr/lib/lapack:/usr/local/bin:/usr/bin:/bin
    PERL5LIB = /opt/perl5/cygwin_nt-10.0/3.4.5/x86_64/perl/5.20.3/x86_64-cygwin-thread-multi/local/lib/perl5:/opt/perl5/cygwin_nt-10.0/3.4.5/x86_64/perl/5.20.3/x86_64-cygwin-thread-multi/local/lib/site_perl:/opt/perl5/cygwin_nt-10.0/3.4.5/x86_64/perl/5.20.3/x86_64-cygwin-thread-multi/local/lib
    PERL5OPT = 
    PERL5_CPANPLUS_IS_RUNNING = 12992
    PERL5_CPAN_IS_RUNNING = 12992
    PERL_CANARY_STABILITY_NOPROMPT = 1
    PERL_CPAN_REPORTER_CONFIG = /cygdrive/d/home/peter/.cpanreporter/config-cygwin-rigel.ini
    PERL_EXTUTILS_AUTOINSTALL = 1
    PERL_MB_OPT = --install_base /opt/perl5/cygwin_nt-10.0/3.4.5/x86_64/perl/5.20.3/x86_64-cygwin-thread-multi/local
    PERL_MM_OPT = INSTALL_BASE=/opt/perl5/cygwin_nt-10.0/3.4.5/x86_64/perl/5.20.3/x86_64-cygwin-thread-multi/local
    PERL_MM_USE_DEFAULT = 1
    PERL_TEST_CRITIC = 1
    PERL_TEST_CRITIC = 1
    PERL_TEST_POD = 1
    PERL_TEST_POD = 1
    PERL_USE_UNSAFE_INC = 1
    POD_TESTING = 1
    POD_TESTS = 1
    PROCESSOR_IDENTIFIER = Intel64 Family 6 Model 42 Stepping 7, GenuineIntel
    SHELL = /bin/bash
    TEMP = /tmp
    TERM = xterm

Perl special variables (and OS-specific diagnostics, for MSWin32):

    $^X = /cygdrive/d/opt/perl5/cygwin_nt-10.0/3.4.5/x86_64/perl/5.20.3/x86_64-cygwin-thread-multi/bin/perl5.20.3
    $UID/$EUID = 197609 / 197609
    $GID = 197609 401408 545 4 66049 11 15 68380 113 4095 66048 262180
    $EGID = 197609 401408 545 4 66049 11 15 68380 113 4095 66048 262180

Perl module toolchain versions installed:

    Module              Have    
    ------------------- --------
    CPAN                2.36    
    CPAN::Meta          2.150010
    Cwd                 3.48_01 
    ExtUtils::CBuilder  0.280217
    ExtUtils::Command   1.18    
    ExtUtils::Install   1.67    
    ExtUtils::MakeMaker 6.98    
    ExtUtils::Manifest  1.63    
    ExtUtils::ParseXS   3.51    
    File::Spec          3.48_01 
    JSON                n/a     
    JSON::PP            4.16    
    Module::Build       0.4234  
    Module::Signature   n/a     
    Parse::CPAN::Meta   2.150010
    Test2               1.302199
    Test::Harness       3.30    
    Test::More          1.302199
    YAML                1.31    
    YAML::Syck          n/a     
    version             0.9909  


--

Summary of my perl5 (revision 5 version 20 subversion 3) configuration:
   
  Platform:
    osname=cygwin, osvers=3.4.5-1.x86_64, archname=cygwin-thread-multi
    uname='cygwin_nt-10.0-19045 rigel 3.4.5-1.x86_64 2023-01-19 19:09 utc x86_64 cygwin '
    config_args='-de -Dmksymlinks -Uinc_version_list -Uinstallusrbinperl -Dusethreads -Dusemultiplicity -Dusequadmath -Uloclibpth -Dlibpth=/usr/lib /usr/lib/gcc/x86_64-pc-cygwin/11 -Dprefix=/opt/perl5/cygwin_nt-10.0/3.4.5/x86_64/perl/5.20.3/x86_64-cygwin-thread-multi -Darchname=x86_64-cygwin-thread-multi'
    hint=recommended, useposix=true, d_sigaction=define
    useithreads=define, usemultiplicity=define
    use64bitint=define, use64bitall=define, uselongdouble=undef
    usemymalloc=n, bincompat5005=undef
  Compiler:
    cc='gcc', ccflags ='-U__STRICT_ANSI__ -D_GNU_SOURCE -fwrapv -fpcc-struct-return -pipe -fstack-protector',
    optimize='-O3',
    cppflags='-U__STRICT_ANSI__ -D_GNU_SOURCE -fwrapv -fpcc-struct-return -pipe -fstack-protector -D__GNUC__'
    ccversion='', gccversion='11.3.0', gccosandvers=''
    intsize=4, longsize=8, ptrsize=8, doublesize=8, byteorder=12345678
    d_longlong=define, longlongsize=8, d_longdbl=define, longdblsize=16
    ivtype='long', ivsize=8, nvtype='double', nvsize=8, Off_t='off_t', lseeksize=8
    alignbytes=8, prototype=define
  Linker and Libraries:
    ld='g++', ldflags =' -Wl,--enable-auto-import -Wl,--export-all-symbols -Wl,--enable-auto-image-base -fstack-protector'
    libpth=/usr/lib /usr/lib/gcc/x86_64-pc-cygwin/11 /usr/lib /usr/lib/gcc/x86_64-pc-cygwin/11/../../../../lib/../include/w32api /lib /usr/local/lib
    libs=-lpthread -ldl
    perllibs=-lpthread -ldl
    libc=/usr/lib/libcygwin.a, so=dll, useshrplib=true, libperl=cygperl5_20_3.dll
    gnulibc_version=''
  Dynamic Linking:
    dlsrc=dl_dlopen.xs, dlext=dll, d_dlsymun=undef, ccdlflags=' '
    cccdlflags=' ', lddlflags=' --shared  -Wl,--enable-auto-import -Wl,--export-all-symbols -Wl,--enable-auto-image-base -fstack-protector'


Characteristics of this binary (from libperl): 
  Compile-time options: HAS_TIMES MULTIPLICITY PERLIO_LAYERS
                        PERL_DONT_CREATE_GVSV
                        PERL_HASH_FUNC_ONE_AT_A_TIME_HARD
                        PERL_IMPLICIT_CONTEXT PERL_NEW_COPY_ON_WRITE
                        PERL_PRESERVE_IVUV USE_64_BIT_ALL USE_64_BIT_INT
                        USE_ITHREADS USE_LARGE_FILES USE_LOCALE
                        USE_LOCALE_COLLATE USE_LOCALE_CTYPE
                        USE_LOCALE_NUMERIC USE_PERLIO USE_PERL_ATOF
                        USE_REENTRANT_API
  Built under cygwin
  Compiled at May 11 2024 23:13:03
  %ENV:
    PERL5LIB="/opt/perl5/cygwin_nt-10.0/3.4.5/x86_64/perl/5.20.3/x86_64-cygwin-thread-multi/local/lib/perl5:/opt/perl5/cygwin_nt-10.0/3.4.5/x86_64/perl/5.20.3/x86_64-cygwin-thread-multi/local/lib/site_perl:/opt/perl5/cygwin_nt-10.0/3.4.5/x86_64/perl/5.20.3/x86_64-cygwin-thread-multi/local/lib"
    PERL5OPT=""
    PERL5_CPANPLUS_IS_RUNNING="12992"
    PERL5_CPAN_IS_RUNNING="12992"
    PERL_CANARY_STABILITY_NOPROMPT="1"
    PERL_CPAN_REPORTER_CONFIG="/cygdrive/d/home/peter/.cpanreporter/config-cygwin-rigel.ini"
    PERL_EXTUTILS_AUTOINSTALL="1"
    PERL_MB_OPT="--install_base /opt/perl5/cygwin_nt-10.0/3.4.5/x86_64/perl/5.20.3/x86_64-cygwin-thread-multi/local"
    PERL_MM_OPT="INSTALL_BASE=/opt/perl5/cygwin_nt-10.0/3.4.5/x86_64/perl/5.20.3/x86_64-cygwin-thread-multi/local"
    PERL_MM_USE_DEFAULT="1"
    PERL_TEST_CRITIC="1"
    PERL_TEST_POD="1"
    PERL_USE_UNSAFE_INC="1"
  @INC:
    /opt/perl5/cygwin_nt-10.0/3.4.5/x86_64/perl/5.20.3/x86_64-cygwin-thread-multi/local/lib/perl5/cygwin-thread-multi
    /opt/perl5/cygwin_nt-10.0/3.4.5/x86_64/perl/5.20.3/x86_64-cygwin-thread-multi/local/lib/perl5
    /opt/perl5/cygwin_nt-10.0/3.4.5/x86_64/perl/5.20.3/x86_64-cygwin-thread-multi/local/lib/site_perl
    /opt/perl5/cygwin_nt-10.0/3.4.5/x86_64/perl/5.20.3/x86_64-cygwin-thread-multi/local/lib
    /opt/perl5/cygwin_nt-10.0/3.4.5/x86_64/perl/5.20.3/x86_64-cygwin-thread-multi/lib/site_perl/5.20.3/cygwin-thread-multi
    /opt/perl5/cygwin_nt-10.0/3.4.5/x86_64/perl/5.20.3/x86_64-cygwin-thread-multi/lib/site_perl/5.20.3
    /opt/perl5/cygwin_nt-10.0/3.4.5/x86_64/perl/5.20.3/x86_64-cygwin-thread-multi/lib/5.20.3/cygwin-thread-multi
    /opt/perl5/cygwin_nt-10.0/3.4.5/x86_64/perl/5.20.3/x86_64-cygwin-thread-multi/lib/5.20.3
    .